BEGIN:VCALENDAR
VERSION:2.0
PRODID:-//jEvents 2.0 for Joomla//EN
CALSCALE:GREGORIAN
METHOD:PUBLISH
BEGIN:VTIMEZONE
TZID:America/Chicago
BEGIN:STANDARD
DTSTART:20191103T010000
RDATE:20200308T030000
TZOFFSETFROM:-0500
TZOFFSETTO:-0600
TZNAME:America/Chicago CST
END:STANDARD
BEGIN:STANDARD
DTSTART:20201101T010000
RDATE:20210314T030000
TZOFFSETFROM:-0500
TZOFFSETTO:-0600
TZNAME:America/Chicago CST
END:STANDARD
BEGIN:STANDARD
DTSTART:20211107T010000
RDATE:20220313T030000
TZOFFSETFROM:-0500
TZOFFSETTO:-0600
TZNAME:America/Chicago CST
END:STANDARD
BEGIN:STANDARD
DTSTART:20221106T010000
RDATE:20230312T030000
TZOFFSETFROM:-0500
TZOFFSETTO:-0600
TZNAME:America/Chicago CST
END:STANDARD
BEGIN:STANDARD
DTSTART:20231105T010000
RDATE:20240310T030000
TZOFFSETFROM:-0500
TZOFFSETTO:-0600
TZNAME:America/Chicago CST
END:STANDARD
BEGIN:STANDARD
DTSTART:20241103T010000
RDATE:20250309T030000
TZOFFSETFROM:-0500
TZOFFSETTO:-0600
TZNAME:America/Chicago CST
END:STANDARD
BEGIN:STANDARD
DTSTART:20251102T010000
RDATE:20260308T030000
TZOFFSETFROM:-0500
TZOFFSETTO:-0600
TZNAME:America/Chicago CST
END:STANDARD
BEGIN:STANDARD
DTSTART:20261101T010000
RDATE:20270314T030000
TZOFFSETFROM:-0500
TZOFFSETTO:-0600
TZNAME:America/Chicago CST
END:STANDARD
BEGIN:STANDARD
DTSTART:20271107T010000
RDATE:20280312T030000
TZOFFSETFROM:-0500
TZOFFSETTO:-0600
TZNAME:America/Chicago CST
END:STANDARD
BEGIN:STANDARD
DTSTART:20281105T010000
RDATE:20290311T030000
TZOFFSETFROM:-0500
TZOFFSETTO:-0600
TZNAME:America/Chicago CST
END:STANDARD
BEGIN:DAYLIGHT
DTSTART:20190502T100000
RDATE:20191103T010000
TZOFFSETFROM:-0600
TZOFFSETTO:-0500
TZNAME:America/Chicago CDT
END:DAYLIGHT
BEGIN:DAYLIGHT
DTSTART:20200308T030000
RDATE:20201101T010000
TZOFFSETFROM:-0600
TZOFFSETTO:-0500
TZNAME:America/Chicago CDT
END:DAYLIGHT
BEGIN:DAYLIGHT
DTSTART:20210314T030000
RDATE:20211107T010000
TZOFFSETFROM:-0600
TZOFFSETTO:-0500
TZNAME:America/Chicago CDT
END:DAYLIGHT
BEGIN:DAYLIGHT
DTSTART:20220313T030000
RDATE:20221106T010000
TZOFFSETFROM:-0600
TZOFFSETTO:-0500
TZNAME:America/Chicago CDT
END:DAYLIGHT
BEGIN:DAYLIGHT
DTSTART:20230312T030000
RDATE:20231105T010000
TZOFFSETFROM:-0600
TZOFFSETTO:-0500
TZNAME:America/Chicago CDT
END:DAYLIGHT
BEGIN:DAYLIGHT
DTSTART:20240310T030000
RDATE:20241103T010000
TZOFFSETFROM:-0600
TZOFFSETTO:-0500
TZNAME:America/Chicago CDT
END:DAYLIGHT
BEGIN:DAYLIGHT
DTSTART:20250309T030000
RDATE:20251102T010000
TZOFFSETFROM:-0600
TZOFFSETTO:-0500
TZNAME:America/Chicago CDT
END:DAYLIGHT
BEGIN:DAYLIGHT
DTSTART:20260308T030000
RDATE:20261101T010000
TZOFFSETFROM:-0600
TZOFFSETTO:-0500
TZNAME:America/Chicago CDT
END:DAYLIGHT
BEGIN:DAYLIGHT
DTSTART:20270314T030000
RDATE:20271107T010000
TZOFFSETFROM:-0600
TZOFFSETTO:-0500
TZNAME:America/Chicago CDT
END:DAYLIGHT
BEGIN:DAYLIGHT
DTSTART:20280312T030000
RDATE:20281105T010000
TZOFFSETFROM:-0600
TZOFFSETTO:-0500
TZNAME:America/Chicago CDT
END:DAYLIGHT
END:VTIMEZONE
BEGIN:VEVENT
UID:86bba339070e09c00783b898b0009ea8
CATEGORIES:5K
CREATED:20200122T052904
SUMMARY:Postponed Girls on the Run 5K
GEO:-93.27981567;37.19904709
LOCATION:GOTR - MO State University - 850 South Kings Avenue\, Springfield\, MO\, \,
  
URL;VALUE=URI:https://beta.actnowracing.com/events/517/postponed-girls-on-the-run-5k-geo-
 93-27981567-37-19904709?tmpl=component
DESCRIPTION:UPDATE: Due to the coronavirus and it's impact on our community, especially
  our girls and their families, we have cancelled the scheduled 5k on May 2.
  Our primary goal is to keep everyone safe and make decisions that best sup
 port our participants and their families, as well as the rest of our commun
 ity. We are considering a different event later this fall.  As soon as a da
 te is selected, we'll get it posted.\nGOTR Celebratory 5k starts 10:00 AM (
 race day registration 8:30-9:30 am). Pre-race Celebration Activities 8:30-9
 :45 AM.\n This event was imported from: https://beta.actnowracing.com/event
 s/517/postponed-girls-on-the-run-5k-geo-93-27981567-37-19904709?tmpl=compon
 ent
X-ALT-DESC;FMTTYPE=text/html:<p>UPDATE: Due to the coronavirus and it's impact on our community, especia
 lly our girls and their families, we have cancelled the scheduled 5k on May
  2. Our primary goal is to keep everyone safe and make decisions that best 
 support our participants and their families, as well as the rest of our com
 munity. We are considering a different event later this fall.&nbsp; As soon
  as a date is selected, we'll get it posted.</p><p>GOTR Celebratory 5k star
 ts 10:00 AM (race day registration 8:30-9:30 am). Pre-race Celebration Acti
 vities 8:30-9:45 AM.</p> <a href="https://beta.actnowracing.com/events/517/
 postponed-girls-on-the-run-5k-geo-93-27981567-37-19904709?tmpl=component">T
 his event was imported from: https://beta.actnowracing.com/events/517/postp
 oned-girls-on-the-run-5k-geo-93-27981567-37-19904709?tmpl=component</a>DTSTAMP:20260422T142327
DTSTART;TZID=America/Chicago:20200502T100000
SEQUENCE:0
TRANSP:OPAQUE
END:VEVENT
END:VCALENDAR