BEGIN:VCALENDAR
VERSION:2.0
PRODID:-//jEvents 2.0 for Joomla//EN
CALSCALE:GREGORIAN
METHOD:PUBLISH
BEGIN:VTIMEZONE
TZID:America/Chicago
BEGIN:STANDARD
DTSTART:20191107T083000
RDATE:20200308T030000
TZOFFSETFROM:-0500
TZOFFSETTO:-0600
TZNAME:America/Chicago CST
END:STANDARD
BEGIN:STANDARD
DTSTART:20201101T010000
RDATE:20210314T030000
TZOFFSETFROM:-0500
TZOFFSETTO:-0600
TZNAME:America/Chicago CST
END:STANDARD
BEGIN:STANDARD
DTSTART:20211107T010000
RDATE:20220313T030000
TZOFFSETFROM:-0500
TZOFFSETTO:-0600
TZNAME:America/Chicago CST
END:STANDARD
BEGIN:STANDARD
DTSTART:20221106T010000
RDATE:20230312T030000
TZOFFSETFROM:-0500
TZOFFSETTO:-0600
TZNAME:America/Chicago CST
END:STANDARD
BEGIN:STANDARD
DTSTART:20231105T010000
RDATE:20240310T030000
TZOFFSETFROM:-0500
TZOFFSETTO:-0600
TZNAME:America/Chicago CST
END:STANDARD
BEGIN:STANDARD
DTSTART:20241103T010000
RDATE:20250309T030000
TZOFFSETFROM:-0500
TZOFFSETTO:-0600
TZNAME:America/Chicago CST
END:STANDARD
BEGIN:STANDARD
DTSTART:20251102T010000
RDATE:20260308T030000
TZOFFSETFROM:-0500
TZOFFSETTO:-0600
TZNAME:America/Chicago CST
END:STANDARD
BEGIN:STANDARD
DTSTART:20261101T010000
RDATE:20270314T030000
TZOFFSETFROM:-0500
TZOFFSETTO:-0600
TZNAME:America/Chicago CST
END:STANDARD
BEGIN:STANDARD
DTSTART:20271107T010000
RDATE:20280312T030000
TZOFFSETFROM:-0500
TZOFFSETTO:-0600
TZNAME:America/Chicago CST
END:STANDARD
BEGIN:STANDARD
DTSTART:20281105T010000
RDATE:20290311T030000
TZOFFSETFROM:-0500
TZOFFSETTO:-0600
TZNAME:America/Chicago CST
END:STANDARD
BEGIN:DAYLIGHT
DTSTART:20200308T030000
RDATE:20201101T010000
TZOFFSETFROM:-0600
TZOFFSETTO:-0500
TZNAME:America/Chicago CDT
END:DAYLIGHT
BEGIN:DAYLIGHT
DTSTART:20210314T030000
RDATE:20211107T010000
TZOFFSETFROM:-0600
TZOFFSETTO:-0500
TZNAME:America/Chicago CDT
END:DAYLIGHT
BEGIN:DAYLIGHT
DTSTART:20220313T030000
RDATE:20221106T010000
TZOFFSETFROM:-0600
TZOFFSETTO:-0500
TZNAME:America/Chicago CDT
END:DAYLIGHT
BEGIN:DAYLIGHT
DTSTART:20230312T030000
RDATE:20231105T010000
TZOFFSETFROM:-0600
TZOFFSETTO:-0500
TZNAME:America/Chicago CDT
END:DAYLIGHT
BEGIN:DAYLIGHT
DTSTART:20240310T030000
RDATE:20241103T010000
TZOFFSETFROM:-0600
TZOFFSETTO:-0500
TZNAME:America/Chicago CDT
END:DAYLIGHT
BEGIN:DAYLIGHT
DTSTART:20250309T030000
RDATE:20251102T010000
TZOFFSETFROM:-0600
TZOFFSETTO:-0500
TZNAME:America/Chicago CDT
END:DAYLIGHT
BEGIN:DAYLIGHT
DTSTART:20260308T030000
RDATE:20261101T010000
TZOFFSETFROM:-0600
TZOFFSETTO:-0500
TZNAME:America/Chicago CDT
END:DAYLIGHT
BEGIN:DAYLIGHT
DTSTART:20270314T030000
RDATE:20271107T010000
TZOFFSETFROM:-0600
TZOFFSETTO:-0500
TZNAME:America/Chicago CDT
END:DAYLIGHT
BEGIN:DAYLIGHT
DTSTART:20280312T030000
RDATE:20281105T010000
TZOFFSETFROM:-0600
TZOFFSETTO:-0500
TZNAME:America/Chicago CDT
END:DAYLIGHT
END:VTIMEZONE
BEGIN:VEVENT
UID:077f24cf93f3f9645ab545ecc0b1b722
CATEGORIES:5K, 1 Mile
CREATED:20200128T141245
SUMMARY:Heroes 5K & 1 Mile
GEO:-93.43685913;37.3102417
LOCATION:Willard Community Center - 222 W. Jackson Street\, Willard\, MO\, \, 
URL;VALUE=URI:https://beta.actnowracing.com/events/524/heroes-5k-1-mile-geo-93-43685913-3
 7-3102417?tmpl=component
DESCRIPTION:Join us this year for the 2nd Annual Heroes 5K &amp; 1 Mile Fun Run. We wil
 l be holding this in an effort to raise money for the Sunshine Brotherhood 
 Charity. This event will be held on the same day as the Willard Veteran's D
 ay Parade and is the perfect event for families and individuals who are loo
 king to give back to our local heroes.\nIn 2015 the Sunshine Brotherhood wa
 s started by Aaron and Linda Goddard. Aaron was a Rescue Specialist for the
  Springfield, Missouri Fire Department, eleven years into his career he was
  diagnosed with Esophageal Cancer. He lost his battle to cancer after 2 1/2
  years of courageous fighting in June 2015. While battling cancer Linda and
  Aaron created a foundation to help firefighters financially during a crisi
 s. A couple of times during their journey the Fire Department did fundraise
 rs and collected money for the Goddard family to help with medical costs. T
 hey were extremely touched by these financial gifts and decided they wanted
  to give something back. They discussed several times that they didn't know
  what families did if it was not a dual income household. A firefighter's i
 ncome would not sustain a household during a time of crisis. Linda took the
  money that was donated after Aaron's passing into the Sunshine Brotherhood
  - Aaron Goddard Foundation. The purpose of the foundation is to provide fi
 nancial support, education on cancer prevention in the fire service, and to
  sustain an annual scholarship to Willard High School to a graduate pursuin
 g a trade or public service career. To date four $1000 scholarships have be
 en awarded to Willard High School seniors since 2015. Two families have rec
 eived monetary gifts during this time of need.\n This event was imported fr
 om: https://beta.actnowracing.com/events/524/heroes-5k-1-mile-geo-93-436859
 13-37-3102417?tmpl=component
X-ALT-DESC;FMTTYPE=text/html:<p>Join us this year for the 2nd Annual Heroes 5K &amp; 1 Mile Fun Run. We 
 will be holding this in an effort to raise money for the Sunshine Brotherho
 od Charity. This event will be held on the same day as the Willard Veteran'
 s Day Parade and is the perfect event for families and individuals who are 
 looking to give back to our local heroes.</p><p>In 2015 the Sunshine Brothe
 rhood was started by Aaron and Linda Goddard. Aaron was a Rescue Specialist
  for the Springfield, Missouri Fire Department, eleven years into his caree
 r he was diagnosed with Esophageal Cancer. He lost his battle to cancer aft
 er 2 1/2 years of courageous fighting in June 2015. While battling cancer L
 inda and Aaron created a foundation to help firefighters financially during
  a crisis. A couple of times during their journey the Fire Department did f
 undraisers and collected money for the Goddard family to help with medical 
 costs. They were extremely touched by these financial gifts and decided the
 y wanted to give something back. They discussed several times that they did
 n't know what families did if it was not a dual income household. A firefig
 hter's income would not sustain a household during a time of crisis. Linda 
 took the money that was donated after Aaron's passing into the Sunshine Bro
 therhood - Aaron Goddard Foundation. The purpose of the foundation is to pr
 ovide financial support, education on cancer prevention in the fire service
 , and to sustain an annual scholarship to Willard High School to a graduate
  pursuing a trade or public service career. To date four $1000 scholarships
  have been awarded to Willard High School seniors since 2015. Two families 
 have received monetary gifts during this time of need.</p> <a href="https:/
 /beta.actnowracing.com/events/524/heroes-5k-1-mile-geo-93-43685913-37-31024
 17?tmpl=component">This event was imported from: https://beta.actnowracing.
 com/events/524/heroes-5k-1-mile-geo-93-43685913-37-3102417?tmpl=component</
 a>CONTACT:Anthony Perkins at RegularLabs.EmailProtector.unCloak("ep_22fb5d5d");
DTSTAMP:20260423T124829
DTSTART;TZID=America/Chicago:20201107T083000
SEQUENCE:0
TRANSP:OPAQUE
END:VEVENT
END:VCALENDAR