BEGIN:VCALENDAR
VERSION:2.0
PRODID:-//jEvents 2.0 for Joomla//EN
CALSCALE:GREGORIAN
METHOD:PUBLISH
BEGIN:VTIMEZONE
TZID:America/Chicago
BEGIN:STANDARD
DTSTART:20191103T010000
RDATE:20200308T030000
TZOFFSETFROM:-0500
TZOFFSETTO:-0600
TZNAME:America/Chicago CST
END:STANDARD
BEGIN:STANDARD
DTSTART:20201101T010000
RDATE:20210314T030000
TZOFFSETFROM:-0500
TZOFFSETTO:-0600
TZNAME:America/Chicago CST
END:STANDARD
BEGIN:STANDARD
DTSTART:20211107T010000
RDATE:20220313T030000
TZOFFSETFROM:-0500
TZOFFSETTO:-0600
TZNAME:America/Chicago CST
END:STANDARD
BEGIN:STANDARD
DTSTART:20221106T010000
RDATE:20230312T030000
TZOFFSETFROM:-0500
TZOFFSETTO:-0600
TZNAME:America/Chicago CST
END:STANDARD
BEGIN:STANDARD
DTSTART:20231105T010000
RDATE:20240310T030000
TZOFFSETFROM:-0500
TZOFFSETTO:-0600
TZNAME:America/Chicago CST
END:STANDARD
BEGIN:STANDARD
DTSTART:20241103T010000
RDATE:20250309T030000
TZOFFSETFROM:-0500
TZOFFSETTO:-0600
TZNAME:America/Chicago CST
END:STANDARD
BEGIN:STANDARD
DTSTART:20251102T010000
RDATE:20260308T030000
TZOFFSETFROM:-0500
TZOFFSETTO:-0600
TZNAME:America/Chicago CST
END:STANDARD
BEGIN:STANDARD
DTSTART:20261101T010000
RDATE:20270314T030000
TZOFFSETFROM:-0500
TZOFFSETTO:-0600
TZNAME:America/Chicago CST
END:STANDARD
BEGIN:STANDARD
DTSTART:20271107T010000
RDATE:20280312T030000
TZOFFSETFROM:-0500
TZOFFSETTO:-0600
TZNAME:America/Chicago CST
END:STANDARD
BEGIN:STANDARD
DTSTART:20281105T010000
RDATE:20290311T030000
TZOFFSETFROM:-0500
TZOFFSETTO:-0600
TZNAME:America/Chicago CST
END:STANDARD
BEGIN:DAYLIGHT
DTSTART:20190516T083000
RDATE:20191103T010000
TZOFFSETFROM:-0600
TZOFFSETTO:-0500
TZNAME:America/Chicago CDT
END:DAYLIGHT
BEGIN:DAYLIGHT
DTSTART:20200308T030000
RDATE:20201101T010000
TZOFFSETFROM:-0600
TZOFFSETTO:-0500
TZNAME:America/Chicago CDT
END:DAYLIGHT
BEGIN:DAYLIGHT
DTSTART:20210314T030000
RDATE:20211107T010000
TZOFFSETFROM:-0600
TZOFFSETTO:-0500
TZNAME:America/Chicago CDT
END:DAYLIGHT
BEGIN:DAYLIGHT
DTSTART:20220313T030000
RDATE:20221106T010000
TZOFFSETFROM:-0600
TZOFFSETTO:-0500
TZNAME:America/Chicago CDT
END:DAYLIGHT
BEGIN:DAYLIGHT
DTSTART:20230312T030000
RDATE:20231105T010000
TZOFFSETFROM:-0600
TZOFFSETTO:-0500
TZNAME:America/Chicago CDT
END:DAYLIGHT
BEGIN:DAYLIGHT
DTSTART:20240310T030000
RDATE:20241103T010000
TZOFFSETFROM:-0600
TZOFFSETTO:-0500
TZNAME:America/Chicago CDT
END:DAYLIGHT
BEGIN:DAYLIGHT
DTSTART:20250309T030000
RDATE:20251102T010000
TZOFFSETFROM:-0600
TZOFFSETTO:-0500
TZNAME:America/Chicago CDT
END:DAYLIGHT
BEGIN:DAYLIGHT
DTSTART:20260308T030000
RDATE:20261101T010000
TZOFFSETFROM:-0600
TZOFFSETTO:-0500
TZNAME:America/Chicago CDT
END:DAYLIGHT
BEGIN:DAYLIGHT
DTSTART:20270314T030000
RDATE:20271107T010000
TZOFFSETFROM:-0600
TZOFFSETTO:-0500
TZNAME:America/Chicago CDT
END:DAYLIGHT
BEGIN:DAYLIGHT
DTSTART:20280312T030000
RDATE:20281105T010000
TZOFFSETFROM:-0600
TZOFFSETTO:-0500
TZNAME:America/Chicago CDT
END:DAYLIGHT
END:VTIMEZONE
BEGIN:VEVENT
UID:614291ee117c461c2b3cba2588f85c1f
CATEGORIES:5K, 1 Mile
CREATED:20200214T105641
SUMMARY:CANCELLED 6th Annual Run for the Son
GEO:-93.25287628;37.13980103
LOCATION:Farmers Park - East Republic and South Glenstone\, \, \, \, 
URL;VALUE=URI:https://beta.actnowracing.com/events/525/cancelled-6th-annual-run-for-the-s
 on-geo-93-25287628-37-13980103?tmpl=component
DESCRIPTION:RACE HAS BEEN CANCELLED DUE TO COVID-19.\nCampbell United Methodist Church 
 is hosting the 6th annual Run for the Son.  This is a collaboration between
  Campbell UMC, Schweitzer UMC, and Kingsway UMC to benefit our Children’s M
 inistries.\nAfter the race a large multi-church Easter egg hunt will take p
 lace behind the Farmers Park at 10a.m. Children 5th grade and younger are i
 nvited to attend.\n \n This event was imported from: https://beta.actnowrac
 ing.com/events/525/cancelled-6th-annual-run-for-the-son-geo-93-25287628-37-
 13980103?tmpl=component
X-ALT-DESC;FMTTYPE=text/html:<p>RACE HAS BEEN CANCELLED DUE TO COVID-19.</p><p>Campbell United Methodist
  Church is hosting the 6th annual Run for the Son.&nbsp;&nbsp;This is a col
 laboration between Campbell UMC, Schweitzer UMC, and Kingsway UMC to benefi
 t our Children’s Ministries.</p><p>After the race a large multi-church East
 er egg hunt will take place behind the Farmers Park at 10a.m. Children 5th 
 grade and younger are invited to attend.</p><p>&nbsp;</p> <a href="https://
 beta.actnowracing.com/events/525/cancelled-6th-annual-run-for-the-son-geo-9
 3-25287628-37-13980103?tmpl=component">This event was imported from: https:
 //beta.actnowracing.com/events/525/cancelled-6th-annual-run-for-the-son-geo
 -93-25287628-37-13980103?tmpl=component</a>CONTACT:Shirley Kerns at RegularLabs.EmailProtector.unCloak("ep_3bbdb326");
DTSTAMP:20260424T100111
DTSTART;TZID=America/Chicago:20200516T083000
SEQUENCE:0
TRANSP:OPAQUE
END:VEVENT
END:VCALENDAR