BEGIN:VCALENDAR
VERSION:2.0
PRODID:-//jEvents 2.0 for Joomla//EN
CALSCALE:GREGORIAN
METHOD:PUBLISH
BEGIN:VTIMEZONE
TZID:America/Chicago
BEGIN:STANDARD
DTSTART:20191103T010000
RDATE:20200308T030000
TZOFFSETFROM:-0500
TZOFFSETTO:-0600
TZNAME:America/Chicago CST
END:STANDARD
BEGIN:STANDARD
DTSTART:20201101T010000
RDATE:20210314T030000
TZOFFSETFROM:-0500
TZOFFSETTO:-0600
TZNAME:America/Chicago CST
END:STANDARD
BEGIN:STANDARD
DTSTART:20211107T010000
RDATE:20220313T030000
TZOFFSETFROM:-0500
TZOFFSETTO:-0600
TZNAME:America/Chicago CST
END:STANDARD
BEGIN:STANDARD
DTSTART:20221106T010000
RDATE:20230312T030000
TZOFFSETFROM:-0500
TZOFFSETTO:-0600
TZNAME:America/Chicago CST
END:STANDARD
BEGIN:STANDARD
DTSTART:20231105T010000
RDATE:20240310T030000
TZOFFSETFROM:-0500
TZOFFSETTO:-0600
TZNAME:America/Chicago CST
END:STANDARD
BEGIN:STANDARD
DTSTART:20241103T010000
RDATE:20250309T030000
TZOFFSETFROM:-0500
TZOFFSETTO:-0600
TZNAME:America/Chicago CST
END:STANDARD
BEGIN:STANDARD
DTSTART:20251102T010000
RDATE:20260308T030000
TZOFFSETFROM:-0500
TZOFFSETTO:-0600
TZNAME:America/Chicago CST
END:STANDARD
BEGIN:STANDARD
DTSTART:20261101T010000
RDATE:20270314T030000
TZOFFSETFROM:-0500
TZOFFSETTO:-0600
TZNAME:America/Chicago CST
END:STANDARD
BEGIN:STANDARD
DTSTART:20271107T010000
RDATE:20280312T030000
TZOFFSETFROM:-0500
TZOFFSETTO:-0600
TZNAME:America/Chicago CST
END:STANDARD
BEGIN:STANDARD
DTSTART:20281105T010000
RDATE:20290311T030000
TZOFFSETFROM:-0500
TZOFFSETTO:-0600
TZNAME:America/Chicago CST
END:STANDARD
BEGIN:DAYLIGHT
DTSTART:20190502T080000
RDATE:20191103T010000
TZOFFSETFROM:-0600
TZOFFSETTO:-0500
TZNAME:America/Chicago CDT
END:DAYLIGHT
BEGIN:DAYLIGHT
DTSTART:20200308T030000
RDATE:20201101T010000
TZOFFSETFROM:-0600
TZOFFSETTO:-0500
TZNAME:America/Chicago CDT
END:DAYLIGHT
BEGIN:DAYLIGHT
DTSTART:20210314T030000
RDATE:20211107T010000
TZOFFSETFROM:-0600
TZOFFSETTO:-0500
TZNAME:America/Chicago CDT
END:DAYLIGHT
BEGIN:DAYLIGHT
DTSTART:20220313T030000
RDATE:20221106T010000
TZOFFSETFROM:-0600
TZOFFSETTO:-0500
TZNAME:America/Chicago CDT
END:DAYLIGHT
BEGIN:DAYLIGHT
DTSTART:20230312T030000
RDATE:20231105T010000
TZOFFSETFROM:-0600
TZOFFSETTO:-0500
TZNAME:America/Chicago CDT
END:DAYLIGHT
BEGIN:DAYLIGHT
DTSTART:20240310T030000
RDATE:20241103T010000
TZOFFSETFROM:-0600
TZOFFSETTO:-0500
TZNAME:America/Chicago CDT
END:DAYLIGHT
BEGIN:DAYLIGHT
DTSTART:20250309T030000
RDATE:20251102T010000
TZOFFSETFROM:-0600
TZOFFSETTO:-0500
TZNAME:America/Chicago CDT
END:DAYLIGHT
BEGIN:DAYLIGHT
DTSTART:20260308T030000
RDATE:20261101T010000
TZOFFSETFROM:-0600
TZOFFSETTO:-0500
TZNAME:America/Chicago CDT
END:DAYLIGHT
BEGIN:DAYLIGHT
DTSTART:20270314T030000
RDATE:20271107T010000
TZOFFSETFROM:-0600
TZOFFSETTO:-0500
TZNAME:America/Chicago CDT
END:DAYLIGHT
BEGIN:DAYLIGHT
DTSTART:20280312T030000
RDATE:20281105T010000
TZOFFSETFROM:-0600
TZOFFSETTO:-0500
TZNAME:America/Chicago CDT
END:DAYLIGHT
END:VTIMEZONE
BEGIN:VEVENT
UID:6a5c1b5ccddd9671797723b1e7edb6dd
CATEGORIES:5K
CREATED:20200226T101717
SUMMARY:CANCELLED - 13th Annual Lake Regional 5K
GEO:-92.68334961;38.1208992
LOCATION:Lake Regional Hospital Lot A - 54 Hospital Drive\, Osage Beach\, MO\, 65065
 \, 
URL;VALUE=URI:https://beta.actnowracing.com/events/527/cancelled-13th-annual-lake-regiona
 l-5k-geo-92-68334961-38-1208992?tmpl=component
DESCRIPTION:Due to COVID-19, this event has been cancelled.\nJoin us! A $5 all-you-can-
 eat pancake breakfast will be served at the event. Children 5 and under eat
  free, and breakfast is free to all paid run/walk participants. Event inclu
 des a kids’fun zone and booths with games and prizes.\nEvent benefits Lake 
 Regional Cardiac Rehab.\n This event was imported from: https://beta.actnow
 racing.com/events/527/cancelled-13th-annual-lake-regional-5k-geo-92-6833496
 1-38-1208992?tmpl=component
X-ALT-DESC;FMTTYPE=text/html:<p>Due to COVID-19, this event has been cancelled.</p><p>Join us! A $5 all-
 you-can-eat pancake breakfast will be served at the event. Children 5 and u
 nder eat free, and breakfast is free to all paid run/walk participants. Eve
 nt includes a kids’fun zone and booths with games and prizes.</p><p>Event b
 enefits&nbsp;Lake Regional Cardiac Rehab.</p> <a href="https://beta.actnowr
 acing.com/events/527/cancelled-13th-annual-lake-regional-5k-geo-92-68334961
 -38-1208992?tmpl=component">This event was imported from: https://beta.actn
 owracing.com/events/527/cancelled-13th-annual-lake-regional-5k-geo-92-68334
 961-38-1208992?tmpl=component</a>CONTACT:Jody Corpe at RegularLabs.EmailProtector.unCloak("ep_850de6dc");
DTSTAMP:20260422T142615
DTSTART;TZID=America/Chicago:20200502T080000
SEQUENCE:0
TRANSP:OPAQUE
END:VEVENT
END:VCALENDAR