BEGIN:VCALENDAR
VERSION:2.0
PRODID:-//jEvents 2.0 for Joomla//EN
CALSCALE:GREGORIAN
METHOD:PUBLISH
BEGIN:VTIMEZONE
TZID:America/Chicago
BEGIN:STANDARD
DTSTART:20191103T010000
RDATE:20200308T030000
TZOFFSETFROM:-0500
TZOFFSETTO:-0600
TZNAME:America/Chicago CST
END:STANDARD
BEGIN:STANDARD
DTSTART:20201101T010000
RDATE:20210314T030000
TZOFFSETFROM:-0500
TZOFFSETTO:-0600
TZNAME:America/Chicago CST
END:STANDARD
BEGIN:STANDARD
DTSTART:20211107T010000
RDATE:20220313T030000
TZOFFSETFROM:-0500
TZOFFSETTO:-0600
TZNAME:America/Chicago CST
END:STANDARD
BEGIN:STANDARD
DTSTART:20221106T010000
RDATE:20230312T030000
TZOFFSETFROM:-0500
TZOFFSETTO:-0600
TZNAME:America/Chicago CST
END:STANDARD
BEGIN:STANDARD
DTSTART:20231105T010000
RDATE:20240310T030000
TZOFFSETFROM:-0500
TZOFFSETTO:-0600
TZNAME:America/Chicago CST
END:STANDARD
BEGIN:STANDARD
DTSTART:20241103T010000
RDATE:20250309T030000
TZOFFSETFROM:-0500
TZOFFSETTO:-0600
TZNAME:America/Chicago CST
END:STANDARD
BEGIN:STANDARD
DTSTART:20251102T010000
RDATE:20260308T030000
TZOFFSETFROM:-0500
TZOFFSETTO:-0600
TZNAME:America/Chicago CST
END:STANDARD
BEGIN:STANDARD
DTSTART:20261101T010000
RDATE:20270314T030000
TZOFFSETFROM:-0500
TZOFFSETTO:-0600
TZNAME:America/Chicago CST
END:STANDARD
BEGIN:STANDARD
DTSTART:20271107T010000
RDATE:20280312T030000
TZOFFSETFROM:-0500
TZOFFSETTO:-0600
TZNAME:America/Chicago CST
END:STANDARD
BEGIN:STANDARD
DTSTART:20281105T010000
RDATE:20290311T030000
TZOFFSETFROM:-0500
TZOFFSETTO:-0600
TZNAME:America/Chicago CST
END:STANDARD
BEGIN:DAYLIGHT
DTSTART:20190718T080000
RDATE:20191103T010000
TZOFFSETFROM:-0600
TZOFFSETTO:-0500
TZNAME:America/Chicago CDT
END:DAYLIGHT
BEGIN:DAYLIGHT
DTSTART:20200308T030000
RDATE:20201101T010000
TZOFFSETFROM:-0600
TZOFFSETTO:-0500
TZNAME:America/Chicago CDT
END:DAYLIGHT
BEGIN:DAYLIGHT
DTSTART:20210314T030000
RDATE:20211107T010000
TZOFFSETFROM:-0600
TZOFFSETTO:-0500
TZNAME:America/Chicago CDT
END:DAYLIGHT
BEGIN:DAYLIGHT
DTSTART:20220313T030000
RDATE:20221106T010000
TZOFFSETFROM:-0600
TZOFFSETTO:-0500
TZNAME:America/Chicago CDT
END:DAYLIGHT
BEGIN:DAYLIGHT
DTSTART:20230312T030000
RDATE:20231105T010000
TZOFFSETFROM:-0600
TZOFFSETTO:-0500
TZNAME:America/Chicago CDT
END:DAYLIGHT
BEGIN:DAYLIGHT
DTSTART:20240310T030000
RDATE:20241103T010000
TZOFFSETFROM:-0600
TZOFFSETTO:-0500
TZNAME:America/Chicago CDT
END:DAYLIGHT
BEGIN:DAYLIGHT
DTSTART:20250309T030000
RDATE:20251102T010000
TZOFFSETFROM:-0600
TZOFFSETTO:-0500
TZNAME:America/Chicago CDT
END:DAYLIGHT
BEGIN:DAYLIGHT
DTSTART:20260308T030000
RDATE:20261101T010000
TZOFFSETFROM:-0600
TZOFFSETTO:-0500
TZNAME:America/Chicago CDT
END:DAYLIGHT
BEGIN:DAYLIGHT
DTSTART:20270314T030000
RDATE:20271107T010000
TZOFFSETFROM:-0600
TZOFFSETTO:-0500
TZNAME:America/Chicago CDT
END:DAYLIGHT
BEGIN:DAYLIGHT
DTSTART:20280312T030000
RDATE:20281105T010000
TZOFFSETFROM:-0600
TZOFFSETTO:-0500
TZNAME:America/Chicago CDT
END:DAYLIGHT
END:VTIMEZONE
BEGIN:VEVENT
UID:b869da38edc35c2348d8d1f4d31b5cc1
CATEGORIES:5K
CREATED:20200310T143535
SUMMARY:CANCELLED Run for Hope Family 5K
GEO:-93.21303558;36.64141846
LOCATION:Branson Landing - 100 Branson Landing\, Branson\, MO\, \, 
URL;VALUE=URI:https://beta.actnowracing.com/events/530/cancelled-run-for-hope-family-5k-g
 eo-93-21303558-36-64141846?tmpl=component
DESCRIPTION:<p>Due to Covid-19 this event has been cancelled.&nbsp; Please CLICK HERE t
 o get registered for our virtual event the&nbsp;<strong><a href="https://ac
 tnowracing.com/events/544/ozarks-teen-challenge-socially-distanced-5k">Ozar
 ks Teen Challenge Socially Distanced 5K</a></strong></p><p style="text-alig
 n: center;"><strong>We invite you to join the students and families of Ozar
 ks Teen Challenge in the fight against teen addiction as we Run for Hope!&n
 bsp;&nbsp;</strong></p><p>Ozarks Teen Challenge is a local non-profit, Chri
 stian rehabilitation center for teenage boys ages 11-17 who are struggling 
 with addiction or other life controlling issues. Every aspect of our 15-mon
 th program: the daily routine, individualized academic &amp; discipleship t
 racts, recreation therapy, leadership training, &amp; life skills projects 
 are developed with intentionality, focusing upon each student's personal gr
 owth and development. We are passionate about life transformation and resto
 ring family relationships! To learn more about us go to: www.ozarksteenchal
 lenge.com.</p> <a href="https://beta.actnowracing.com/events/530/cancelled-
 run-for-hope-family-5k-geo-93-21303558-36-64141846?tmpl=component">This eve
 nt was imported from: https://beta.actnowracing.com/events/530/cancelled-ru
 n-for-hope-family-5k-geo-93-21303558-36-64141846?tmpl=component</a>CONTACT:Cindi Gaunt at RegularLabs.EmailProtector.unCloak("ep_a72b9567");
DTSTAMP:20260424T162926
DTSTART;TZID=America/Chicago:20200718T080000
SEQUENCE:0
TRANSP:OPAQUE
END:VEVENT
END:VCALENDAR