BEGIN:VCALENDAR
VERSION:2.0
PRODID:-//jEvents 2.0 for Joomla//EN
CALSCALE:GREGORIAN
METHOD:PUBLISH
BEGIN:VTIMEZONE
TZID:America/Chicago
BEGIN:STANDARD
DTSTART:20191103T010000
RDATE:20200308T030000
TZOFFSETFROM:-0500
TZOFFSETTO:-0600
TZNAME:America/Chicago CST
END:STANDARD
BEGIN:STANDARD
DTSTART:20201101T010000
RDATE:20210314T030000
TZOFFSETFROM:-0500
TZOFFSETTO:-0600
TZNAME:America/Chicago CST
END:STANDARD
BEGIN:STANDARD
DTSTART:20211107T010000
RDATE:20220313T030000
TZOFFSETFROM:-0500
TZOFFSETTO:-0600
TZNAME:America/Chicago CST
END:STANDARD
BEGIN:STANDARD
DTSTART:20221106T010000
RDATE:20230312T030000
TZOFFSETFROM:-0500
TZOFFSETTO:-0600
TZNAME:America/Chicago CST
END:STANDARD
BEGIN:STANDARD
DTSTART:20231105T010000
RDATE:20240310T030000
TZOFFSETFROM:-0500
TZOFFSETTO:-0600
TZNAME:America/Chicago CST
END:STANDARD
BEGIN:STANDARD
DTSTART:20241103T010000
RDATE:20250309T030000
TZOFFSETFROM:-0500
TZOFFSETTO:-0600
TZNAME:America/Chicago CST
END:STANDARD
BEGIN:STANDARD
DTSTART:20251102T010000
RDATE:20260308T030000
TZOFFSETFROM:-0500
TZOFFSETTO:-0600
TZNAME:America/Chicago CST
END:STANDARD
BEGIN:STANDARD
DTSTART:20261101T010000
RDATE:20270314T030000
TZOFFSETFROM:-0500
TZOFFSETTO:-0600
TZNAME:America/Chicago CST
END:STANDARD
BEGIN:STANDARD
DTSTART:20271107T010000
RDATE:20280312T030000
TZOFFSETFROM:-0500
TZOFFSETTO:-0600
TZNAME:America/Chicago CST
END:STANDARD
BEGIN:STANDARD
DTSTART:20281105T010000
RDATE:20290311T030000
TZOFFSETFROM:-0500
TZOFFSETTO:-0600
TZNAME:America/Chicago CST
END:STANDARD
BEGIN:DAYLIGHT
DTSTART:20190503T000100
RDATE:20191103T010000
TZOFFSETFROM:-0600
TZOFFSETTO:-0500
TZNAME:America/Chicago CDT
END:DAYLIGHT
BEGIN:DAYLIGHT
DTSTART:20200308T030000
RDATE:20201101T010000
TZOFFSETFROM:-0600
TZOFFSETTO:-0500
TZNAME:America/Chicago CDT
END:DAYLIGHT
BEGIN:DAYLIGHT
DTSTART:20210314T030000
RDATE:20211107T010000
TZOFFSETFROM:-0600
TZOFFSETTO:-0500
TZNAME:America/Chicago CDT
END:DAYLIGHT
BEGIN:DAYLIGHT
DTSTART:20220313T030000
RDATE:20221106T010000
TZOFFSETFROM:-0600
TZOFFSETTO:-0500
TZNAME:America/Chicago CDT
END:DAYLIGHT
BEGIN:DAYLIGHT
DTSTART:20230312T030000
RDATE:20231105T010000
TZOFFSETFROM:-0600
TZOFFSETTO:-0500
TZNAME:America/Chicago CDT
END:DAYLIGHT
BEGIN:DAYLIGHT
DTSTART:20240310T030000
RDATE:20241103T010000
TZOFFSETFROM:-0600
TZOFFSETTO:-0500
TZNAME:America/Chicago CDT
END:DAYLIGHT
BEGIN:DAYLIGHT
DTSTART:20250309T030000
RDATE:20251102T010000
TZOFFSETFROM:-0600
TZOFFSETTO:-0500
TZNAME:America/Chicago CDT
END:DAYLIGHT
BEGIN:DAYLIGHT
DTSTART:20260308T030000
RDATE:20261101T010000
TZOFFSETFROM:-0600
TZOFFSETTO:-0500
TZNAME:America/Chicago CDT
END:DAYLIGHT
BEGIN:DAYLIGHT
DTSTART:20270314T030000
RDATE:20271107T010000
TZOFFSETFROM:-0600
TZOFFSETTO:-0500
TZNAME:America/Chicago CDT
END:DAYLIGHT
BEGIN:DAYLIGHT
DTSTART:20280312T030000
RDATE:20281105T010000
TZOFFSETFROM:-0600
TZOFFSETTO:-0500
TZNAME:America/Chicago CDT
END:DAYLIGHT
END:VTIMEZONE
BEGIN:VEVENT
UID:04c179744cdfc882b248ccb43e9ece3e
CATEGORIES:5K, 10K, 1 Mile, Half Marathon, Marathon
CREATED:20200417T065919
SUMMARY:Stayin' Alive Virtual
GEO:93.29875183;37.04525375
LOCATION:US Wide - \, \, \, \, 
URL;VALUE=URI:https://beta.actnowracing.com/events/543/stayin-alive-virtual-geo-93-298751
 83-37-04525375?tmpl=component
DESCRIPTION:Now is the time for us to come together...  by staying apart.\nAnnouncing t
 he Stayin' Alive virtual by ActNow Promotions. The event includes 1 mile, 5
 K, 10K, Half Marathon &amp; Marathon virtual race options that you can run 
 on your own - outdoors or on a treadmill.\nCLICK HERE TO GET REGISTERED (ht
 tps://stayinalivevirtual.itsyourrace.com/register/)\nCLICK HERE TO ENTER YO
 UR RESULTS (https://stayinalivevirtual.itsyourrace.com/Results.aspx?id=1352
 6&amp;y=2020&amp;eid=97234&amp;g=A&amp;amin=0&amp;amax=99)\n This event was
  imported from: https://beta.actnowracing.com/events/543/stayin-alive-virtu
 al-geo-93-29875183-37-04525375?tmpl=component
X-ALT-DESC;FMTTYPE=text/html:<p style="text-align: center;"><strong>Now is the time</strong> for us to c
 ome together...&nbsp; by staying apart.</p><p>Announcing the Stayin' Alive 
 virtual by ActNow Promotions. The event includes 1 mile, 5K, 10K, Half Mara
 thon &amp; Marathon virtual race options that you can run on your own - out
 doors or on a treadmill.</p><p style="text-align: center;"><a href="https:/
 /stayinalivevirtual.itsyourrace.com/register/">CLICK HERE TO GET REGISTERED
 </a></p><p style="text-align: center;"><a href="https://stayinalivevirtual.
 itsyourrace.com/Results.aspx?id=13526&amp;y=2020&amp;eid=97234&amp;g=A&amp;
 amin=0&amp;amax=99">CLICK HERE TO ENTER YOUR RESULTS</a></p> <a href="https
 ://beta.actnowracing.com/events/543/stayin-alive-virtual-geo-93-29875183-37
 -04525375?tmpl=component">This event was imported from: https://beta.actnow
 racing.com/events/543/stayin-alive-virtual-geo-93-29875183-37-04525375?tmpl
 =component</a>CONTACT:RegularLabs.EmailProtector.unCloak("ep_b6e97a85");
DTSTAMP:20260422T142328
DTSTART;TZID=America/Chicago:20200503T000100
DTEND;TZID=America/Chicago:20200510T235900
SEQUENCE:0
TRANSP:OPAQUE
END:VEVENT
END:VCALENDAR