BEGIN:VCALENDAR
VERSION:2.0
PRODID:-//jEvents 2.0 for Joomla//EN
CALSCALE:GREGORIAN
METHOD:PUBLISH
BEGIN:VTIMEZONE
TZID:America/Chicago
BEGIN:STANDARD
DTSTART:20191103T010000
RDATE:20200308T030000
TZOFFSETFROM:-0500
TZOFFSETTO:-0600
TZNAME:America/Chicago CST
END:STANDARD
BEGIN:STANDARD
DTSTART:20201101T010000
RDATE:20210314T030000
TZOFFSETFROM:-0500
TZOFFSETTO:-0600
TZNAME:America/Chicago CST
END:STANDARD
BEGIN:STANDARD
DTSTART:20211107T010000
RDATE:20220313T030000
TZOFFSETFROM:-0500
TZOFFSETTO:-0600
TZNAME:America/Chicago CST
END:STANDARD
BEGIN:STANDARD
DTSTART:20221106T010000
RDATE:20230312T030000
TZOFFSETFROM:-0500
TZOFFSETTO:-0600
TZNAME:America/Chicago CST
END:STANDARD
BEGIN:STANDARD
DTSTART:20231105T010000
RDATE:20240310T030000
TZOFFSETFROM:-0500
TZOFFSETTO:-0600
TZNAME:America/Chicago CST
END:STANDARD
BEGIN:STANDARD
DTSTART:20241103T010000
RDATE:20250309T030000
TZOFFSETFROM:-0500
TZOFFSETTO:-0600
TZNAME:America/Chicago CST
END:STANDARD
BEGIN:STANDARD
DTSTART:20251102T010000
RDATE:20260308T030000
TZOFFSETFROM:-0500
TZOFFSETTO:-0600
TZNAME:America/Chicago CST
END:STANDARD
BEGIN:STANDARD
DTSTART:20261101T010000
RDATE:20270314T030000
TZOFFSETFROM:-0500
TZOFFSETTO:-0600
TZNAME:America/Chicago CST
END:STANDARD
BEGIN:STANDARD
DTSTART:20271107T010000
RDATE:20280312T030000
TZOFFSETFROM:-0500
TZOFFSETTO:-0600
TZNAME:America/Chicago CST
END:STANDARD
BEGIN:STANDARD
DTSTART:20281105T010000
RDATE:20290311T030000
TZOFFSETFROM:-0500
TZOFFSETTO:-0600
TZNAME:America/Chicago CST
END:STANDARD
BEGIN:DAYLIGHT
DTSTART:20191001T000100
RDATE:20191103T010000
TZOFFSETFROM:-0600
TZOFFSETTO:-0500
TZNAME:America/Chicago CDT
END:DAYLIGHT
BEGIN:DAYLIGHT
DTSTART:20200308T030000
RDATE:20201101T010000
TZOFFSETFROM:-0600
TZOFFSETTO:-0500
TZNAME:America/Chicago CDT
END:DAYLIGHT
BEGIN:DAYLIGHT
DTSTART:20210314T030000
RDATE:20211107T010000
TZOFFSETFROM:-0600
TZOFFSETTO:-0500
TZNAME:America/Chicago CDT
END:DAYLIGHT
BEGIN:DAYLIGHT
DTSTART:20220313T030000
RDATE:20221106T010000
TZOFFSETFROM:-0600
TZOFFSETTO:-0500
TZNAME:America/Chicago CDT
END:DAYLIGHT
BEGIN:DAYLIGHT
DTSTART:20230312T030000
RDATE:20231105T010000
TZOFFSETFROM:-0600
TZOFFSETTO:-0500
TZNAME:America/Chicago CDT
END:DAYLIGHT
BEGIN:DAYLIGHT
DTSTART:20240310T030000
RDATE:20241103T010000
TZOFFSETFROM:-0600
TZOFFSETTO:-0500
TZNAME:America/Chicago CDT
END:DAYLIGHT
BEGIN:DAYLIGHT
DTSTART:20250309T030000
RDATE:20251102T010000
TZOFFSETFROM:-0600
TZOFFSETTO:-0500
TZNAME:America/Chicago CDT
END:DAYLIGHT
BEGIN:DAYLIGHT
DTSTART:20260308T030000
RDATE:20261101T010000
TZOFFSETFROM:-0600
TZOFFSETTO:-0500
TZNAME:America/Chicago CDT
END:DAYLIGHT
BEGIN:DAYLIGHT
DTSTART:20270314T030000
RDATE:20271107T010000
TZOFFSETFROM:-0600
TZOFFSETTO:-0500
TZNAME:America/Chicago CDT
END:DAYLIGHT
BEGIN:DAYLIGHT
DTSTART:20280312T030000
RDATE:20281105T010000
TZOFFSETFROM:-0600
TZOFFSETTO:-0500
TZNAME:America/Chicago CDT
END:DAYLIGHT
END:VTIMEZONE
BEGIN:VEVENT
UID:2a41c6c2fd6f57112093ac7852d950fa
CATEGORIES:5K, 10K
CREATED:20200603T095238
SUMMARY:Virtual Halloween Hustle
GEO:-93.29061127;37.21806335
LOCATION:City Utilities - 301 E. Central\, Springfield\, MO\, \, 
URL;VALUE=URI:https://beta.actnowracing.com/events/551/virtual-halloween-hustle-geo-93-29
 061127-37-21806335?tmpl=component
DESCRIPTION:This year, Bigfoot is taking social distancing to the extreme. The Hallowee
 n Hustle is going VIRTUAL! Participants can run anytime in October. In cost
 ume or not. On highways, dirt paths, or in their own backyard. No matter wh
 ere you run (or walk, skip, or jump). No matter how you’re dressed—you’ll b
 e hustling to help us raise funds for Harmony House. All participants will 
 get an official Bigfoot social distancing shirt and will be entered into we
 ekly prize drawings, with some surprises from the elusive Bigfoot himself!\
 nThe Halloween Hustle benefits Harmony House—Springfield’s only domestic ab
 use shelter. The Harmony House provides shelter, advocacy, and education to
  survivors of domestic abuse. Every penny raised form the Halloween Hustle 
 will support the Harmony House and the work they do every day. When you tak
 e part in the Halloween Hustle, you are helping the Harmony House provide a
  safe, warm place for a survivor of domestic abuse and their child. When yo
 u get involved, you are giving a survivor a chance to escape abuse and givi
 ng them access to resources such as food, clothing, court advocacy, life sk
 ills classes and more. When you take part in the Halloween Hustle, your don
 ation stays local and you are helping the Harmony House continue to provide
  much-needed services in our community all while making a huge difference!\
 n This event was imported from: https://beta.actnowracing.com/events/551/vi
 rtual-halloween-hustle-geo-93-29061127-37-21806335?tmpl=component
X-ALT-DESC;FMTTYPE=text/html:<p>This year, Bigfoot is taking social distancing to the extreme. The Hallo
 ween Hustle is going VIRTUAL! Participants can run anytime in October. In c
 ostume or not. On highways, dirt paths, or in their own backyard. No matter
  where you run (or walk, skip, or jump). No matter how you’re dressed—you’l
 l be hustling to help us raise funds for Harmony House. All participants wi
 ll get an official Bigfoot social distancing shirt and will be entered into
  weekly prize drawings, with some surprises from the elusive Bigfoot himsel
 f!</p><p>The Halloween Hustle benefits Harmony House—Springfield’s only dom
 estic abuse shelter. The Harmony House provides shelter, advocacy, and educ
 ation to survivors of domestic abuse. Every penny raised form the Halloween
  Hustle will support the Harmony House and the work they do every day. When
  you take part in the Halloween Hustle, you are helping the Harmony House p
 rovide a safe, warm place for a survivor of domestic abuse and their child.
  When you get involved, you are giving a survivor a chance to escape abuse 
 and giving them access to resources such as food, clothing, court advocacy,
  life skills classes and more. When you take part in the Halloween Hustle, 
 your donation stays local and you are helping the Harmony House continue to
  provide much-needed services in our community all while making a huge diff
 erence!</p> <a href="https://beta.actnowracing.com/events/551/virtual-hallo
 ween-hustle-geo-93-29061127-37-21806335?tmpl=component">This event was impo
 rted from: https://beta.actnowracing.com/events/551/virtual-halloween-hustl
 e-geo-93-29061127-37-21806335?tmpl=component</a>CONTACT:Jamie Dopp at RegularLabs.EmailProtector.unCloak("ep_a6b772e2");
DTSTAMP:20260425T003511
DTSTART;TZID=America/Chicago:20201001T000100
DTEND;TZID=America/Chicago;VALUE=DATE:20201101
SEQUENCE:0
TRANSP:OPAQUE
END:VEVENT
END:VCALENDAR