BEGIN:VCALENDAR
VERSION:2.0
PRODID:-//jEvents 2.0 for Joomla//EN
CALSCALE:GREGORIAN
METHOD:PUBLISH
BEGIN:VTIMEZONE
TZID:America/Chicago
BEGIN:STANDARD
DTSTART:20191103T010000
RDATE:20200308T030000
TZOFFSETFROM:-0500
TZOFFSETTO:-0600
TZNAME:America/Chicago CST
END:STANDARD
BEGIN:STANDARD
DTSTART:20201101T010000
RDATE:20210314T030000
TZOFFSETFROM:-0500
TZOFFSETTO:-0600
TZNAME:America/Chicago CST
END:STANDARD
BEGIN:STANDARD
DTSTART:20211107T010000
RDATE:20220313T030000
TZOFFSETFROM:-0500
TZOFFSETTO:-0600
TZNAME:America/Chicago CST
END:STANDARD
BEGIN:STANDARD
DTSTART:20221106T010000
RDATE:20230312T030000
TZOFFSETFROM:-0500
TZOFFSETTO:-0600
TZNAME:America/Chicago CST
END:STANDARD
BEGIN:STANDARD
DTSTART:20231105T010000
RDATE:20240310T030000
TZOFFSETFROM:-0500
TZOFFSETTO:-0600
TZNAME:America/Chicago CST
END:STANDARD
BEGIN:STANDARD
DTSTART:20241103T010000
RDATE:20250309T030000
TZOFFSETFROM:-0500
TZOFFSETTO:-0600
TZNAME:America/Chicago CST
END:STANDARD
BEGIN:STANDARD
DTSTART:20251102T010000
RDATE:20260308T030000
TZOFFSETFROM:-0500
TZOFFSETTO:-0600
TZNAME:America/Chicago CST
END:STANDARD
BEGIN:STANDARD
DTSTART:20261101T010000
RDATE:20270314T030000
TZOFFSETFROM:-0500
TZOFFSETTO:-0600
TZNAME:America/Chicago CST
END:STANDARD
BEGIN:STANDARD
DTSTART:20271107T010000
RDATE:20280312T030000
TZOFFSETFROM:-0500
TZOFFSETTO:-0600
TZNAME:America/Chicago CST
END:STANDARD
BEGIN:STANDARD
DTSTART:20281105T010000
RDATE:20290311T030000
TZOFFSETFROM:-0500
TZOFFSETTO:-0600
TZNAME:America/Chicago CST
END:STANDARD
BEGIN:DAYLIGHT
DTSTART:20191024T080000
RDATE:20191103T010000
TZOFFSETFROM:-0600
TZOFFSETTO:-0500
TZNAME:America/Chicago CDT
END:DAYLIGHT
BEGIN:DAYLIGHT
DTSTART:20200308T030000
RDATE:20201101T010000
TZOFFSETFROM:-0600
TZOFFSETTO:-0500
TZNAME:America/Chicago CDT
END:DAYLIGHT
BEGIN:DAYLIGHT
DTSTART:20210314T030000
RDATE:20211107T010000
TZOFFSETFROM:-0600
TZOFFSETTO:-0500
TZNAME:America/Chicago CDT
END:DAYLIGHT
BEGIN:DAYLIGHT
DTSTART:20220313T030000
RDATE:20221106T010000
TZOFFSETFROM:-0600
TZOFFSETTO:-0500
TZNAME:America/Chicago CDT
END:DAYLIGHT
BEGIN:DAYLIGHT
DTSTART:20230312T030000
RDATE:20231105T010000
TZOFFSETFROM:-0600
TZOFFSETTO:-0500
TZNAME:America/Chicago CDT
END:DAYLIGHT
BEGIN:DAYLIGHT
DTSTART:20240310T030000
RDATE:20241103T010000
TZOFFSETFROM:-0600
TZOFFSETTO:-0500
TZNAME:America/Chicago CDT
END:DAYLIGHT
BEGIN:DAYLIGHT
DTSTART:20250309T030000
RDATE:20251102T010000
TZOFFSETFROM:-0600
TZOFFSETTO:-0500
TZNAME:America/Chicago CDT
END:DAYLIGHT
BEGIN:DAYLIGHT
DTSTART:20260308T030000
RDATE:20261101T010000
TZOFFSETFROM:-0600
TZOFFSETTO:-0500
TZNAME:America/Chicago CDT
END:DAYLIGHT
BEGIN:DAYLIGHT
DTSTART:20270314T030000
RDATE:20271107T010000
TZOFFSETFROM:-0600
TZOFFSETTO:-0500
TZNAME:America/Chicago CDT
END:DAYLIGHT
BEGIN:DAYLIGHT
DTSTART:20280312T030000
RDATE:20281105T010000
TZOFFSETFROM:-0600
TZOFFSETTO:-0500
TZNAME:America/Chicago CDT
END:DAYLIGHT
END:VTIMEZONE
BEGIN:VEVENT
UID:d43b93a96c1486151c2be1d07f8d71ca
CATEGORIES:5K, 10K, 1 Mile
CREATED:20200604T124947
SUMMARY:Habitat Home Run
GEO:-93.29200745;37.23325348
LOCATION:Lafayette Park - 202 E. Atlantic Street\, Springfield\, MO\, \, 
URL;VALUE=URI:https://beta.actnowracing.com/events/552/habitat-home-run-geo-93-29200745-3
 7-23325348?tmpl=component
DESCRIPTION:Join us for the 11th annual Habitat Home Run, a 5k, 10k, and 1 mile fun run
 !  \nRun through our fast, flat, and shady course through Woodland Heights 
 Neighborhood, Habitat for Humanity of Springfield, MO's partner in Neighbor
 hood Revitalization!\nAll proceeds benefit Habitat for Humanity’s Neighborh
 ood Revitalization efforts in Woodland Heights.\nCLICK HERE (https://give.h
 abitatspringfieldmo.org/ge/Run-2020?fbclid=IwAR0VJpMHKCcHHLBOgZKurOvmc7EIqt
 oSrqaUakADP7og8rJbjtcWo16bQa0) to get registered\n This event was imported 
 from: https://beta.actnowracing.com/events/552/habitat-home-run-geo-93-2920
 0745-37-23325348?tmpl=component (https://beta.actnowracing.com/events/552/h
 abitat-home-run-geo-93-29200745-37-23325348?tmpl=component)
X-ALT-DESC;FMTTYPE=text/html:<p>Join us for the 11th annual Habitat Home Run, a 5k, 10k, and 1 mile fun 
 run!&nbsp;&nbsp;</p><p>Run through our fast, flat, and shady course through
  Woodland Heights Neighborhood, Habitat for Humanity of Springfield, MO's p
 artner in Neighborhood Revitalization!</p><p>All proceeds benefit Habitat f
 or Humanity’s Neighborhood Revitalization efforts in Woodland Heights.</p><
 p style="text-align: center;"><strong><a href="https://give.habitatspringfi
 eldmo.org/ge/Run-2020?fbclid=IwAR0VJpMHKCcHHLBOgZKurOvmc7EIqtoSrqaUakADP7og
 8rJbjtcWo16bQa0">CLICK HERE</a> to get registered</strong></p> <a href="htt
 ps://beta.actnowracing.com/events/552/habitat-home-run-geo-93-29200745-37-2
 3325348?tmpl=component">This event was imported from: https://beta.actnowra
 cing.com/events/552/habitat-home-run-geo-93-29200745-37-23325348?tmpl=compo
 nent</a>CONTACT:Kelsey at RegularLabs.EmailProtector.unCloak("ep_c5108ed1"); 
DTSTAMP:20260425T041231
DTSTART;TZID=America/Chicago:20201024T080000
SEQUENCE:0
TRANSP:OPAQUE
END:VEVENT
END:VCALENDAR