BEGIN:VCALENDAR
VERSION:2.0
PRODID:-//jEvents 2.0 for Joomla//EN
CALSCALE:GREGORIAN
METHOD:PUBLISH
BEGIN:VTIMEZONE
TZID:America/Chicago
BEGIN:STANDARD
DTSTART:20191103T010000
RDATE:20200308T030000
TZOFFSETFROM:-0500
TZOFFSETTO:-0600
TZNAME:America/Chicago CST
END:STANDARD
BEGIN:STANDARD
DTSTART:20201101T010000
RDATE:20210314T030000
TZOFFSETFROM:-0500
TZOFFSETTO:-0600
TZNAME:America/Chicago CST
END:STANDARD
BEGIN:STANDARD
DTSTART:20211107T010000
RDATE:20220313T030000
TZOFFSETFROM:-0500
TZOFFSETTO:-0600
TZNAME:America/Chicago CST
END:STANDARD
BEGIN:STANDARD
DTSTART:20221106T010000
RDATE:20230312T030000
TZOFFSETFROM:-0500
TZOFFSETTO:-0600
TZNAME:America/Chicago CST
END:STANDARD
BEGIN:STANDARD
DTSTART:20231105T010000
RDATE:20240310T030000
TZOFFSETFROM:-0500
TZOFFSETTO:-0600
TZNAME:America/Chicago CST
END:STANDARD
BEGIN:STANDARD
DTSTART:20241103T010000
RDATE:20250309T030000
TZOFFSETFROM:-0500
TZOFFSETTO:-0600
TZNAME:America/Chicago CST
END:STANDARD
BEGIN:STANDARD
DTSTART:20251102T010000
RDATE:20260308T030000
TZOFFSETFROM:-0500
TZOFFSETTO:-0600
TZNAME:America/Chicago CST
END:STANDARD
BEGIN:STANDARD
DTSTART:20261101T010000
RDATE:20270314T030000
TZOFFSETFROM:-0500
TZOFFSETTO:-0600
TZNAME:America/Chicago CST
END:STANDARD
BEGIN:STANDARD
DTSTART:20271107T010000
RDATE:20280312T030000
TZOFFSETFROM:-0500
TZOFFSETTO:-0600
TZNAME:America/Chicago CST
END:STANDARD
BEGIN:STANDARD
DTSTART:20281105T010000
RDATE:20290311T030000
TZOFFSETFROM:-0500
TZOFFSETTO:-0600
TZNAME:America/Chicago CST
END:STANDARD
BEGIN:DAYLIGHT
DTSTART:20190830T140000
RDATE:20191103T010000
TZOFFSETFROM:-0600
TZOFFSETTO:-0500
TZNAME:America/Chicago CDT
END:DAYLIGHT
BEGIN:DAYLIGHT
DTSTART:20200308T030000
RDATE:20201101T010000
TZOFFSETFROM:-0600
TZOFFSETTO:-0500
TZNAME:America/Chicago CDT
END:DAYLIGHT
BEGIN:DAYLIGHT
DTSTART:20210314T030000
RDATE:20211107T010000
TZOFFSETFROM:-0600
TZOFFSETTO:-0500
TZNAME:America/Chicago CDT
END:DAYLIGHT
BEGIN:DAYLIGHT
DTSTART:20220313T030000
RDATE:20221106T010000
TZOFFSETFROM:-0600
TZOFFSETTO:-0500
TZNAME:America/Chicago CDT
END:DAYLIGHT
BEGIN:DAYLIGHT
DTSTART:20230312T030000
RDATE:20231105T010000
TZOFFSETFROM:-0600
TZOFFSETTO:-0500
TZNAME:America/Chicago CDT
END:DAYLIGHT
BEGIN:DAYLIGHT
DTSTART:20240310T030000
RDATE:20241103T010000
TZOFFSETFROM:-0600
TZOFFSETTO:-0500
TZNAME:America/Chicago CDT
END:DAYLIGHT
BEGIN:DAYLIGHT
DTSTART:20250309T030000
RDATE:20251102T010000
TZOFFSETFROM:-0600
TZOFFSETTO:-0500
TZNAME:America/Chicago CDT
END:DAYLIGHT
BEGIN:DAYLIGHT
DTSTART:20260308T030000
RDATE:20261101T010000
TZOFFSETFROM:-0600
TZOFFSETTO:-0500
TZNAME:America/Chicago CDT
END:DAYLIGHT
BEGIN:DAYLIGHT
DTSTART:20270314T030000
RDATE:20271107T010000
TZOFFSETFROM:-0600
TZOFFSETTO:-0500
TZNAME:America/Chicago CDT
END:DAYLIGHT
BEGIN:DAYLIGHT
DTSTART:20280312T030000
RDATE:20281105T010000
TZOFFSETFROM:-0600
TZOFFSETTO:-0500
TZNAME:America/Chicago CDT
END:DAYLIGHT
END:VTIMEZONE
BEGIN:VEVENT
UID:2463411d8943cc9f6c8f88413dc30dba
CATEGORIES:5K
CREATED:20200701T084550
SUMMARY:Run & Remember
GEO:-93.36062622;37.19142914
LOCATION:Rutledge Wilson Farm Park - 3825 W. Farm Road 146\, Springfield\, MO\, \, 
URL;VALUE=URI:https://beta.actnowracing.com/events/554/run-remember-geo-93-36062622-37-19
 142914?tmpl=component
DESCRIPTION:Due to COVID-19, our annual 5K will look a little different this year. Ther
 e will be options to participate both virtually and in person while keeping
  with social distancing guidelines. You can run, walk, and remember with Lo
 st &amp; Found Grief Center this year. We are monitoring community guidelin
 es, any major changes to the event will be communicated via our website and
  social media.\nHelp us reach\n{plotalot id="12" P1="554" P2="18000" P3="20
 000" P4="15000" full_width}\n20,000 miles!\n This event was imported from: 
 https://beta.actnowracing.com/events/554/run-remember-geo-93-36062622-37-19
 142914?tmpl=component
X-ALT-DESC;FMTTYPE=text/html:<div class="g-grid" style="width: 100%;"><div class="g-block size-100 equal
 -height"><p style="text-align: left;">Due to COVID-19, our annual 5K will l
 ook a little different this year. There will be options to participate both
  virtually and in person while keeping with social distancing guidelines. Y
 ou can run, walk, and remember with Lost &amp; Found Grief Center this year
 . We are monitoring community guidelines, any major changes to the event wi
 ll be communicated via our website and social media.</p></div><div class="g
 -block size-100 equal-height" style="align-items: center; justify-content: 
 center;"><p>Help us reach</p><p>{plotalot id="12" P1="554" P2="18000" P3="2
 0000" P4="15000" full_width}</p><p>20,000 miles!</p></div></div> <a href="h
 ttps://beta.actnowracing.com/events/554/run-remember-geo-93-36062622-37-191
 42914?tmpl=component">This event was imported from: https://beta.actnowraci
 ng.com/events/554/run-remember-geo-93-36062622-37-19142914?tmpl=component</
 a>CONTACT:Jamie at RegularLabs.EmailProtector.unCloak("ep_5ecdd2cd");
DTSTAMP:20260424T203147
DTSTART;TZID=America/Chicago:20200830T140000
DTEND;TZID=America/Chicago;VALUE=DATE:20200921
SEQUENCE:0
TRANSP:OPAQUE
END:VEVENT
END:VCALENDAR