BEGIN:VCALENDAR
VERSION:2.0
PRODID:-//jEvents 2.0 for Joomla//EN
CALSCALE:GREGORIAN
METHOD:PUBLISH
BEGIN:VTIMEZONE
TZID:America/Chicago
BEGIN:STANDARD
DTSTART:20191126T000100
RDATE:20200308T030000
TZOFFSETFROM:-0500
TZOFFSETTO:-0600
TZNAME:America/Chicago CST
END:STANDARD
BEGIN:STANDARD
DTSTART:20201101T010000
RDATE:20210314T030000
TZOFFSETFROM:-0500
TZOFFSETTO:-0600
TZNAME:America/Chicago CST
END:STANDARD
BEGIN:STANDARD
DTSTART:20211107T010000
RDATE:20220313T030000
TZOFFSETFROM:-0500
TZOFFSETTO:-0600
TZNAME:America/Chicago CST
END:STANDARD
BEGIN:STANDARD
DTSTART:20221106T010000
RDATE:20230312T030000
TZOFFSETFROM:-0500
TZOFFSETTO:-0600
TZNAME:America/Chicago CST
END:STANDARD
BEGIN:STANDARD
DTSTART:20231105T010000
RDATE:20240310T030000
TZOFFSETFROM:-0500
TZOFFSETTO:-0600
TZNAME:America/Chicago CST
END:STANDARD
BEGIN:STANDARD
DTSTART:20241103T010000
RDATE:20250309T030000
TZOFFSETFROM:-0500
TZOFFSETTO:-0600
TZNAME:America/Chicago CST
END:STANDARD
BEGIN:STANDARD
DTSTART:20251102T010000
RDATE:20260308T030000
TZOFFSETFROM:-0500
TZOFFSETTO:-0600
TZNAME:America/Chicago CST
END:STANDARD
BEGIN:STANDARD
DTSTART:20261101T010000
RDATE:20270314T030000
TZOFFSETFROM:-0500
TZOFFSETTO:-0600
TZNAME:America/Chicago CST
END:STANDARD
BEGIN:STANDARD
DTSTART:20271107T010000
RDATE:20280312T030000
TZOFFSETFROM:-0500
TZOFFSETTO:-0600
TZNAME:America/Chicago CST
END:STANDARD
BEGIN:STANDARD
DTSTART:20281105T010000
RDATE:20290311T030000
TZOFFSETFROM:-0500
TZOFFSETTO:-0600
TZNAME:America/Chicago CST
END:STANDARD
BEGIN:DAYLIGHT
DTSTART:20200308T030000
RDATE:20201101T010000
TZOFFSETFROM:-0600
TZOFFSETTO:-0500
TZNAME:America/Chicago CDT
END:DAYLIGHT
BEGIN:DAYLIGHT
DTSTART:20210314T030000
RDATE:20211107T010000
TZOFFSETFROM:-0600
TZOFFSETTO:-0500
TZNAME:America/Chicago CDT
END:DAYLIGHT
BEGIN:DAYLIGHT
DTSTART:20220313T030000
RDATE:20221106T010000
TZOFFSETFROM:-0600
TZOFFSETTO:-0500
TZNAME:America/Chicago CDT
END:DAYLIGHT
BEGIN:DAYLIGHT
DTSTART:20230312T030000
RDATE:20231105T010000
TZOFFSETFROM:-0600
TZOFFSETTO:-0500
TZNAME:America/Chicago CDT
END:DAYLIGHT
BEGIN:DAYLIGHT
DTSTART:20240310T030000
RDATE:20241103T010000
TZOFFSETFROM:-0600
TZOFFSETTO:-0500
TZNAME:America/Chicago CDT
END:DAYLIGHT
BEGIN:DAYLIGHT
DTSTART:20250309T030000
RDATE:20251102T010000
TZOFFSETFROM:-0600
TZOFFSETTO:-0500
TZNAME:America/Chicago CDT
END:DAYLIGHT
BEGIN:DAYLIGHT
DTSTART:20260308T030000
RDATE:20261101T010000
TZOFFSETFROM:-0600
TZOFFSETTO:-0500
TZNAME:America/Chicago CDT
END:DAYLIGHT
BEGIN:DAYLIGHT
DTSTART:20270314T030000
RDATE:20271107T010000
TZOFFSETFROM:-0600
TZOFFSETTO:-0500
TZNAME:America/Chicago CDT
END:DAYLIGHT
BEGIN:DAYLIGHT
DTSTART:20280312T030000
RDATE:20281105T010000
TZOFFSETFROM:-0600
TZOFFSETTO:-0500
TZNAME:America/Chicago CDT
END:DAYLIGHT
END:VTIMEZONE
BEGIN:VEVENT
UID:831c62c0276d03bc2db0393fd21a97ac
CATEGORIES:5K
CREATED:20200929T060820
SUMMARY:9th Annual Branson Turkey Trot
GEO:93.29875183;37.04525375
LOCATION:Virtual Race - \, \, \, \, 
URL;VALUE=URI:https://beta.actnowracing.com/events/577/9th-annual-branson-turkey-trot-geo
 -93-29875183-37-04525375?tmpl=component
DESCRIPTION:<p>The 9th Annual Branson Turkey Trot is going VIRTUAL this year!!&nbsp; Ru
 n, walk or wobble your own 5K on turkey day!&nbsp; Grab your family &amp; f
 riends from around the world to join you in a race across the states.</p><p
 ><strong>WHAT IS A VIRTUAL RACE?</strong><br />A virtual race is a race tha
 t can be run (or walked) from any location you choose. ... You get to run y
 our own race, at your own pace, and time it yourself. And your shirt, will 
 be shipped directly to you. Choose your distance and start moving! It is a 
 great way to be competitive with your family, friends, or co-workers while 
 not traveling to a race. Run on your own or run with a group. Each person s
 igns up, pick a time to run and post your times online. This is a great way
  to motivate each other and hold each other accountable.</p><p>Walk, run, j
 og, indoors on a track or treadmill or outside in the neighborhood or a par
 k, a virtual race is the best way to get comfortable moving to your own bea
 t and gaining confidence in your strength and endurance!&nbsp;</p> <a href=
 "https://beta.actnowracing.com/events/577/9th-annual-branson-turkey-trot-ge
 o-93-29875183-37-04525375?tmpl=component">This event was imported from: htt
 ps://beta.actnowracing.com/events/577/9th-annual-branson-turkey-trot-geo-93
 -29875183-37-04525375?tmpl=component</a>DTSTAMP:20260423T125004
DTSTART;TZID=America/Chicago:20201126T000100
DTEND;TZID=America/Chicago:20201126T235900
SEQUENCE:0
TRANSP:OPAQUE
END:VEVENT
END:VCALENDAR