BEGIN:VCALENDAR
VERSION:2.0
PRODID:-//jEvents 2.0 for Joomla//EN
CALSCALE:GREGORIAN
METHOD:PUBLISH
BEGIN:VTIMEZONE
TZID:America/Chicago
BEGIN:STANDARD
DTSTART:20191204T190000
RDATE:20200308T030000
TZOFFSETFROM:-0500
TZOFFSETTO:-0600
TZNAME:America/Chicago CST
END:STANDARD
BEGIN:STANDARD
DTSTART:20201101T010000
RDATE:20210314T030000
TZOFFSETFROM:-0500
TZOFFSETTO:-0600
TZNAME:America/Chicago CST
END:STANDARD
BEGIN:STANDARD
DTSTART:20211107T010000
RDATE:20220313T030000
TZOFFSETFROM:-0500
TZOFFSETTO:-0600
TZNAME:America/Chicago CST
END:STANDARD
BEGIN:STANDARD
DTSTART:20221106T010000
RDATE:20230312T030000
TZOFFSETFROM:-0500
TZOFFSETTO:-0600
TZNAME:America/Chicago CST
END:STANDARD
BEGIN:STANDARD
DTSTART:20231105T010000
RDATE:20240310T030000
TZOFFSETFROM:-0500
TZOFFSETTO:-0600
TZNAME:America/Chicago CST
END:STANDARD
BEGIN:STANDARD
DTSTART:20241103T010000
RDATE:20250309T030000
TZOFFSETFROM:-0500
TZOFFSETTO:-0600
TZNAME:America/Chicago CST
END:STANDARD
BEGIN:STANDARD
DTSTART:20251102T010000
RDATE:20260308T030000
TZOFFSETFROM:-0500
TZOFFSETTO:-0600
TZNAME:America/Chicago CST
END:STANDARD
BEGIN:STANDARD
DTSTART:20261101T010000
RDATE:20270314T030000
TZOFFSETFROM:-0500
TZOFFSETTO:-0600
TZNAME:America/Chicago CST
END:STANDARD
BEGIN:STANDARD
DTSTART:20271107T010000
RDATE:20280312T030000
TZOFFSETFROM:-0500
TZOFFSETTO:-0600
TZNAME:America/Chicago CST
END:STANDARD
BEGIN:STANDARD
DTSTART:20281105T010000
RDATE:20290311T030000
TZOFFSETFROM:-0500
TZOFFSETTO:-0600
TZNAME:America/Chicago CST
END:STANDARD
BEGIN:DAYLIGHT
DTSTART:20200308T030000
RDATE:20201101T010000
TZOFFSETFROM:-0600
TZOFFSETTO:-0500
TZNAME:America/Chicago CDT
END:DAYLIGHT
BEGIN:DAYLIGHT
DTSTART:20210314T030000
RDATE:20211107T010000
TZOFFSETFROM:-0600
TZOFFSETTO:-0500
TZNAME:America/Chicago CDT
END:DAYLIGHT
BEGIN:DAYLIGHT
DTSTART:20220313T030000
RDATE:20221106T010000
TZOFFSETFROM:-0600
TZOFFSETTO:-0500
TZNAME:America/Chicago CDT
END:DAYLIGHT
BEGIN:DAYLIGHT
DTSTART:20230312T030000
RDATE:20231105T010000
TZOFFSETFROM:-0600
TZOFFSETTO:-0500
TZNAME:America/Chicago CDT
END:DAYLIGHT
BEGIN:DAYLIGHT
DTSTART:20240310T030000
RDATE:20241103T010000
TZOFFSETFROM:-0600
TZOFFSETTO:-0500
TZNAME:America/Chicago CDT
END:DAYLIGHT
BEGIN:DAYLIGHT
DTSTART:20250309T030000
RDATE:20251102T010000
TZOFFSETFROM:-0600
TZOFFSETTO:-0500
TZNAME:America/Chicago CDT
END:DAYLIGHT
BEGIN:DAYLIGHT
DTSTART:20260308T030000
RDATE:20261101T010000
TZOFFSETFROM:-0600
TZOFFSETTO:-0500
TZNAME:America/Chicago CDT
END:DAYLIGHT
BEGIN:DAYLIGHT
DTSTART:20270314T030000
RDATE:20271107T010000
TZOFFSETFROM:-0600
TZOFFSETTO:-0500
TZNAME:America/Chicago CDT
END:DAYLIGHT
BEGIN:DAYLIGHT
DTSTART:20280312T030000
RDATE:20281105T010000
TZOFFSETFROM:-0600
TZOFFSETTO:-0500
TZNAME:America/Chicago CDT
END:DAYLIGHT
END:VTIMEZONE
BEGIN:VEVENT
UID:3d84af781e8954d67e067c33f63ccf59
CATEGORIES:5K
CREATED:20201006T133402
SUMMARY:12th Annual Reindeer Run
GEO:-93.48245239;37.12581635
LOCATION:JR Martin Park - 300 E. Hines\, Republic\, MO\, \, 
URL;VALUE=URI:https://beta.actnowracing.com/events/578/12th-annual-reindeer-run-geo-93-48
 245239-37-12581635?tmpl=component
DESCRIPTION:The Republic Parks &amp; Recreation Department invites you to participate i
 n the 12th Annual Reindeer Run 5K.\nCLICK HERE TO GET REGISTERED (https://r
 epublicparksandrec.recdesk.com/Community/Program?category=15)\n \n \n  This
  event was imported from: https://beta.actnowracing.com/events/578/12th-ann
 ual-reindeer-run-geo-93-48245239-37-12581635?tmpl=component
X-ALT-DESC;FMTTYPE=text/html:<p>The Republic Parks &amp; Recreation Department invites you to participat
 e in the 12th Annual Reindeer Run 5K.</p><p style="text-align: center;"><a 
 href="https://republicparksandrec.recdesk.com/Community/Program?category=15
 "><strong>CLICK HERE TO GET REGISTERED</strong></a></p><p>&nbsp;</p><p><spa
 n style="font-size: 12pt;"><strong>&nbsp;</strong></span></p><h2>&nbsp;</h2
 > <a href="https://beta.actnowracing.com/events/578/12th-annual-reindeer-ru
 n-geo-93-48245239-37-12581635?tmpl=component">This event was imported from:
  https://beta.actnowracing.com/events/578/12th-annual-reindeer-run-geo-93-4
 8245239-37-12581635?tmpl=component</a>CONTACT:Steffi Weaver at RegularLabs.EmailProtector.unCloak("ep_bdce75f0");
DTSTAMP:20260423T124845
DTSTART;TZID=America/Chicago:20201204T190000
SEQUENCE:0
TRANSP:OPAQUE
END:VEVENT
END:VCALENDAR