BEGIN:VCALENDAR
VERSION:2.0
PRODID:-//jEvents 2.0 for Joomla//EN
CALSCALE:GREGORIAN
METHOD:PUBLISH
BEGIN:VTIMEZONE
TZID:America/Chicago
BEGIN:STANDARD
DTSTART:20201101T010000
RDATE:20210314T030000
TZOFFSETFROM:-0500
TZOFFSETTO:-0600
TZNAME:America/Chicago CST
END:STANDARD
BEGIN:STANDARD
DTSTART:20211107T010000
RDATE:20220313T030000
TZOFFSETFROM:-0500
TZOFFSETTO:-0600
TZNAME:America/Chicago CST
END:STANDARD
BEGIN:STANDARD
DTSTART:20221106T010000
RDATE:20230312T030000
TZOFFSETFROM:-0500
TZOFFSETTO:-0600
TZNAME:America/Chicago CST
END:STANDARD
BEGIN:STANDARD
DTSTART:20231105T010000
RDATE:20240310T030000
TZOFFSETFROM:-0500
TZOFFSETTO:-0600
TZNAME:America/Chicago CST
END:STANDARD
BEGIN:STANDARD
DTSTART:20241103T010000
RDATE:20250309T030000
TZOFFSETFROM:-0500
TZOFFSETTO:-0600
TZNAME:America/Chicago CST
END:STANDARD
BEGIN:STANDARD
DTSTART:20251102T010000
RDATE:20260308T030000
TZOFFSETFROM:-0500
TZOFFSETTO:-0600
TZNAME:America/Chicago CST
END:STANDARD
BEGIN:STANDARD
DTSTART:20261101T010000
RDATE:20270314T030000
TZOFFSETFROM:-0500
TZOFFSETTO:-0600
TZNAME:America/Chicago CST
END:STANDARD
BEGIN:STANDARD
DTSTART:20271107T010000
RDATE:20280312T030000
TZOFFSETFROM:-0500
TZOFFSETTO:-0600
TZNAME:America/Chicago CST
END:STANDARD
BEGIN:STANDARD
DTSTART:20281105T010000
RDATE:20290311T030000
TZOFFSETFROM:-0500
TZOFFSETTO:-0600
TZNAME:America/Chicago CST
END:STANDARD
BEGIN:DAYLIGHT
DTSTART:20200312T090000
RDATE:20201101T010000
TZOFFSETFROM:-0600
TZOFFSETTO:-0500
TZNAME:America/Chicago CDT
END:DAYLIGHT
BEGIN:DAYLIGHT
DTSTART:20210314T030000
RDATE:20211107T010000
TZOFFSETFROM:-0600
TZOFFSETTO:-0500
TZNAME:America/Chicago CDT
END:DAYLIGHT
BEGIN:DAYLIGHT
DTSTART:20220313T030000
RDATE:20221106T010000
TZOFFSETFROM:-0600
TZOFFSETTO:-0500
TZNAME:America/Chicago CDT
END:DAYLIGHT
BEGIN:DAYLIGHT
DTSTART:20230312T030000
RDATE:20231105T010000
TZOFFSETFROM:-0600
TZOFFSETTO:-0500
TZNAME:America/Chicago CDT
END:DAYLIGHT
BEGIN:DAYLIGHT
DTSTART:20240310T030000
RDATE:20241103T010000
TZOFFSETFROM:-0600
TZOFFSETTO:-0500
TZNAME:America/Chicago CDT
END:DAYLIGHT
BEGIN:DAYLIGHT
DTSTART:20250309T030000
RDATE:20251102T010000
TZOFFSETFROM:-0600
TZOFFSETTO:-0500
TZNAME:America/Chicago CDT
END:DAYLIGHT
BEGIN:DAYLIGHT
DTSTART:20260308T030000
RDATE:20261101T010000
TZOFFSETFROM:-0600
TZOFFSETTO:-0500
TZNAME:America/Chicago CDT
END:DAYLIGHT
BEGIN:DAYLIGHT
DTSTART:20270314T030000
RDATE:20271107T010000
TZOFFSETFROM:-0600
TZOFFSETTO:-0500
TZNAME:America/Chicago CDT
END:DAYLIGHT
BEGIN:DAYLIGHT
DTSTART:20280312T030000
RDATE:20281105T010000
TZOFFSETFROM:-0600
TZOFFSETTO:-0500
TZNAME:America/Chicago CDT
END:DAYLIGHT
END:VTIMEZONE
BEGIN:VEVENT
UID:ec3907a8ae0e0e765c27ae3da6dbe4fd
CATEGORIES:5K
CREATED:20210120T053418
SUMMARY:16th Annual Running of the Squirrels
GEO:-93.63919067;36.99893951
LOCATION:Marionville Elementary School - 200 O'Dell\, Marionville\, MO\, \, 
URL;VALUE=URI:https://beta.actnowracing.com/events/591/16th-annual-running-of-the-squirre
 ls-geo-93-63919067-36-99893951?tmpl=component
DESCRIPTION:Come celebrate with the band on March 13th, as we run through historic Mari
 onville, home of the white squirrel, for the 16th annual Running of the Squ
 irrels 5K. The course is flat and easy to navigate, perfect for all ages an
 d abilities. We will have live music and refreshments. Feel free to dress u
 p in your favorite Irish gear and join the fun! Cash awards will be given f
 or Overall Male and Overall Female winners in addition to medals for the to
 p three male and female finishers in each age category. All proceeds raised
  from our 5K will benefit the Marionville Comet Pride Marching Band. Thank 
 you for your support!\n{product 2293|name|cart|quantityfield|description|pi
 cture|link|border|badge|pricedis3}\nPOST RACE SURVEY (https://surveys.justa
 sk.me/index.php/363922?lang=en)\n \n This event was imported from: https://
 beta.actnowracing.com/events/591/16th-annual-running-of-the-squirrels-geo-9
 3-63919067-36-99893951?tmpl=component
X-ALT-DESC;FMTTYPE=text/html:<p>Come celebrate with the band on March 13th, as we run through historic M
 arionville, home of the white squirrel, for the 16th annual Running of the 
 Squirrels 5K. The course is flat and easy to navigate, perfect for all ages
  and abilities. We will have live music and refreshments. Feel free to dres
 s up in your favorite Irish gear and join the fun! Cash awards will be give
 n for Overall Male and Overall Female winners in addition to medals for the
  top three male and female finishers in each age category. All proceeds rai
 sed from our 5K will benefit the Marionville Comet Pride Marching Band. Tha
 nk you for your support!</p><p style="padding: 4px; border: 1px solid #0000
 00; text-align: center;">{product 2293|name|cart|quantityfield|description|
 picture|link|border|badge|pricedis3}</p><p style="text-align: center;"><str
 ong><a href="https://surveys.justask.me/index.php/363922?lang=en" target="_
 blank" rel="noopener">POST RACE SURVEY</a></strong></p><p>&nbsp;</p> <a hre
 f="https://beta.actnowracing.com/events/591/16th-annual-running-of-the-squi
 rrels-geo-93-63919067-36-99893951?tmpl=component">This event was imported f
 rom: https://beta.actnowracing.com/events/591/16th-annual-running-of-the-sq
 uirrels-geo-93-63919067-36-99893951?tmpl=component</a>DTSTAMP:20260423T152350
DTSTART;TZID=America/Chicago:20210313T080000
SEQUENCE:0
TRANSP:OPAQUE
END:VEVENT
END:VCALENDAR