BEGIN:VCALENDAR
VERSION:2.0
PRODID:-//jEvents 2.0 for Joomla//EN
CALSCALE:GREGORIAN
METHOD:PUBLISH
BEGIN:VTIMEZONE
TZID:America/Chicago
BEGIN:STANDARD
DTSTART:20201101T010000
RDATE:20210314T030000
TZOFFSETFROM:-0500
TZOFFSETTO:-0600
TZNAME:America/Chicago CST
END:STANDARD
BEGIN:STANDARD
DTSTART:20211107T010000
RDATE:20220313T030000
TZOFFSETFROM:-0500
TZOFFSETTO:-0600
TZNAME:America/Chicago CST
END:STANDARD
BEGIN:STANDARD
DTSTART:20221106T010000
RDATE:20230312T030000
TZOFFSETFROM:-0500
TZOFFSETTO:-0600
TZNAME:America/Chicago CST
END:STANDARD
BEGIN:STANDARD
DTSTART:20231105T010000
RDATE:20240310T030000
TZOFFSETFROM:-0500
TZOFFSETTO:-0600
TZNAME:America/Chicago CST
END:STANDARD
BEGIN:STANDARD
DTSTART:20241103T010000
RDATE:20250309T030000
TZOFFSETFROM:-0500
TZOFFSETTO:-0600
TZNAME:America/Chicago CST
END:STANDARD
BEGIN:STANDARD
DTSTART:20251102T010000
RDATE:20260308T030000
TZOFFSETFROM:-0500
TZOFFSETTO:-0600
TZNAME:America/Chicago CST
END:STANDARD
BEGIN:STANDARD
DTSTART:20261101T010000
RDATE:20270314T030000
TZOFFSETFROM:-0500
TZOFFSETTO:-0600
TZNAME:America/Chicago CST
END:STANDARD
BEGIN:STANDARD
DTSTART:20271107T010000
RDATE:20280312T030000
TZOFFSETFROM:-0500
TZOFFSETTO:-0600
TZNAME:America/Chicago CST
END:STANDARD
BEGIN:STANDARD
DTSTART:20281105T010000
RDATE:20290311T030000
TZOFFSETFROM:-0500
TZOFFSETTO:-0600
TZNAME:America/Chicago CST
END:STANDARD
BEGIN:DAYLIGHT
DTSTART:20200611T193000
RDATE:20201101T010000
TZOFFSETFROM:-0600
TZOFFSETTO:-0500
TZNAME:America/Chicago CDT
END:DAYLIGHT
BEGIN:DAYLIGHT
DTSTART:20210314T030000
RDATE:20211107T010000
TZOFFSETFROM:-0600
TZOFFSETTO:-0500
TZNAME:America/Chicago CDT
END:DAYLIGHT
BEGIN:DAYLIGHT
DTSTART:20220313T030000
RDATE:20221106T010000
TZOFFSETFROM:-0600
TZOFFSETTO:-0500
TZNAME:America/Chicago CDT
END:DAYLIGHT
BEGIN:DAYLIGHT
DTSTART:20230312T030000
RDATE:20231105T010000
TZOFFSETFROM:-0600
TZOFFSETTO:-0500
TZNAME:America/Chicago CDT
END:DAYLIGHT
BEGIN:DAYLIGHT
DTSTART:20240310T030000
RDATE:20241103T010000
TZOFFSETFROM:-0600
TZOFFSETTO:-0500
TZNAME:America/Chicago CDT
END:DAYLIGHT
BEGIN:DAYLIGHT
DTSTART:20250309T030000
RDATE:20251102T010000
TZOFFSETFROM:-0600
TZOFFSETTO:-0500
TZNAME:America/Chicago CDT
END:DAYLIGHT
BEGIN:DAYLIGHT
DTSTART:20260308T030000
RDATE:20261101T010000
TZOFFSETFROM:-0600
TZOFFSETTO:-0500
TZNAME:America/Chicago CDT
END:DAYLIGHT
BEGIN:DAYLIGHT
DTSTART:20270314T030000
RDATE:20271107T010000
TZOFFSETFROM:-0600
TZOFFSETTO:-0500
TZNAME:America/Chicago CDT
END:DAYLIGHT
BEGIN:DAYLIGHT
DTSTART:20280312T030000
RDATE:20281105T010000
TZOFFSETFROM:-0600
TZOFFSETTO:-0500
TZNAME:America/Chicago CDT
END:DAYLIGHT
END:VTIMEZONE
BEGIN:VEVENT
UID:5b594072a5d76c7943c6b90aaf6bff8f
CATEGORIES:5K
CREATED:20210205T053953
SUMMARY:2021 Bandit 5K
GEO:-93.06622314;37.1138382
LOCATION:Rogersville Community Park - 270 County Line Road\, Rogersville\, MO\, \, 
URL;VALUE=URI:https://beta.actnowracing.com/events/598/2021-bandit-5k-geo-93-06622314-37-
 1138382?tmpl=component
DESCRIPTION:Join us Saturday, June 12th for the Bandit 5K. Proceeds Benefit Rogersville
  Friends of the Park.\nRunners get a shirt, swag bag and a meal (pulled por
 k sandwiches), plus a 1/2 drink discount at Bub's Distillery in Rogersville
  during the AFTER PARTY.\n This event was imported from: https://beta.actno
 wracing.com/events/598/2021-bandit-5k-geo-93-06622314-37-1138382?tmpl=compo
 nent
X-ALT-DESC;FMTTYPE=text/html:<p>Join us Saturday, June 12th for the Bandit 5K.&nbsp;Proceeds Benefit Rog
 ersville Friends of the Park.</p><p>Runners get a shirt, swag bag and a mea
 l (pulled pork sandwiches), plus a 1/2 drink discount at Bub's Distillery i
 n Rogersville during the AFTER PARTY.</p> <a href="https://beta.actnowracin
 g.com/events/598/2021-bandit-5k-geo-93-06622314-37-1138382?tmpl=component">
 This event was imported from: https://beta.actnowracing.com/events/598/2021
 -bandit-5k-geo-93-06622314-37-1138382?tmpl=component</a>CONTACT:Lauren Brooke at RegularLabs.EmailProtector.unCloak("ep_023db011");
DTSTAMP:20260422T153714
DTSTART;TZID=America/Chicago:20210612T193000
SEQUENCE:0
TRANSP:OPAQUE
END:VEVENT
END:VCALENDAR