BEGIN:VCALENDAR
VERSION:2.0
PRODID:-//jEvents 2.0 for Joomla//EN
CALSCALE:GREGORIAN
METHOD:PUBLISH
BEGIN:VTIMEZONE
TZID:America/Chicago
BEGIN:STANDARD
DTSTART:20201101T010000
RDATE:20210314T030000
TZOFFSETFROM:-0500
TZOFFSETTO:-0600
TZNAME:America/Chicago CST
END:STANDARD
BEGIN:STANDARD
DTSTART:20211107T010000
RDATE:20220313T030000
TZOFFSETFROM:-0500
TZOFFSETTO:-0600
TZNAME:America/Chicago CST
END:STANDARD
BEGIN:STANDARD
DTSTART:20221106T010000
RDATE:20230312T030000
TZOFFSETFROM:-0500
TZOFFSETTO:-0600
TZNAME:America/Chicago CST
END:STANDARD
BEGIN:STANDARD
DTSTART:20231105T010000
RDATE:20240310T030000
TZOFFSETFROM:-0500
TZOFFSETTO:-0600
TZNAME:America/Chicago CST
END:STANDARD
BEGIN:STANDARD
DTSTART:20241103T010000
RDATE:20250309T030000
TZOFFSETFROM:-0500
TZOFFSETTO:-0600
TZNAME:America/Chicago CST
END:STANDARD
BEGIN:STANDARD
DTSTART:20251102T010000
RDATE:20260308T030000
TZOFFSETFROM:-0500
TZOFFSETTO:-0600
TZNAME:America/Chicago CST
END:STANDARD
BEGIN:STANDARD
DTSTART:20261101T010000
RDATE:20270314T030000
TZOFFSETFROM:-0500
TZOFFSETTO:-0600
TZNAME:America/Chicago CST
END:STANDARD
BEGIN:STANDARD
DTSTART:20271107T010000
RDATE:20280312T030000
TZOFFSETFROM:-0500
TZOFFSETTO:-0600
TZNAME:America/Chicago CST
END:STANDARD
BEGIN:STANDARD
DTSTART:20281105T010000
RDATE:20290311T030000
TZOFFSETFROM:-0500
TZOFFSETTO:-0600
TZNAME:America/Chicago CST
END:STANDARD
BEGIN:DAYLIGHT
DTSTART:20201015T090000
RDATE:20201101T010000
TZOFFSETFROM:-0600
TZOFFSETTO:-0500
TZNAME:America/Chicago CDT
END:DAYLIGHT
BEGIN:DAYLIGHT
DTSTART:20210314T030000
RDATE:20211107T010000
TZOFFSETFROM:-0600
TZOFFSETTO:-0500
TZNAME:America/Chicago CDT
END:DAYLIGHT
BEGIN:DAYLIGHT
DTSTART:20220313T030000
RDATE:20221106T010000
TZOFFSETFROM:-0600
TZOFFSETTO:-0500
TZNAME:America/Chicago CDT
END:DAYLIGHT
BEGIN:DAYLIGHT
DTSTART:20230312T030000
RDATE:20231105T010000
TZOFFSETFROM:-0600
TZOFFSETTO:-0500
TZNAME:America/Chicago CDT
END:DAYLIGHT
BEGIN:DAYLIGHT
DTSTART:20240310T030000
RDATE:20241103T010000
TZOFFSETFROM:-0600
TZOFFSETTO:-0500
TZNAME:America/Chicago CDT
END:DAYLIGHT
BEGIN:DAYLIGHT
DTSTART:20250309T030000
RDATE:20251102T010000
TZOFFSETFROM:-0600
TZOFFSETTO:-0500
TZNAME:America/Chicago CDT
END:DAYLIGHT
BEGIN:DAYLIGHT
DTSTART:20260308T030000
RDATE:20261101T010000
TZOFFSETFROM:-0600
TZOFFSETTO:-0500
TZNAME:America/Chicago CDT
END:DAYLIGHT
BEGIN:DAYLIGHT
DTSTART:20270314T030000
RDATE:20271107T010000
TZOFFSETFROM:-0600
TZOFFSETTO:-0500
TZNAME:America/Chicago CDT
END:DAYLIGHT
BEGIN:DAYLIGHT
DTSTART:20280312T030000
RDATE:20281105T010000
TZOFFSETFROM:-0600
TZOFFSETTO:-0500
TZNAME:America/Chicago CDT
END:DAYLIGHT
END:VTIMEZONE
BEGIN:VEVENT
UID:169bb2241217055c5fa7b855f89fb2fa
CATEGORIES:5K
CREATED:20210212T065002
SUMMARY:4th Annual Run to Care
GEO:-93.71004486;36.96978378
LOCATION:Mercy Aurora Clinic - 550 South Hudson\, Aurora\, MO\, \, 
URL;VALUE=URI:https://beta.actnowracing.com/events/602/4th-annual-run-to-care-geo-93-7100
 4486-36-96978378?tmpl=component
DESCRIPTION:We are gearing up for our 4th Annual Run to Care and cannot be more excited
  about this year’s event!!!!! ACT NOW Racing will be back this year and wil
 l be running the show at the start/finish line. The timing will be done via
  chip on your runners bib but you are still welcome to walk if you would pr
 efer and you can still bring your dogs on a leash.\nOur run this year is in
  honor of Monta Rae Glaser a beloved Mercy ER Nurse who was tragically take
 n from this life in February 2019. Monta Rae had such a beautiful smile, co
 ntagious laugh and bright, bubbly personality. She was the true example of 
 humility and kindness with the heart of service to all, as she never met a 
 stranger. Monta Rae was a true friend and mentor to many health care profes
 sionals. She loved to share her knowledge, experiences and true love of nur
 sing with everyone. This year’s t-shirt design and run theme are in honor o
 f Monta Rae. All of the proceeds from the event will benefit the Mercy Auro
 ra and Cassville Mission Fund, which helps provide support to our patients 
 and visitors in need.\n This event was imported from: https://beta.actnowra
 cing.com/events/602/4th-annual-run-to-care-geo-93-71004486-36-96978378?tmpl
 =component
X-ALT-DESC;FMTTYPE=text/html:<p>We are gearing up for our 4th Annual Run to Care and cannot be more exci
 ted about this year’s event!!!!! ACT NOW Racing will be back this year and 
 will be running the show at the start/finish line. The timing will be done 
 via chip on your runners bib but you are still welcome to walk if you would
  prefer and you can still bring your dogs on a leash.</p><p>Our run this ye
 ar is in honor of Monta Rae Glaser a beloved Mercy ER Nurse who was tragica
 lly taken from this life in February 2019. Monta Rae had such a beautiful s
 mile, contagious laugh and bright, bubbly personality. She was the true exa
 mple of humility and kindness with the heart of service to all, as she neve
 r met a stranger. Monta Rae was a true friend and mentor to many health car
 e professionals. She loved to share her knowledge, experiences and true lov
 e of nursing with everyone. This year’s t-shirt design and run theme are in
  honor of Monta Rae. All of the proceeds from the event will benefit the Me
 rcy Aurora and Cassville Mission Fund, which helps provide support to our p
 atients and visitors in need.</p> <a href="https://beta.actnowracing.com/ev
 ents/602/4th-annual-run-to-care-geo-93-71004486-36-96978378?tmpl=component"
 >This event was imported from: https://beta.actnowracing.com/events/602/4th
 -annual-run-to-care-geo-93-71004486-36-96978378?tmpl=component</a>CONTACT:Martha Youngblood at RegularLabs.EmailProtector.unCloak("ep_0248f7e7");
DTSTAMP:20260425T021202
DTSTART;TZID=America/Chicago:20211016T090000
SEQUENCE:0
TRANSP:OPAQUE
END:VEVENT
END:VCALENDAR