BEGIN:VCALENDAR
VERSION:2.0
PRODID:-//jEvents 2.0 for Joomla//EN
CALSCALE:GREGORIAN
METHOD:PUBLISH
BEGIN:VTIMEZONE
TZID:America/Chicago
BEGIN:STANDARD
DTSTART:20201101T010000
RDATE:20210314T030000
TZOFFSETFROM:-0500
TZOFFSETTO:-0600
TZNAME:America/Chicago CST
END:STANDARD
BEGIN:STANDARD
DTSTART:20211107T010000
RDATE:20220313T030000
TZOFFSETFROM:-0500
TZOFFSETTO:-0600
TZNAME:America/Chicago CST
END:STANDARD
BEGIN:STANDARD
DTSTART:20221106T010000
RDATE:20230312T030000
TZOFFSETFROM:-0500
TZOFFSETTO:-0600
TZNAME:America/Chicago CST
END:STANDARD
BEGIN:STANDARD
DTSTART:20231105T010000
RDATE:20240310T030000
TZOFFSETFROM:-0500
TZOFFSETTO:-0600
TZNAME:America/Chicago CST
END:STANDARD
BEGIN:STANDARD
DTSTART:20241103T010000
RDATE:20250309T030000
TZOFFSETFROM:-0500
TZOFFSETTO:-0600
TZNAME:America/Chicago CST
END:STANDARD
BEGIN:STANDARD
DTSTART:20251102T010000
RDATE:20260308T030000
TZOFFSETFROM:-0500
TZOFFSETTO:-0600
TZNAME:America/Chicago CST
END:STANDARD
BEGIN:STANDARD
DTSTART:20261101T010000
RDATE:20270314T030000
TZOFFSETFROM:-0500
TZOFFSETTO:-0600
TZNAME:America/Chicago CST
END:STANDARD
BEGIN:STANDARD
DTSTART:20271107T010000
RDATE:20280312T030000
TZOFFSETFROM:-0500
TZOFFSETTO:-0600
TZNAME:America/Chicago CST
END:STANDARD
BEGIN:STANDARD
DTSTART:20281105T010000
RDATE:20290311T030000
TZOFFSETFROM:-0500
TZOFFSETTO:-0600
TZNAME:America/Chicago CST
END:STANDARD
BEGIN:DAYLIGHT
DTSTART:20200625T070000
RDATE:20201101T010000
TZOFFSETFROM:-0600
TZOFFSETTO:-0500
TZNAME:America/Chicago CDT
END:DAYLIGHT
BEGIN:DAYLIGHT
DTSTART:20210314T030000
RDATE:20211107T010000
TZOFFSETFROM:-0600
TZOFFSETTO:-0500
TZNAME:America/Chicago CDT
END:DAYLIGHT
BEGIN:DAYLIGHT
DTSTART:20220313T030000
RDATE:20221106T010000
TZOFFSETFROM:-0600
TZOFFSETTO:-0500
TZNAME:America/Chicago CDT
END:DAYLIGHT
BEGIN:DAYLIGHT
DTSTART:20230312T030000
RDATE:20231105T010000
TZOFFSETFROM:-0600
TZOFFSETTO:-0500
TZNAME:America/Chicago CDT
END:DAYLIGHT
BEGIN:DAYLIGHT
DTSTART:20240310T030000
RDATE:20241103T010000
TZOFFSETFROM:-0600
TZOFFSETTO:-0500
TZNAME:America/Chicago CDT
END:DAYLIGHT
BEGIN:DAYLIGHT
DTSTART:20250309T030000
RDATE:20251102T010000
TZOFFSETFROM:-0600
TZOFFSETTO:-0500
TZNAME:America/Chicago CDT
END:DAYLIGHT
BEGIN:DAYLIGHT
DTSTART:20260308T030000
RDATE:20261101T010000
TZOFFSETFROM:-0600
TZOFFSETTO:-0500
TZNAME:America/Chicago CDT
END:DAYLIGHT
BEGIN:DAYLIGHT
DTSTART:20270314T030000
RDATE:20271107T010000
TZOFFSETFROM:-0600
TZOFFSETTO:-0500
TZNAME:America/Chicago CDT
END:DAYLIGHT
BEGIN:DAYLIGHT
DTSTART:20280312T030000
RDATE:20281105T010000
TZOFFSETFROM:-0600
TZOFFSETTO:-0500
TZNAME:America/Chicago CDT
END:DAYLIGHT
END:VTIMEZONE
BEGIN:VEVENT
UID:dbc4d6a5d8a19acad2e5cfc2a250f1b1
CATEGORIES:5K
CREATED:20210318T050502
SUMMARY:Sparks in the Park 
GEO:-93.58032227;37.31638718
LOCATION:Ash Grove Park - 300 West Parkway Street\, Ash Grove\, MO\, \, 
URL;VALUE=URI:https://beta.actnowracing.com/events/614/sparks-in-the-park-geo-93-58032227
 -37-31638718?tmpl=component
DESCRIPTION:Join us for the Sparks in the Park 5K - Historic Ash Grove Run Community Re
 lief Services hosted by Ash Grove Lodge No. 100 A. F. &amp; A. M.  The 5K w
 ill be held in conjunction with the Ash Grove Sparks in the Park annual pat
 riotic celebration\nCustom finishers' medals will be presented to participa
 nts to commemorate the celebration.  Participants must be registered by Jun
 e 9th to be guaranteed a finisher's medal. \n This event was imported from:
  https://beta.actnowracing.com/events/614/sparks-in-the-park-geo-93-5803222
 7-37-31638718?tmpl=component
X-ALT-DESC;FMTTYPE=text/html:<p>Join us for the Sparks in the Park 5K - Historic Ash Grove Run Community
  Relief Services hosted by Ash Grove Lodge No. 100 A. F. &amp; A. M.&nbsp;&
 nbsp;The 5K will be held in conjunction with the Ash Grove Sparks in the Pa
 rk annual patriotic celebration</p><p>Custom finishers' medals will be pres
 ented to participants to commemorate the celebration.&nbsp; Participants mu
 st be registered by June 9th to be guaranteed a finisher's medal.&nbsp;</p>
  <a href="https://beta.actnowracing.com/events/614/sparks-in-the-park-geo-9
 3-58032227-37-31638718?tmpl=component">This event was imported from: https:
 //beta.actnowracing.com/events/614/sparks-in-the-park-geo-93-58032227-37-31
 638718?tmpl=component</a>DTSTAMP:20260424T115027
DTSTART;TZID=America/Chicago:20210626T070000
SEQUENCE:0
TRANSP:OPAQUE
END:VEVENT
END:VCALENDAR