BEGIN:VCALENDAR
VERSION:2.0
PRODID:-//jEvents 2.0 for Joomla//EN
CALSCALE:GREGORIAN
METHOD:PUBLISH
BEGIN:VTIMEZONE
TZID:America/Chicago
BEGIN:STANDARD
DTSTART:20201101T010000
RDATE:20210314T030000
TZOFFSETFROM:-0500
TZOFFSETTO:-0600
TZNAME:America/Chicago CST
END:STANDARD
BEGIN:STANDARD
DTSTART:20211107T010000
RDATE:20220313T030000
TZOFFSETFROM:-0500
TZOFFSETTO:-0600
TZNAME:America/Chicago CST
END:STANDARD
BEGIN:STANDARD
DTSTART:20221106T010000
RDATE:20230312T030000
TZOFFSETFROM:-0500
TZOFFSETTO:-0600
TZNAME:America/Chicago CST
END:STANDARD
BEGIN:STANDARD
DTSTART:20231105T010000
RDATE:20240310T030000
TZOFFSETFROM:-0500
TZOFFSETTO:-0600
TZNAME:America/Chicago CST
END:STANDARD
BEGIN:STANDARD
DTSTART:20241103T010000
RDATE:20250309T030000
TZOFFSETFROM:-0500
TZOFFSETTO:-0600
TZNAME:America/Chicago CST
END:STANDARD
BEGIN:STANDARD
DTSTART:20251102T010000
RDATE:20260308T030000
TZOFFSETFROM:-0500
TZOFFSETTO:-0600
TZNAME:America/Chicago CST
END:STANDARD
BEGIN:STANDARD
DTSTART:20261101T010000
RDATE:20270314T030000
TZOFFSETFROM:-0500
TZOFFSETTO:-0600
TZNAME:America/Chicago CST
END:STANDARD
BEGIN:STANDARD
DTSTART:20271107T010000
RDATE:20280312T030000
TZOFFSETFROM:-0500
TZOFFSETTO:-0600
TZNAME:America/Chicago CST
END:STANDARD
BEGIN:STANDARD
DTSTART:20281105T010000
RDATE:20290311T030000
TZOFFSETFROM:-0500
TZOFFSETTO:-0600
TZNAME:America/Chicago CST
END:STANDARD
BEGIN:DAYLIGHT
DTSTART:20200723T073000
RDATE:20201101T010000
TZOFFSETFROM:-0600
TZOFFSETTO:-0500
TZNAME:America/Chicago CDT
END:DAYLIGHT
BEGIN:DAYLIGHT
DTSTART:20210314T030000
RDATE:20211107T010000
TZOFFSETFROM:-0600
TZOFFSETTO:-0500
TZNAME:America/Chicago CDT
END:DAYLIGHT
BEGIN:DAYLIGHT
DTSTART:20220313T030000
RDATE:20221106T010000
TZOFFSETFROM:-0600
TZOFFSETTO:-0500
TZNAME:America/Chicago CDT
END:DAYLIGHT
BEGIN:DAYLIGHT
DTSTART:20230312T030000
RDATE:20231105T010000
TZOFFSETFROM:-0600
TZOFFSETTO:-0500
TZNAME:America/Chicago CDT
END:DAYLIGHT
BEGIN:DAYLIGHT
DTSTART:20240310T030000
RDATE:20241103T010000
TZOFFSETFROM:-0600
TZOFFSETTO:-0500
TZNAME:America/Chicago CDT
END:DAYLIGHT
BEGIN:DAYLIGHT
DTSTART:20250309T030000
RDATE:20251102T010000
TZOFFSETFROM:-0600
TZOFFSETTO:-0500
TZNAME:America/Chicago CDT
END:DAYLIGHT
BEGIN:DAYLIGHT
DTSTART:20260308T030000
RDATE:20261101T010000
TZOFFSETFROM:-0600
TZOFFSETTO:-0500
TZNAME:America/Chicago CDT
END:DAYLIGHT
BEGIN:DAYLIGHT
DTSTART:20270314T030000
RDATE:20271107T010000
TZOFFSETFROM:-0600
TZOFFSETTO:-0500
TZNAME:America/Chicago CDT
END:DAYLIGHT
BEGIN:DAYLIGHT
DTSTART:20280312T030000
RDATE:20281105T010000
TZOFFSETFROM:-0600
TZOFFSETTO:-0500
TZNAME:America/Chicago CDT
END:DAYLIGHT
END:VTIMEZONE
BEGIN:VEVENT
UID:edc20173dde12ebe24a5315124103437
CATEGORIES:5K, 10K
CREATED:20210429T101159
SUMMARY:Girls Just Wanna Run Presented by Rick's Automotive
GEO:-93.28990173;37.2249794
LOCATION:Cox North - 1423 N. Jefferson Avenue\, Springfield\, MO\, \, 
URL;VALUE=URI:https://beta.actnowracing.com/events/627/girls-just-wanna-run-presented-by-
 ricks-automotive-geo-93-28990173-37-2249794?tmpl=component
DESCRIPTION:<p>GIRLS JUST WANNA RUN goes fully VIRTUAL</p><p>&nbsp;It was with the full
  intention of having a live race that we launched this year’s event.</p><p>
 Unfortunately, due to the growing number of COVID-19 cases in our area in t
 he last three weeks, with no downturn in sight, the decision has been made 
 to go fully virtual.</p><p>The safety of our runners and community is the u
 tmost priority of the CoxHealth Foundation and our sponsors and supporters.
 </p><p>Already registered? The drive up packet pick-up will be held Thursda
 y, July 22 at the entry of the Meyer Center from 3-6 PM. Your shirt, medal 
 and shoe light will be waiting!</p><p>Still want to run? Join us virtually 
 by signing up!</p><p>Please complete your virtual race by Friday, August 6t
 h and post your name, age and time on the CoxHealth Foundation website at t
 his link: <a href="https://www.coxhealthfoundation.com/event/girls-just-wan
 na-run-presented-by-ricks-automotive/" target="_blank" rel="noopener">https
 ://www.coxhealthfoundation.com/event/girls-just-wanna-run-presented-by-rick
 s-automotive/</a> or find it under the Foundation’s website Special Events 
 tab for “Girls Just Wanna Run.”</p><p>Awards will be mailed to the top winn
 ers in each age group the following week. Don’t forget to post your “finish
  line” photo and tag us at the CoxHealth Foundation and hash tag #GJWR2021.
 </p><p>Special thanks to Rick’s Automotive for being this year’s Presenting
  Sponsor and to Springfield Striping and Sealing, Natera, Jack Henry and As
 sociates, Dr. Russ and Pam Detten, Farmers Insurance, Ken Teague, Bancorp S
 outh, Springfield Sign, Sam’s Club, Dr. Patricia Dix and the Regional Perin
 atal Center, Price Cutter and Ferrell-Duncan Clinic Foundation for their su
 pporting gifts.</p><p>Girls Just Wanna Run is the most fun you can have doi
 ng a 5k or 10k while supporting local women.&nbsp;&nbsp;Presented by Rick’s
  Automotive, an average 800 participants take part in this ladies only 5K/1
 0K walk-run.</p><p>Proceeds benefit the CoxHealth Foundation’s Bethlehem Fu
 nd, supporting the pre-natal care of high-risk low-income mothers in our co
 mmunity to ensure a healthy delivery for mom and baby!</p> <a href="https:/
 /beta.actnowracing.com/events/627/girls-just-wanna-run-presented-by-ricks-a
 utomotive-geo-93-28990173-37-2249794?tmpl=component">This event was importe
 d from: https://beta.actnowracing.com/events/627/girls-just-wanna-run-prese
 nted-by-ricks-automotive-geo-93-28990173-37-2249794?tmpl=component</a>CONTACT:Whitney at RegularLabs.EmailProtector.unCloak("ep_a1bbeeef");
DTSTAMP:20260424T174418
DTSTART;TZID=America/Chicago:20210724T073000
SEQUENCE:0
TRANSP:OPAQUE
END:VEVENT
END:VCALENDAR