BEGIN:VCALENDAR
VERSION:2.0
PRODID:-//jEvents 2.0 for Joomla//EN
CALSCALE:GREGORIAN
METHOD:PUBLISH
BEGIN:VTIMEZONE
TZID:America/Chicago
BEGIN:STANDARD
DTSTART:20201202T190000
RDATE:20210314T030000
TZOFFSETFROM:-0500
TZOFFSETTO:-0600
TZNAME:America/Chicago CST
END:STANDARD
BEGIN:STANDARD
DTSTART:20211107T010000
RDATE:20220313T030000
TZOFFSETFROM:-0500
TZOFFSETTO:-0600
TZNAME:America/Chicago CST
END:STANDARD
BEGIN:STANDARD
DTSTART:20221106T010000
RDATE:20230312T030000
TZOFFSETFROM:-0500
TZOFFSETTO:-0600
TZNAME:America/Chicago CST
END:STANDARD
BEGIN:STANDARD
DTSTART:20231105T010000
RDATE:20240310T030000
TZOFFSETFROM:-0500
TZOFFSETTO:-0600
TZNAME:America/Chicago CST
END:STANDARD
BEGIN:STANDARD
DTSTART:20241103T010000
RDATE:20250309T030000
TZOFFSETFROM:-0500
TZOFFSETTO:-0600
TZNAME:America/Chicago CST
END:STANDARD
BEGIN:STANDARD
DTSTART:20251102T010000
RDATE:20260308T030000
TZOFFSETFROM:-0500
TZOFFSETTO:-0600
TZNAME:America/Chicago CST
END:STANDARD
BEGIN:STANDARD
DTSTART:20261101T010000
RDATE:20270314T030000
TZOFFSETFROM:-0500
TZOFFSETTO:-0600
TZNAME:America/Chicago CST
END:STANDARD
BEGIN:STANDARD
DTSTART:20271107T010000
RDATE:20280312T030000
TZOFFSETFROM:-0500
TZOFFSETTO:-0600
TZNAME:America/Chicago CST
END:STANDARD
BEGIN:STANDARD
DTSTART:20281105T010000
RDATE:20290311T030000
TZOFFSETFROM:-0500
TZOFFSETTO:-0600
TZNAME:America/Chicago CST
END:STANDARD
BEGIN:DAYLIGHT
DTSTART:20210314T030000
RDATE:20211107T010000
TZOFFSETFROM:-0600
TZOFFSETTO:-0500
TZNAME:America/Chicago CDT
END:DAYLIGHT
BEGIN:DAYLIGHT
DTSTART:20220313T030000
RDATE:20221106T010000
TZOFFSETFROM:-0600
TZOFFSETTO:-0500
TZNAME:America/Chicago CDT
END:DAYLIGHT
BEGIN:DAYLIGHT
DTSTART:20230312T030000
RDATE:20231105T010000
TZOFFSETFROM:-0600
TZOFFSETTO:-0500
TZNAME:America/Chicago CDT
END:DAYLIGHT
BEGIN:DAYLIGHT
DTSTART:20240310T030000
RDATE:20241103T010000
TZOFFSETFROM:-0600
TZOFFSETTO:-0500
TZNAME:America/Chicago CDT
END:DAYLIGHT
BEGIN:DAYLIGHT
DTSTART:20250309T030000
RDATE:20251102T010000
TZOFFSETFROM:-0600
TZOFFSETTO:-0500
TZNAME:America/Chicago CDT
END:DAYLIGHT
BEGIN:DAYLIGHT
DTSTART:20260308T030000
RDATE:20261101T010000
TZOFFSETFROM:-0600
TZOFFSETTO:-0500
TZNAME:America/Chicago CDT
END:DAYLIGHT
BEGIN:DAYLIGHT
DTSTART:20270314T030000
RDATE:20271107T010000
TZOFFSETFROM:-0600
TZOFFSETTO:-0500
TZNAME:America/Chicago CDT
END:DAYLIGHT
BEGIN:DAYLIGHT
DTSTART:20280312T030000
RDATE:20281105T010000
TZOFFSETFROM:-0600
TZOFFSETTO:-0500
TZNAME:America/Chicago CDT
END:DAYLIGHT
END:VTIMEZONE
BEGIN:VEVENT
UID:9919adb8e94ff4af97a99b662f867846
CATEGORIES:5K
CREATED:20210519T045017
SUMMARY:13th Annual Reindeer Run
GEO:-93.48245239;37.12581635
LOCATION:JR Martin Park - 300 E. Hines\, Republic\, MO\, \, 
URL;VALUE=URI:https://beta.actnowracing.com/events/632/13th-annual-reindeer-run-geo-93-48
 245239-37-12581635?tmpl=component
DESCRIPTION:The 13th Annual Reindeer Run 5K will be held on Friday, December 3, 2021 at
  J.R. Martin Park in Republic. Registration must be received by Friday, Nov
 ember 19 for a guaranteed shirt!\nCLICK HERE for more information (https://
 www.republicmo.com/361/Reindeer-Run-5K)\nOnline registration will open Sept
 ember/October 2021.\n This event was imported from: https://beta.actnowraci
 ng.com/events/632/13th-annual-reindeer-run-geo-93-48245239-37-12581635?tmpl
 =component
X-ALT-DESC;FMTTYPE=text/html:<p>The 13th Annual Reindeer Run 5K will be held on Friday, December 3, 2021
  at J.R. Martin Park in Republic. Registration must be received by Friday, 
 November 19 for a guaranteed shirt!</p><p style="text-align: center;"><a hr
 ef="https://www.republicmo.com/361/Reindeer-Run-5K" target="_blank" rel="no
 opener">CLICK HERE for more information</a></p><p>Online registration will 
 open September/October 2021.</p> <a href="https://beta.actnowracing.com/eve
 nts/632/13th-annual-reindeer-run-geo-93-48245239-37-12581635?tmpl=component
 ">This event was imported from: https://beta.actnowracing.com/events/632/13
 th-annual-reindeer-run-geo-93-48245239-37-12581635?tmpl=component</a>DTSTAMP:20260423T143251
DTSTART;TZID=America/Chicago:20211203T190000
SEQUENCE:0
TRANSP:OPAQUE
END:VEVENT
END:VCALENDAR