BEGIN:VCALENDAR
VERSION:2.0
PRODID:-//jEvents 2.0 for Joomla//EN
CALSCALE:GREGORIAN
METHOD:PUBLISH
BEGIN:VTIMEZONE
TZID:America/Chicago
BEGIN:STANDARD
DTSTART:20201105T073000
RDATE:20210314T030000
TZOFFSETFROM:-0500
TZOFFSETTO:-0600
TZNAME:America/Chicago CST
END:STANDARD
BEGIN:STANDARD
DTSTART:20211107T010000
RDATE:20220313T030000
TZOFFSETFROM:-0500
TZOFFSETTO:-0600
TZNAME:America/Chicago CST
END:STANDARD
BEGIN:STANDARD
DTSTART:20221106T010000
RDATE:20230312T030000
TZOFFSETFROM:-0500
TZOFFSETTO:-0600
TZNAME:America/Chicago CST
END:STANDARD
BEGIN:STANDARD
DTSTART:20231105T010000
RDATE:20240310T030000
TZOFFSETFROM:-0500
TZOFFSETTO:-0600
TZNAME:America/Chicago CST
END:STANDARD
BEGIN:STANDARD
DTSTART:20241103T010000
RDATE:20250309T030000
TZOFFSETFROM:-0500
TZOFFSETTO:-0600
TZNAME:America/Chicago CST
END:STANDARD
BEGIN:STANDARD
DTSTART:20251102T010000
RDATE:20260308T030000
TZOFFSETFROM:-0500
TZOFFSETTO:-0600
TZNAME:America/Chicago CST
END:STANDARD
BEGIN:STANDARD
DTSTART:20261101T010000
RDATE:20270314T030000
TZOFFSETFROM:-0500
TZOFFSETTO:-0600
TZNAME:America/Chicago CST
END:STANDARD
BEGIN:STANDARD
DTSTART:20271107T010000
RDATE:20280312T030000
TZOFFSETFROM:-0500
TZOFFSETTO:-0600
TZNAME:America/Chicago CST
END:STANDARD
BEGIN:STANDARD
DTSTART:20281105T010000
RDATE:20290311T030000
TZOFFSETFROM:-0500
TZOFFSETTO:-0600
TZNAME:America/Chicago CST
END:STANDARD
BEGIN:DAYLIGHT
DTSTART:20210314T030000
RDATE:20211107T010000
TZOFFSETFROM:-0600
TZOFFSETTO:-0500
TZNAME:America/Chicago CDT
END:DAYLIGHT
BEGIN:DAYLIGHT
DTSTART:20220313T030000
RDATE:20221106T010000
TZOFFSETFROM:-0600
TZOFFSETTO:-0500
TZNAME:America/Chicago CDT
END:DAYLIGHT
BEGIN:DAYLIGHT
DTSTART:20230312T030000
RDATE:20231105T010000
TZOFFSETFROM:-0600
TZOFFSETTO:-0500
TZNAME:America/Chicago CDT
END:DAYLIGHT
BEGIN:DAYLIGHT
DTSTART:20240310T030000
RDATE:20241103T010000
TZOFFSETFROM:-0600
TZOFFSETTO:-0500
TZNAME:America/Chicago CDT
END:DAYLIGHT
BEGIN:DAYLIGHT
DTSTART:20250309T030000
RDATE:20251102T010000
TZOFFSETFROM:-0600
TZOFFSETTO:-0500
TZNAME:America/Chicago CDT
END:DAYLIGHT
BEGIN:DAYLIGHT
DTSTART:20260308T030000
RDATE:20261101T010000
TZOFFSETFROM:-0600
TZOFFSETTO:-0500
TZNAME:America/Chicago CDT
END:DAYLIGHT
BEGIN:DAYLIGHT
DTSTART:20270314T030000
RDATE:20271107T010000
TZOFFSETFROM:-0600
TZOFFSETTO:-0500
TZNAME:America/Chicago CDT
END:DAYLIGHT
BEGIN:DAYLIGHT
DTSTART:20280312T030000
RDATE:20281105T010000
TZOFFSETFROM:-0600
TZOFFSETTO:-0500
TZNAME:America/Chicago CDT
END:DAYLIGHT
END:VTIMEZONE
BEGIN:VEVENT
UID:fa3ca1a8ebbf4c5d2c1133ff72c90d1d
CATEGORIES:5K, 1 Mile
CREATED:20210726T051824
SUMMARY:Heroes 5K & 1 Mile
GEO:-93.43685913;37.3102417
LOCATION:Willard Community Center - 222 W. Jackson Street\, Willard\, MO\, \, 
URL;VALUE=URI:https://beta.actnowracing.com/events/652/heroes-5k-1-mile-geo-93-43685913-3
 7-3102417?tmpl=component
DESCRIPTION:<p>Join us this year for the 3rd Annual Heroes 5K &amp; 1 Mile Walk and Wag
  Dog Walk. We will be holding this in an effort to raise money for the Suns
 hine Brotherhood Charity. This event will be held on the same day as the Wi
 llard Veteran's Day Parade and is the perfect event for families and indivi
 duals who are looking to give back to our local heroes.</p><p>In 2015 the S
 unshine Brotherhood was started by Aaron and Linda Goddard. Aaron was a Res
 cue Specialist for the Springfield, Missouri Fire Department, eleven years 
 into his career he was diagnosed with Esophageal Cancer. He lost his battle
  to cancer after 2 1/2 years of courageous fighting in June 2015. While bat
 tling cancer Linda and Aaron created a foundation to help firefighters fina
 ncially during a crisis. A couple of times during their journey the Fire De
 partment did fundraisers and collected money for the Goddard family to help
  with medical costs. They were extremely touched by these financial gifts a
 nd decided they wanted to give something back. They discussed several times
  that they didn't know what families did if it was not a dual income househ
 old. A firefighter's income would not sustain a household during a time of 
 crisis. Linda took the money that was donated after Aaron's passing into th
 e Sunshine Brotherhood - Aaron Goddard Foundation.&nbsp;The Sunshine Brothe
 rhood raises money to “Love it Forward” to other Fire Department/First Resp
 onders individuals during times of crisis, along with an annual high school
  scholarship. To date we have given out over $10,000. Help us Love it Forwa
 rd to our First Responders by donating or participating in our annual 5K He
 roes’ Run held in Willard, Mo.</p> <a href="https://beta.actnowracing.com/e
 vents/652/heroes-5k-1-mile-geo-93-43685913-37-3102417?tmpl=component">This 
 event was imported from: https://beta.actnowracing.com/events/652/heroes-5k
 -1-mile-geo-93-43685913-37-3102417?tmpl=component</a>CONTACT:Anthony Perkins at RegularLabs.EmailProtector.unCloak("ep_9eeaa7d0");
DTSTAMP:20260425T031303
DTSTART;TZID=America/Chicago:20211106T083000
SEQUENCE:0
TRANSP:OPAQUE
END:VEVENT
END:VCALENDAR