BEGIN:VCALENDAR
VERSION:2.0
PRODID:-//jEvents 2.0 for Joomla//EN
CALSCALE:GREGORIAN
METHOD:PUBLISH
BEGIN:VTIMEZONE
TZID:America/Chicago
BEGIN:STANDARD
DTSTART:20210211T090000
RDATE:20210314T030000
TZOFFSETFROM:-0500
TZOFFSETTO:-0600
TZNAME:America/Chicago CST
END:STANDARD
BEGIN:STANDARD
DTSTART:20211107T010000
RDATE:20220313T030000
TZOFFSETFROM:-0500
TZOFFSETTO:-0600
TZNAME:America/Chicago CST
END:STANDARD
BEGIN:STANDARD
DTSTART:20221106T010000
RDATE:20230312T030000
TZOFFSETFROM:-0500
TZOFFSETTO:-0600
TZNAME:America/Chicago CST
END:STANDARD
BEGIN:STANDARD
DTSTART:20231105T010000
RDATE:20240310T030000
TZOFFSETFROM:-0500
TZOFFSETTO:-0600
TZNAME:America/Chicago CST
END:STANDARD
BEGIN:STANDARD
DTSTART:20241103T010000
RDATE:20250309T030000
TZOFFSETFROM:-0500
TZOFFSETTO:-0600
TZNAME:America/Chicago CST
END:STANDARD
BEGIN:STANDARD
DTSTART:20251102T010000
RDATE:20260308T030000
TZOFFSETFROM:-0500
TZOFFSETTO:-0600
TZNAME:America/Chicago CST
END:STANDARD
BEGIN:STANDARD
DTSTART:20261101T010000
RDATE:20270314T030000
TZOFFSETFROM:-0500
TZOFFSETTO:-0600
TZNAME:America/Chicago CST
END:STANDARD
BEGIN:STANDARD
DTSTART:20271107T010000
RDATE:20280312T030000
TZOFFSETFROM:-0500
TZOFFSETTO:-0600
TZNAME:America/Chicago CST
END:STANDARD
BEGIN:STANDARD
DTSTART:20281105T010000
RDATE:20290311T030000
TZOFFSETFROM:-0500
TZOFFSETTO:-0600
TZNAME:America/Chicago CST
END:STANDARD
BEGIN:DAYLIGHT
DTSTART:20210314T030000
RDATE:20211107T010000
TZOFFSETFROM:-0600
TZOFFSETTO:-0500
TZNAME:America/Chicago CDT
END:DAYLIGHT
BEGIN:DAYLIGHT
DTSTART:20220313T030000
RDATE:20221106T010000
TZOFFSETFROM:-0600
TZOFFSETTO:-0500
TZNAME:America/Chicago CDT
END:DAYLIGHT
BEGIN:DAYLIGHT
DTSTART:20230312T030000
RDATE:20231105T010000
TZOFFSETFROM:-0600
TZOFFSETTO:-0500
TZNAME:America/Chicago CDT
END:DAYLIGHT
BEGIN:DAYLIGHT
DTSTART:20240310T030000
RDATE:20241103T010000
TZOFFSETFROM:-0600
TZOFFSETTO:-0500
TZNAME:America/Chicago CDT
END:DAYLIGHT
BEGIN:DAYLIGHT
DTSTART:20250309T030000
RDATE:20251102T010000
TZOFFSETFROM:-0600
TZOFFSETTO:-0500
TZNAME:America/Chicago CDT
END:DAYLIGHT
BEGIN:DAYLIGHT
DTSTART:20260308T030000
RDATE:20261101T010000
TZOFFSETFROM:-0600
TZOFFSETTO:-0500
TZNAME:America/Chicago CDT
END:DAYLIGHT
BEGIN:DAYLIGHT
DTSTART:20270314T030000
RDATE:20271107T010000
TZOFFSETFROM:-0600
TZOFFSETTO:-0500
TZNAME:America/Chicago CDT
END:DAYLIGHT
BEGIN:DAYLIGHT
DTSTART:20280312T030000
RDATE:20281105T010000
TZOFFSETFROM:-0600
TZOFFSETTO:-0500
TZNAME:America/Chicago CDT
END:DAYLIGHT
END:VTIMEZONE
BEGIN:VEVENT
UID:3341aa3f7e868ea5e1d76a99b3dc15c1
CATEGORIES:5K, 10K, Other
CREATED:20210825T154358
SUMMARY:7th Annual Cabin Fever 5K, 10K & 20K
GEO:-93.11701965;37.12440491
LOCATION:Rogersville High School - 4700 S. State Hwy 125\, Rogersville\, MO\, 65742\
 , 
URL;VALUE=URI:https://beta.actnowracing.com/events/665/7th-annual-cabin-fever-5k-10k-20k-
 geo-93-11701965-37-12440491?tmpl=component
DESCRIPTION:Join us at the 7th Annual Cabin Fever Reliever 5K, 10K &amp; 20K.  The 20K 
 opens up the field to make and break state records in Missouri.  The course
  is USTAF Certified in Rogersville, MO and includes great scenery and a cou
 ple of rolling hills.  This is a perfect chance to test your endurance and 
 compete for a state record and automatic PR for any first-time 20K-ers.\nTH
 IS RACE BENEFITS - GATHERING FRIENDS\nGathering Friends is in need of: slee
 ping bags, tarps, tents, winter coats, socks, gloves and “hot hands”.\nBrin
 g your items to packet pickup or race morning to be donated.\nONLINE REGIST
 RATION WILL CLOSE FEBRUARY 10TH AT NOON. \n This event was imported from: h
 ttps://beta.actnowracing.com/events/665/7th-annual-cabin-fever-5k-10k-20k-g
 eo-93-11701965-37-12440491?tmpl=component
X-ALT-DESC;FMTTYPE=text/html:<p>Join us at the 7th Annual Cabin Fever Reliever 5K, 10K &amp; 20K. &nbsp;
 The 20K opens up the field to make and break state records in Missouri. &nb
 sp;The course is USTAF Certified in Rogersville, MO and includes great scen
 ery and a couple of rolling hills. &nbsp;This is a perfect chance to test y
 our endurance and compete for a state record and automatic PR for any first
 -time 20K-ers.</p><p>THIS RACE BENEFITS - GATHERING FRIENDS<br />Gathering 
 Friends is in need of: sleeping bags, tarps, tents, winter coats, socks, gl
 oves and “hot hands”.<br />Bring your items to packet pickup or race mornin
 g to be donated.</p><p>ONLINE REGISTRATION WILL CLOSE FEBRUARY 10TH AT NOON
 .&nbsp;</p> <a href="https://beta.actnowracing.com/events/665/7th-annual-ca
 bin-fever-5k-10k-20k-geo-93-11701965-37-12440491?tmpl=component">This event
  was imported from: https://beta.actnowracing.com/events/665/7th-annual-cab
 in-fever-5k-10k-20k-geo-93-11701965-37-12440491?tmpl=component</a>CONTACT:Sarah Metz at RegularLabs.EmailProtector.unCloak("ep_b584e87d");
DTSTAMP:20260423T143254
DTSTART;TZID=America/Chicago:20220212T090000
DTEND;TZID=America/Chicago:20220212T120000
SEQUENCE:0
TRANSP:OPAQUE
END:VEVENT
END:VCALENDAR