BEGIN:VCALENDAR
VERSION:2.0
PRODID:-//jEvents 2.0 for Joomla//EN
CALSCALE:GREGORIAN
METHOD:PUBLISH
BEGIN:VTIMEZONE
TZID:America/Chicago
BEGIN:STANDARD
DTSTART:20211216T091500
RDATE:20220313T030000
TZOFFSETFROM:-0500
TZOFFSETTO:-0600
TZNAME:America/Chicago CST
END:STANDARD
BEGIN:STANDARD
DTSTART:20221106T010000
RDATE:20230312T030000
TZOFFSETFROM:-0500
TZOFFSETTO:-0600
TZNAME:America/Chicago CST
END:STANDARD
BEGIN:STANDARD
DTSTART:20231105T010000
RDATE:20240310T030000
TZOFFSETFROM:-0500
TZOFFSETTO:-0600
TZNAME:America/Chicago CST
END:STANDARD
BEGIN:STANDARD
DTSTART:20241103T010000
RDATE:20250309T030000
TZOFFSETFROM:-0500
TZOFFSETTO:-0600
TZNAME:America/Chicago CST
END:STANDARD
BEGIN:STANDARD
DTSTART:20251102T010000
RDATE:20260308T030000
TZOFFSETFROM:-0500
TZOFFSETTO:-0600
TZNAME:America/Chicago CST
END:STANDARD
BEGIN:STANDARD
DTSTART:20261101T010000
RDATE:20270314T030000
TZOFFSETFROM:-0500
TZOFFSETTO:-0600
TZNAME:America/Chicago CST
END:STANDARD
BEGIN:STANDARD
DTSTART:20271107T010000
RDATE:20280312T030000
TZOFFSETFROM:-0500
TZOFFSETTO:-0600
TZNAME:America/Chicago CST
END:STANDARD
BEGIN:STANDARD
DTSTART:20281105T010000
RDATE:20290311T030000
TZOFFSETFROM:-0500
TZOFFSETTO:-0600
TZNAME:America/Chicago CST
END:STANDARD
BEGIN:DAYLIGHT
DTSTART:20220313T030000
RDATE:20221106T010000
TZOFFSETFROM:-0600
TZOFFSETTO:-0500
TZNAME:America/Chicago CDT
END:DAYLIGHT
BEGIN:DAYLIGHT
DTSTART:20230312T030000
RDATE:20231105T010000
TZOFFSETFROM:-0600
TZOFFSETTO:-0500
TZNAME:America/Chicago CDT
END:DAYLIGHT
BEGIN:DAYLIGHT
DTSTART:20240310T030000
RDATE:20241103T010000
TZOFFSETFROM:-0600
TZOFFSETTO:-0500
TZNAME:America/Chicago CDT
END:DAYLIGHT
BEGIN:DAYLIGHT
DTSTART:20250309T030000
RDATE:20251102T010000
TZOFFSETFROM:-0600
TZOFFSETTO:-0500
TZNAME:America/Chicago CDT
END:DAYLIGHT
BEGIN:DAYLIGHT
DTSTART:20260308T030000
RDATE:20261101T010000
TZOFFSETFROM:-0600
TZOFFSETTO:-0500
TZNAME:America/Chicago CDT
END:DAYLIGHT
BEGIN:DAYLIGHT
DTSTART:20270314T030000
RDATE:20271107T010000
TZOFFSETFROM:-0600
TZOFFSETTO:-0500
TZNAME:America/Chicago CDT
END:DAYLIGHT
BEGIN:DAYLIGHT
DTSTART:20280312T030000
RDATE:20281105T010000
TZOFFSETFROM:-0600
TZOFFSETTO:-0500
TZNAME:America/Chicago CDT
END:DAYLIGHT
END:VTIMEZONE
BEGIN:VEVENT
UID:23ff2ecc712d70bbcc80e3ac610f2f86
CATEGORIES:1 Mile, Half Marathon, Marathon, 6 Hour, Relay
CREATED:20210826T054917
SUMMARY:23rd Annual Run for the Ranch
GEO:-93.0845871;37.11590195
LOCATION:Jamestown Plaza Area - 203 Jamestown Boulevard\,\, Rogersville\, MO\, 65742
 \, 
URL;VALUE=URI:https://beta.actnowracing.com/events/667/23rd-annual-run-for-the-ranch-geo-
 93-0845871-37-11590195?tmpl=component
DESCRIPTION:Events: 1 Miler, Half Marathon, Full Marathon, 4 Person Marathon Relay, 6 H
 our Run.\nBenefiting: Proceeds benefit the Good Samaritan Boys Ranch and th
 e Ozark Mountain Ridge Runners.\nONLINE REGISTRATION WILL CLOSE THURSDAY, D
 ECEMBER 15TH AT 12PM. \nNO RACE DAY REGISTRATION.\n This event was imported
  from: https://beta.actnowracing.com/events/667/23rd-annual-run-for-the-ran
 ch-geo-93-0845871-37-11590195?tmpl=component
X-ALT-DESC;FMTTYPE=text/html:<p><strong>Events:</strong> 1 Miler, Half Marathon, Full Marathon, 4 Person
  Marathon Relay, 6 Hour Run.</p><p><strong>Benefiting:</strong> Proceeds be
 nefit the Good Samaritan Boys Ranch and the Ozark Mountain Ridge Runners.</
 p><p><span style="text-decoration: underline;"><strong>ONLINE REGISTRATION 
 WILL CLOSE THURSDAY, DECEMBER 15TH AT 12PM. </strong></span></p><p><span st
 yle="text-decoration: underline;"><strong>NO RACE DAY REGISTRATION.</strong
 ></span></p> <a href="https://beta.actnowracing.com/events/667/23rd-annual-
 run-for-the-ranch-geo-93-0845871-37-11590195?tmpl=component">This event was
  imported from: https://beta.actnowracing.com/events/667/23rd-annual-run-fo
 r-the-ranch-geo-93-0845871-37-11590195?tmpl=component</a>CONTACT:John Everett at RegularLabs.EmailProtector.unCloak("ep_2d551b0c");
DTSTAMP:20260423T155942
DTSTART;TZID=America/Chicago:20221217T091500
SEQUENCE:0
TRANSP:OPAQUE
END:VEVENT
END:VCALENDAR