BEGIN:VCALENDAR
VERSION:2.0
PRODID:-//jEvents 2.0 for Joomla//EN
CALSCALE:GREGORIAN
METHOD:PUBLISH
BEGIN:VTIMEZONE
TZID:America/Chicago
BEGIN:STANDARD
DTSTART:20131103T010000
RDATE:20140309T030000
TZOFFSETFROM:-0500
TZOFFSETTO:-0600
TZNAME:America/Chicago CST
END:STANDARD
BEGIN:STANDARD
DTSTART:20141102T010000
RDATE:20150308T030000
TZOFFSETFROM:-0500
TZOFFSETTO:-0600
TZNAME:America/Chicago CST
END:STANDARD
BEGIN:STANDARD
DTSTART:20151101T010000
RDATE:20160313T030000
TZOFFSETFROM:-0500
TZOFFSETTO:-0600
TZNAME:America/Chicago CST
END:STANDARD
BEGIN:STANDARD
DTSTART:20161106T010000
RDATE:20170312T030000
TZOFFSETFROM:-0500
TZOFFSETTO:-0600
TZNAME:America/Chicago CST
END:STANDARD
BEGIN:STANDARD
DTSTART:20171105T010000
RDATE:20180311T030000
TZOFFSETFROM:-0500
TZOFFSETTO:-0600
TZNAME:America/Chicago CST
END:STANDARD
BEGIN:STANDARD
DTSTART:20181104T010000
RDATE:20190310T030000
TZOFFSETFROM:-0500
TZOFFSETTO:-0600
TZNAME:America/Chicago CST
END:STANDARD
BEGIN:STANDARD
DTSTART:20191103T010000
RDATE:20200308T030000
TZOFFSETFROM:-0500
TZOFFSETTO:-0600
TZNAME:America/Chicago CST
END:STANDARD
BEGIN:STANDARD
DTSTART:20201101T010000
RDATE:20210314T030000
TZOFFSETFROM:-0500
TZOFFSETTO:-0600
TZNAME:America/Chicago CST
END:STANDARD
BEGIN:STANDARD
DTSTART:20211107T010000
RDATE:20220313T030000
TZOFFSETFROM:-0500
TZOFFSETTO:-0600
TZNAME:America/Chicago CST
END:STANDARD
BEGIN:STANDARD
DTSTART:20221106T010000
RDATE:20230312T030000
TZOFFSETFROM:-0500
TZOFFSETTO:-0600
TZNAME:America/Chicago CST
END:STANDARD
BEGIN:STANDARD
DTSTART:20231105T010000
RDATE:20240310T030000
TZOFFSETFROM:-0500
TZOFFSETTO:-0600
TZNAME:America/Chicago CST
END:STANDARD
BEGIN:STANDARD
DTSTART:20241103T010000
RDATE:20250309T030000
TZOFFSETFROM:-0500
TZOFFSETTO:-0600
TZNAME:America/Chicago CST
END:STANDARD
BEGIN:STANDARD
DTSTART:20251102T010000
RDATE:20260308T030000
TZOFFSETFROM:-0500
TZOFFSETTO:-0600
TZNAME:America/Chicago CST
END:STANDARD
BEGIN:STANDARD
DTSTART:20261101T010000
RDATE:20270314T030000
TZOFFSETFROM:-0500
TZOFFSETTO:-0600
TZNAME:America/Chicago CST
END:STANDARD
BEGIN:STANDARD
DTSTART:20271107T010000
RDATE:20280312T030000
TZOFFSETFROM:-0500
TZOFFSETTO:-0600
TZNAME:America/Chicago CST
END:STANDARD
BEGIN:STANDARD
DTSTART:20281105T010000
RDATE:20290311T030000
TZOFFSETFROM:-0500
TZOFFSETTO:-0600
TZNAME:America/Chicago CST
END:STANDARD
BEGIN:DAYLIGHT
DTSTART:20130919T090000
RDATE:20131103T010000
TZOFFSETFROM:-0600
TZOFFSETTO:-0500
TZNAME:America/Chicago CDT
END:DAYLIGHT
BEGIN:DAYLIGHT
DTSTART:20140309T030000
RDATE:20141102T010000
TZOFFSETFROM:-0600
TZOFFSETTO:-0500
TZNAME:America/Chicago CDT
END:DAYLIGHT
BEGIN:DAYLIGHT
DTSTART:20150308T030000
RDATE:20151101T010000
TZOFFSETFROM:-0600
TZOFFSETTO:-0500
TZNAME:America/Chicago CDT
END:DAYLIGHT
BEGIN:DAYLIGHT
DTSTART:20160313T030000
RDATE:20161106T010000
TZOFFSETFROM:-0600
TZOFFSETTO:-0500
TZNAME:America/Chicago CDT
END:DAYLIGHT
BEGIN:DAYLIGHT
DTSTART:20170312T030000
RDATE:20171105T010000
TZOFFSETFROM:-0600
TZOFFSETTO:-0500
TZNAME:America/Chicago CDT
END:DAYLIGHT
BEGIN:DAYLIGHT
DTSTART:20180311T030000
RDATE:20181104T010000
TZOFFSETFROM:-0600
TZOFFSETTO:-0500
TZNAME:America/Chicago CDT
END:DAYLIGHT
BEGIN:DAYLIGHT
DTSTART:20190310T030000
RDATE:20191103T010000
TZOFFSETFROM:-0600
TZOFFSETTO:-0500
TZNAME:America/Chicago CDT
END:DAYLIGHT
BEGIN:DAYLIGHT
DTSTART:20200308T030000
RDATE:20201101T010000
TZOFFSETFROM:-0600
TZOFFSETTO:-0500
TZNAME:America/Chicago CDT
END:DAYLIGHT
BEGIN:DAYLIGHT
DTSTART:20210314T030000
RDATE:20211107T010000
TZOFFSETFROM:-0600
TZOFFSETTO:-0500
TZNAME:America/Chicago CDT
END:DAYLIGHT
BEGIN:DAYLIGHT
DTSTART:20220313T030000
RDATE:20221106T010000
TZOFFSETFROM:-0600
TZOFFSETTO:-0500
TZNAME:America/Chicago CDT
END:DAYLIGHT
BEGIN:DAYLIGHT
DTSTART:20230312T030000
RDATE:20231105T010000
TZOFFSETFROM:-0600
TZOFFSETTO:-0500
TZNAME:America/Chicago CDT
END:DAYLIGHT
BEGIN:DAYLIGHT
DTSTART:20240310T030000
RDATE:20241103T010000
TZOFFSETFROM:-0600
TZOFFSETTO:-0500
TZNAME:America/Chicago CDT
END:DAYLIGHT
BEGIN:DAYLIGHT
DTSTART:20250309T030000
RDATE:20251102T010000
TZOFFSETFROM:-0600
TZOFFSETTO:-0500
TZNAME:America/Chicago CDT
END:DAYLIGHT
BEGIN:DAYLIGHT
DTSTART:20260308T030000
RDATE:20261101T010000
TZOFFSETFROM:-0600
TZOFFSETTO:-0500
TZNAME:America/Chicago CDT
END:DAYLIGHT
BEGIN:DAYLIGHT
DTSTART:20270314T030000
RDATE:20271107T010000
TZOFFSETFROM:-0600
TZOFFSETTO:-0500
TZNAME:America/Chicago CDT
END:DAYLIGHT
BEGIN:DAYLIGHT
DTSTART:20280312T030000
RDATE:20281105T010000
TZOFFSETFROM:-0600
TZOFFSETTO:-0500
TZNAME:America/Chicago CDT
END:DAYLIGHT
END:VTIMEZONE
BEGIN:VEVENT
UID:15da09933e4fa8c0e0eac6fbdece9d2b
CATEGORIES:5K
CREATED:20140706T093501
SUMMARY:Convoy of Hope - Run to feedONE
GEO:-93.29359436;37.2282486
LOCATION:Convoy of Hope - 1660 North Campbell\, Springfield\, MO\, \, 
URL;VALUE=URI:https://beta.actnowracing.com/events/68/convoy-of-hope-run-to-feedone-geo-9
 3-29359436-37-2282486?tmpl=component
DESCRIPTION:<p style="text-align: center;"><iframe src="//player.vimeo.com/video/810263
 19?color=ebaa5b&amp;portrait=0&amp;title=0&amp;byline=0" width="400" height
 ="225" style="vertical-align: middle;"></iframe></p><p>The Run to feedONE 5
 K and WALK is a one of a kind experience that is more about experiencing th
 e culture of the world Convoy of Hope serves than it is about winning. This
  event is for families and people of varying athletic ability. If you want 
 to walk, WALK. If you want to run, run with all your might. We want to incl
 ude everyone.</p><p>What will I get for running to feedONE?</p><p>All Paid 
 Participants will receive a shirt, race bib, timing chip, and the satisfact
 ion of knowing that you are helping to feed kids around the world! ALSO, st
 ay after the run for a celebration, complete with FREE food, KidZone (with 
 bounce attractions).</p><p>Raise $120 and you will receive a special long s
 leeve tech shirt telling everyone YOU helped to feedONE child in 2014.</p><
 p>Questions? Email us @ <!-- This email address is being protected from spa
 mbots. --><a href="javascript:/* This email address is being protected from
  spambots.*/"><span class="cloaked_email ep_33105ef5"><span data-ep-a="r&#1
 17;&#110;n&#105;n" data-ep-b="&#46;o&#114;g"><span data-ep-a="&#103;&#119;&
 #105;&#116;hc" data-ep-b="o&#102;h&#111;&#112;e"><span data-ep-a="&#111;&#1
 10;&#118;&#111;&#121;&#64;" data-ep-b="c&#111;&#110;v&#111;y"></span></span
 ></span></span><script>RegularLabs.EmailProtector.unCloak("ep_33105ef5");</
 script><span class="cloaked_email ep_d22b2096" style="display:none;"><span 
 data-ep-a="&#114;&#117;&#110;&#110;&#105;&#110;" data-ep-b="&#46;&#111;&#11
 4;&#103;"><span data-ep-b="&#111;f&#104;&#111;p&#101;" data-ep-a="&#103;&#1
 19;&#105;&#116;&#104;&#99;"><span data-ep-a="&#111;&#110;&#118;&#111;y&#64;
 " data-ep-b="c&#111;n&#118;o&#121;"></span></span></span></span></a><script
 >RegularLabs.EmailProtector.unCloak("ep_d22b2096", true);</script></p><tabl
 e style="width: 541px;"><tbody><tr><td><strong>Benefiting:</strong></td><td
 >Convoy of Hope</td></tr><tr><td><strong>Race Start Time:</strong></td><td>
 9AM</td></tr><tr><td><strong>Registration Start Time:</strong></td><td>7AM 
 to 8:45AM</td></tr><tr><td><strong>Entry Fee:</strong></td><td><p>Adult Reg
 istration: $25.00<br />$25 Until 8/20. $30 Until 9/19. $35 on day of event<
 /p><p>Youth Registration- (Ages 8-17): $15.00<br />$15 Until 8/20. $20 Unti
 l 9/19. $25 on day of event</p><p>Under 8: No Fees<br />Child Registration 
 UNDER 8 (FREE) For Full Participation (including shirt), register as Youth<
 /p></td></tr><tr><td><p><strong>Packet Pick Up &amp;&nbsp;</strong><strong>
 PreEvent Party:</strong></p></td><td><p>Incrediable Pizza&nbsp;<span style=
 "color: #333333; font-family: helvetica, arial, sans-serif; font-size: 12px
 ; line-height: 15.600000381469727px; background-color: #565a5c;"><br /></sp
 an></p><p>Friday, September 19th from 3PM to 8PM</p></td></tr><tr><td><stro
 ng>Awards:</strong></td><td><p>Awards will be presented to Top Overall Male
  and Female Winners, top 3 of each age group by gender.<br />Age groups: 0-
 9, 10-14, 15-29 20-24, 25-29, 30-34, 35-39, 40-44, 45-49, 50-54, 55-59, 60+
  and Top Overall Masters Male and Female.</p></td></tr><tr><td><strong>T-Sh
 irts:</strong></td><td>Performance/Tech Shirt</td></tr></tbody></table><p s
 tyle="text-align: center;"><a href="http://www.usatf.org/routes/view.asp?rI
 D=522382">Run to feedOne Route</a></p> <a href="https://beta.actnowracing.c
 om/events/68/convoy-of-hope-run-to-feedone-geo-93-29359436-37-2282486?tmpl=
 component">This event was imported from: https://beta.actnowracing.com/even
 ts/68/convoy-of-hope-run-to-feedone-geo-93-29359436-37-2282486?tmpl=compone
 nt</a>
X-ALT-DESC;FMTTYPE=text/html:<p style="text-align: center;"><iframe src="https://beta.actnowracing.com//
 player.vimeo.com/video/81026319?color=ebaa5b&amp;portrait=0&amp;title=0&amp
 ;byline=0" width="400" height="225" style="vertical-align: middle;"></ifram
 e></p><p>The Run to feedONE 5K and WALK is a one of a kind experience that 
 is more about experiencing the culture of the world Convoy of Hope serves t
 han it is about winning. This event is for families and people of varying a
 thletic ability. If you want to walk, WALK. If you want to run, run with al
 l your might. We want to include everyone.</p><p>What will I get for runnin
 g to feedONE?</p><p>All Paid Participants will receive a shirt, race bib, t
 iming chip, and the satisfaction of knowing that you are helping to feed ki
 ds around the world! ALSO, stay after the run for a celebration, complete w
 ith FREE food, KidZone (with bounce attractions).</p><p>Raise $120 and you 
 will receive a special long sleeve tech shirt telling everyone YOU helped t
 o feedONE child in 2014.</p><p>Questions? Email us @ <!-- This email addres
 s is being protected from spambots. --><a href="https://beta.actnowracing.c
 om/javascript:/* This email address is being protected from spambots.*/"><s
 pan class="cloaked_email ep_33105ef5"><span data-ep-a="r&#117;&#110;n&#105;
 n" data-ep-b="&#46;o&#114;g"><span data-ep-a="&#103;&#119;&#105;&#116;hc" d
 ata-ep-b="o&#102;h&#111;&#112;e"><span data-ep-a="&#111;&#110;&#118;&#111;&
 #121;&#64;" data-ep-b="c&#111;&#110;v&#111;y"></span></span></span></span><
 script>RegularLabs.EmailProtector.unCloak("ep_33105ef5");</script><span cla
 ss="cloaked_email ep_d22b2096" style="display:none;"><span data-ep-a="&#114
 ;&#117;&#110;&#110;&#105;&#110;" data-ep-b="&#46;&#111;&#114;&#103;"><span 
 data-ep-b="&#111;f&#104;&#111;p&#101;" data-ep-a="&#103;&#119;&#105;&#116;&
 #104;&#99;"><span data-ep-a="&#111;&#110;&#118;&#111;y&#64;" data-ep-b="c&#
 111;n&#118;o&#121;"></span></span></span></span></a><script>RegularLabs.Ema
 ilProtector.unCloak("ep_d22b2096", true);</script></p><table style="width: 
 541px;"><tbody><tr><td><strong>Benefiting:</strong></td><td>Convoy of Hope<
 /td></tr><tr><td><strong>Race Start Time:</strong></td><td>9AM</td></tr><tr
 ><td><strong>Registration Start Time:</strong></td><td>7AM to 8:45AM</td></
 tr><tr><td><strong>Entry Fee:</strong></td><td><p>Adult Registration: $25.0
 0<br />$25 Until 8/20. $30 Until 9/19. $35 on day of event</p><p>Youth Regi
 stration- (Ages 8-17): $15.00<br />$15 Until 8/20. $20 Until 9/19. $25 on d
 ay of event</p><p>Under 8: No Fees<br />Child Registration UNDER 8 (FREE) F
 or Full Participation (including shirt), register as Youth</p></td></tr><tr
 ><td><p><strong>Packet Pick Up &amp;&nbsp;</strong><strong>PreEvent Party:<
 /strong></p></td><td><p>Incrediable Pizza&nbsp;<span style="color: #333333;
  font-family: helvetica, arial, sans-serif; font-size: 12px; line-height: 1
 5.600000381469727px; background-color: #565a5c;"><br /></span></p><p>Friday
 , September 19th from 3PM to 8PM</p></td></tr><tr><td><strong>Awards:</stro
 ng></td><td><p>Awards will be presented to Top Overall Male and Female Winn
 ers, top 3 of each age group by gender.<br />Age groups: 0-9, 10-14, 15-29 
 20-24, 25-29, 30-34, 35-39, 40-44, 45-49, 50-54, 55-59, 60+ and Top Overall
  Masters Male and Female.</p></td></tr><tr><td><strong>T-Shirts:</strong></
 td><td>Performance/Tech Shirt</td></tr></tbody></table><p style="text-align
 : center;"><a href="http://www.usatf.org/routes/view.asp?rID=522382">Run to
  feedOne Route</a></p> <a href="https://beta.actnowracing.com/events/68/con
 voy-of-hope-run-to-feedone-geo-93-29359436-37-2282486?tmpl=component">This 
 event was imported from: https://beta.actnowracing.com/events/68/convoy-of-
 hope-run-to-feedone-geo-93-29359436-37-2282486?tmpl=component</a>DTSTAMP:20260423T033655
DTSTART;TZID=America/Chicago:20140920T090000
SEQUENCE:0
TRANSP:OPAQUE
END:VEVENT
END:VCALENDAR