BEGIN:VCALENDAR
VERSION:2.0
PRODID:-//jEvents 2.0 for Joomla//EN
CALSCALE:GREGORIAN
METHOD:PUBLISH
BEGIN:VTIMEZONE
TZID:America/Chicago
BEGIN:STANDARD
DTSTART:20211107T010000
RDATE:20220313T030000
TZOFFSETFROM:-0500
TZOFFSETTO:-0600
TZNAME:America/Chicago CST
END:STANDARD
BEGIN:STANDARD
DTSTART:20221106T010000
RDATE:20230312T030000
TZOFFSETFROM:-0500
TZOFFSETTO:-0600
TZNAME:America/Chicago CST
END:STANDARD
BEGIN:STANDARD
DTSTART:20231105T010000
RDATE:20240310T030000
TZOFFSETFROM:-0500
TZOFFSETTO:-0600
TZNAME:America/Chicago CST
END:STANDARD
BEGIN:STANDARD
DTSTART:20241103T010000
RDATE:20250309T030000
TZOFFSETFROM:-0500
TZOFFSETTO:-0600
TZNAME:America/Chicago CST
END:STANDARD
BEGIN:STANDARD
DTSTART:20251102T010000
RDATE:20260308T030000
TZOFFSETFROM:-0500
TZOFFSETTO:-0600
TZNAME:America/Chicago CST
END:STANDARD
BEGIN:STANDARD
DTSTART:20261101T010000
RDATE:20270314T030000
TZOFFSETFROM:-0500
TZOFFSETTO:-0600
TZNAME:America/Chicago CST
END:STANDARD
BEGIN:STANDARD
DTSTART:20271107T010000
RDATE:20280312T030000
TZOFFSETFROM:-0500
TZOFFSETTO:-0600
TZNAME:America/Chicago CST
END:STANDARD
BEGIN:STANDARD
DTSTART:20281105T010000
RDATE:20290311T030000
TZOFFSETFROM:-0500
TZOFFSETTO:-0600
TZNAME:America/Chicago CST
END:STANDARD
BEGIN:DAYLIGHT
DTSTART:20210930T081500
RDATE:20211107T010000
TZOFFSETFROM:-0600
TZOFFSETTO:-0500
TZNAME:America/Chicago CDT
END:DAYLIGHT
BEGIN:DAYLIGHT
DTSTART:20220313T030000
RDATE:20221106T010000
TZOFFSETFROM:-0600
TZOFFSETTO:-0500
TZNAME:America/Chicago CDT
END:DAYLIGHT
BEGIN:DAYLIGHT
DTSTART:20230312T030000
RDATE:20231105T010000
TZOFFSETFROM:-0600
TZOFFSETTO:-0500
TZNAME:America/Chicago CDT
END:DAYLIGHT
BEGIN:DAYLIGHT
DTSTART:20240310T030000
RDATE:20241103T010000
TZOFFSETFROM:-0600
TZOFFSETTO:-0500
TZNAME:America/Chicago CDT
END:DAYLIGHT
BEGIN:DAYLIGHT
DTSTART:20250309T030000
RDATE:20251102T010000
TZOFFSETFROM:-0600
TZOFFSETTO:-0500
TZNAME:America/Chicago CDT
END:DAYLIGHT
BEGIN:DAYLIGHT
DTSTART:20260308T030000
RDATE:20261101T010000
TZOFFSETFROM:-0600
TZOFFSETTO:-0500
TZNAME:America/Chicago CDT
END:DAYLIGHT
BEGIN:DAYLIGHT
DTSTART:20270314T030000
RDATE:20271107T010000
TZOFFSETFROM:-0600
TZOFFSETTO:-0500
TZNAME:America/Chicago CDT
END:DAYLIGHT
BEGIN:DAYLIGHT
DTSTART:20280312T030000
RDATE:20281105T010000
TZOFFSETFROM:-0600
TZOFFSETTO:-0500
TZNAME:America/Chicago CDT
END:DAYLIGHT
END:VTIMEZONE
BEGIN:VEVENT
UID:6b017f060c5741f05ad219f907dd97cc
CATEGORIES:5K, Trail Run, Other
CREATED:20210928T170240
SUMMARY:SweatFest - Dirt 66 5K & 25K
GEO:-93.20362854;37.31964111
LOCATION:Fellows Lake Marina - 4200 E Farm Rd 66 (NEW Trail Head near dam)\, Springf
 ield\, MO\, \, 
URL;VALUE=URI:https://beta.actnowracing.com/events/685/sweatfest-dirt-66-5k-25k-geo-93-20
 362854-37-31964111?tmpl=component
DESCRIPTION:TIME CHANGE - due to unforeseen circumstances, we have to push the race sta
 rt time back.  The 25K will be starting at 8:15am and the 5K at 8:30am.  So
 rry for the inconvenience. \nJoin us for the 2nd Annual SweatFest - Dirt 66
 , hosted by the Ozark Mountain Ridge Runners. \nONLINE REGISTRATION WILL BE
  CLOSING ON THURSDAY AT NOON.  You will still be able to register at packet
  pickup on Friday or on race day. \n This event was imported from: https://
 beta.actnowracing.com/events/685/sweatfest-dirt-66-5k-25k-geo-93-20362854-3
 7-31964111?tmpl=component
X-ALT-DESC;FMTTYPE=text/html:<p><strong>TIME CHANGE</strong> - due to unforeseen circumstances, we have 
 to push the race start time back.  The 25K will be starting at 8:15am and t
 he 5K at 8:30am.  Sorry for the inconvenience. </p><p>Join us for the 2nd A
 nnual SweatFest - Dirt 66, hosted by the Ozark Mountain Ridge Runners. </p>
 <p style="text-align: center;"><strong>ONLINE REGISTRATION WILL BE CLOSING 
 ON THURSDAY AT NOON.  You will still be able to register at packet pickup o
 n Friday or on race day. </strong></p> <a href="https://beta.actnowracing.c
 om/events/685/sweatfest-dirt-66-5k-25k-geo-93-20362854-37-31964111?tmpl=com
 ponent">This event was imported from: https://beta.actnowracing.com/events/
 685/sweatfest-dirt-66-5k-25k-geo-93-20362854-37-31964111?tmpl=component</a>CONTACT:RegularLabs.EmailProtector.unCloak("ep_0c26f0b9");
DTSTAMP:20260424T215020
DTSTART;TZID=America/Chicago:20221001T081500
SEQUENCE:0
TRANSP:OPAQUE
END:VEVENT
END:VCALENDAR