BEGIN:VCALENDAR
VERSION:2.0
PRODID:-//jEvents 2.0 for Joomla//EN
CALSCALE:GREGORIAN
METHOD:PUBLISH
BEGIN:VTIMEZONE
TZID:America/Chicago
BEGIN:STANDARD
DTSTART:20201124T080000
RDATE:20210314T030000
TZOFFSETFROM:-0500
TZOFFSETTO:-0600
TZNAME:America/Chicago CST
END:STANDARD
BEGIN:STANDARD
DTSTART:20211107T010000
RDATE:20220313T030000
TZOFFSETFROM:-0500
TZOFFSETTO:-0600
TZNAME:America/Chicago CST
END:STANDARD
BEGIN:STANDARD
DTSTART:20221106T010000
RDATE:20230312T030000
TZOFFSETFROM:-0500
TZOFFSETTO:-0600
TZNAME:America/Chicago CST
END:STANDARD
BEGIN:STANDARD
DTSTART:20231105T010000
RDATE:20240310T030000
TZOFFSETFROM:-0500
TZOFFSETTO:-0600
TZNAME:America/Chicago CST
END:STANDARD
BEGIN:STANDARD
DTSTART:20241103T010000
RDATE:20250309T030000
TZOFFSETFROM:-0500
TZOFFSETTO:-0600
TZNAME:America/Chicago CST
END:STANDARD
BEGIN:STANDARD
DTSTART:20251102T010000
RDATE:20260308T030000
TZOFFSETFROM:-0500
TZOFFSETTO:-0600
TZNAME:America/Chicago CST
END:STANDARD
BEGIN:STANDARD
DTSTART:20261101T010000
RDATE:20270314T030000
TZOFFSETFROM:-0500
TZOFFSETTO:-0600
TZNAME:America/Chicago CST
END:STANDARD
BEGIN:STANDARD
DTSTART:20271107T010000
RDATE:20280312T030000
TZOFFSETFROM:-0500
TZOFFSETTO:-0600
TZNAME:America/Chicago CST
END:STANDARD
BEGIN:STANDARD
DTSTART:20281105T010000
RDATE:20290311T030000
TZOFFSETFROM:-0500
TZOFFSETTO:-0600
TZNAME:America/Chicago CST
END:STANDARD
BEGIN:DAYLIGHT
DTSTART:20210314T030000
RDATE:20211107T010000
TZOFFSETFROM:-0600
TZOFFSETTO:-0500
TZNAME:America/Chicago CDT
END:DAYLIGHT
BEGIN:DAYLIGHT
DTSTART:20220313T030000
RDATE:20221106T010000
TZOFFSETFROM:-0600
TZOFFSETTO:-0500
TZNAME:America/Chicago CDT
END:DAYLIGHT
BEGIN:DAYLIGHT
DTSTART:20230312T030000
RDATE:20231105T010000
TZOFFSETFROM:-0600
TZOFFSETTO:-0500
TZNAME:America/Chicago CDT
END:DAYLIGHT
BEGIN:DAYLIGHT
DTSTART:20240310T030000
RDATE:20241103T010000
TZOFFSETFROM:-0600
TZOFFSETTO:-0500
TZNAME:America/Chicago CDT
END:DAYLIGHT
BEGIN:DAYLIGHT
DTSTART:20250309T030000
RDATE:20251102T010000
TZOFFSETFROM:-0600
TZOFFSETTO:-0500
TZNAME:America/Chicago CDT
END:DAYLIGHT
BEGIN:DAYLIGHT
DTSTART:20260308T030000
RDATE:20261101T010000
TZOFFSETFROM:-0600
TZOFFSETTO:-0500
TZNAME:America/Chicago CDT
END:DAYLIGHT
BEGIN:DAYLIGHT
DTSTART:20270314T030000
RDATE:20271107T010000
TZOFFSETFROM:-0600
TZOFFSETTO:-0500
TZNAME:America/Chicago CDT
END:DAYLIGHT
BEGIN:DAYLIGHT
DTSTART:20280312T030000
RDATE:20281105T010000
TZOFFSETFROM:-0600
TZOFFSETTO:-0500
TZNAME:America/Chicago CDT
END:DAYLIGHT
END:VTIMEZONE
BEGIN:VEVENT
UID:291739b823f3d8056f5b0626912fdf3e
CATEGORIES:5K
CREATED:20211028T151256
SUMMARY:Strafford Turkey Trot
GEO:-93.11849213;37.27151108
LOCATION:Strafford High School - 201 West McCabe Street\, Strafford\, MO\, \, 
URL;VALUE=URI:https://beta.actnowracing.com/events/686/strafford-turkey-trot-geo-93-11849
 213-37-27151108?tmpl=component
DESCRIPTION:Join us Thursday, November 25th for the Annual Strafford Turkey Trot 5K Run
 /Walk!\nFirst time racers &amp; walkers welcome!  This course is super flat
  &amp; super fast!\nDonations only, with proceeds going to Strafford School
 s Running programs and/or Care to Learn; Your Choice!\n \n This event was i
 mported from: https://beta.actnowracing.com/events/686/strafford-turkey-tro
 t-geo-93-11849213-37-27151108?tmpl=component
X-ALT-DESC;FMTTYPE=text/html:<p>Join us Thursday, November 25th for the Annual Strafford Turkey Trot 5K 
 Run/Walk!</p><p>First time racers &amp; walkers welcome!&nbsp; This course 
 is super flat &amp; super fast!</p><p>Donations only, with proceeds going t
 o Strafford Schools Running programs and/or Care to Learn; Your Choice!</p>
 <p>&nbsp;</p> <a href="https://beta.actnowracing.com/events/686/strafford-t
 urkey-trot-geo-93-11849213-37-27151108?tmpl=component">This event was impor
 ted from: https://beta.actnowracing.com/events/686/strafford-turkey-trot-ge
 o-93-11849213-37-27151108?tmpl=component</a>CONTACT:Brandon at RegularLabs.EmailProtector.unCloak("ep_e424bd50");
DTSTAMP:20260423T144358
DTSTART;TZID=America/Chicago:20211125T080000
SEQUENCE:0
TRANSP:OPAQUE
END:VEVENT
END:VCALENDAR