BEGIN:VCALENDAR
VERSION:2.0
PRODID:-//jEvents 2.0 for Joomla//EN
CALSCALE:GREGORIAN
METHOD:PUBLISH
BEGIN:VTIMEZONE
TZID:America/Chicago
BEGIN:STANDARD
DTSTART:20211107T010000
RDATE:20220313T030000
TZOFFSETFROM:-0500
TZOFFSETTO:-0600
TZNAME:America/Chicago CST
END:STANDARD
BEGIN:STANDARD
DTSTART:20221106T010000
RDATE:20230312T030000
TZOFFSETFROM:-0500
TZOFFSETTO:-0600
TZNAME:America/Chicago CST
END:STANDARD
BEGIN:STANDARD
DTSTART:20231105T010000
RDATE:20240310T030000
TZOFFSETFROM:-0500
TZOFFSETTO:-0600
TZNAME:America/Chicago CST
END:STANDARD
BEGIN:STANDARD
DTSTART:20241103T010000
RDATE:20250309T030000
TZOFFSETFROM:-0500
TZOFFSETTO:-0600
TZNAME:America/Chicago CST
END:STANDARD
BEGIN:STANDARD
DTSTART:20251102T010000
RDATE:20260308T030000
TZOFFSETFROM:-0500
TZOFFSETTO:-0600
TZNAME:America/Chicago CST
END:STANDARD
BEGIN:STANDARD
DTSTART:20261101T010000
RDATE:20270314T030000
TZOFFSETFROM:-0500
TZOFFSETTO:-0600
TZNAME:America/Chicago CST
END:STANDARD
BEGIN:STANDARD
DTSTART:20271107T010000
RDATE:20280312T030000
TZOFFSETFROM:-0500
TZOFFSETTO:-0600
TZNAME:America/Chicago CST
END:STANDARD
BEGIN:STANDARD
DTSTART:20281105T010000
RDATE:20290311T030000
TZOFFSETFROM:-0500
TZOFFSETTO:-0600
TZNAME:America/Chicago CST
END:STANDARD
BEGIN:DAYLIGHT
DTSTART:20210325T100000
RDATE:20211107T010000
TZOFFSETFROM:-0600
TZOFFSETTO:-0500
TZNAME:America/Chicago CDT
END:DAYLIGHT
BEGIN:DAYLIGHT
DTSTART:20220313T030000
RDATE:20221106T010000
TZOFFSETFROM:-0600
TZOFFSETTO:-0500
TZNAME:America/Chicago CDT
END:DAYLIGHT
BEGIN:DAYLIGHT
DTSTART:20230312T030000
RDATE:20231105T010000
TZOFFSETFROM:-0600
TZOFFSETTO:-0500
TZNAME:America/Chicago CDT
END:DAYLIGHT
BEGIN:DAYLIGHT
DTSTART:20240310T030000
RDATE:20241103T010000
TZOFFSETFROM:-0600
TZOFFSETTO:-0500
TZNAME:America/Chicago CDT
END:DAYLIGHT
BEGIN:DAYLIGHT
DTSTART:20250309T030000
RDATE:20251102T010000
TZOFFSETFROM:-0600
TZOFFSETTO:-0500
TZNAME:America/Chicago CDT
END:DAYLIGHT
BEGIN:DAYLIGHT
DTSTART:20260308T030000
RDATE:20261101T010000
TZOFFSETFROM:-0600
TZOFFSETTO:-0500
TZNAME:America/Chicago CDT
END:DAYLIGHT
BEGIN:DAYLIGHT
DTSTART:20270314T030000
RDATE:20271107T010000
TZOFFSETFROM:-0600
TZOFFSETTO:-0500
TZNAME:America/Chicago CDT
END:DAYLIGHT
BEGIN:DAYLIGHT
DTSTART:20280312T030000
RDATE:20281105T010000
TZOFFSETFROM:-0600
TZOFFSETTO:-0500
TZNAME:America/Chicago CDT
END:DAYLIGHT
END:VTIMEZONE
BEGIN:VEVENT
UID:a2ed05e95711b06a1ea5e13b81374452
CATEGORIES:5K, 10K
CREATED:20211207T060228
SUMMARY:Fresh Start 5K & 10K
GEO:-93.36843109;37.24794769
LOCATION:CNH Reman Parking Lot - 2707 N Farm Rd 123\, Springfield\, MO\, \, 
URL;VALUE=URI:https://beta.actnowracing.com/events/691/fresh-start-5k-10k-geo-93-36843109
 -37-24794769?tmpl=component
DESCRIPTION:Due to the rise in Covid numbers, this event has been moved to Saturday, Ma
 rch 26th. \nJoin us for the Annual Fresh Start 5K &amp; 10K!  Proceeds from
  this event will benefit the Hand Up program with the National Avenue Chris
 tian Church. \n This event was imported from: https://beta.actnowracing.com
 /events/691/fresh-start-5k-10k-geo-93-36843109-37-24794769?tmpl=component
X-ALT-DESC;FMTTYPE=text/html:<p style="text-align: center;"><em><strong>Due to the rise in Covid numbers
 , this event has been moved to Saturday, March 26th.&nbsp;</strong></em></p
 ><p>Join us for the Annual Fresh Start 5K &amp; 10K!&nbsp; Proceeds from th
 is event will benefit the Hand Up program with the National Avenue Christia
 n Church.&nbsp;</p> <a href="https://beta.actnowracing.com/events/691/fresh
 -start-5k-10k-geo-93-36843109-37-24794769?tmpl=component">This event was im
 ported from: https://beta.actnowracing.com/events/691/fresh-start-5k-10k-ge
 o-93-36843109-37-24794769?tmpl=component</a>CONTACT:Ashley at RegularLabs.EmailProtector.unCloak("ep_878f0571");
DTSTAMP:20260423T164612
DTSTART;TZID=America/Chicago:20220326T100000
SEQUENCE:0
TRANSP:OPAQUE
END:VEVENT
END:VCALENDAR