BEGIN:VCALENDAR
VERSION:2.0
PRODID:-//jEvents 2.0 for Joomla//EN
CALSCALE:GREGORIAN
METHOD:PUBLISH
BEGIN:VTIMEZONE
TZID:America/Chicago
BEGIN:STANDARD
DTSTART:20210311T080000
RDATE:20210314T030000
TZOFFSETFROM:-0500
TZOFFSETTO:-0600
TZNAME:America/Chicago CST
END:STANDARD
BEGIN:STANDARD
DTSTART:20211107T010000
RDATE:20220313T030000
TZOFFSETFROM:-0500
TZOFFSETTO:-0600
TZNAME:America/Chicago CST
END:STANDARD
BEGIN:STANDARD
DTSTART:20221106T010000
RDATE:20230312T030000
TZOFFSETFROM:-0500
TZOFFSETTO:-0600
TZNAME:America/Chicago CST
END:STANDARD
BEGIN:STANDARD
DTSTART:20231105T010000
RDATE:20240310T030000
TZOFFSETFROM:-0500
TZOFFSETTO:-0600
TZNAME:America/Chicago CST
END:STANDARD
BEGIN:STANDARD
DTSTART:20241103T010000
RDATE:20250309T030000
TZOFFSETFROM:-0500
TZOFFSETTO:-0600
TZNAME:America/Chicago CST
END:STANDARD
BEGIN:STANDARD
DTSTART:20251102T010000
RDATE:20260308T030000
TZOFFSETFROM:-0500
TZOFFSETTO:-0600
TZNAME:America/Chicago CST
END:STANDARD
BEGIN:STANDARD
DTSTART:20261101T010000
RDATE:20270314T030000
TZOFFSETFROM:-0500
TZOFFSETTO:-0600
TZNAME:America/Chicago CST
END:STANDARD
BEGIN:STANDARD
DTSTART:20271107T010000
RDATE:20280312T030000
TZOFFSETFROM:-0500
TZOFFSETTO:-0600
TZNAME:America/Chicago CST
END:STANDARD
BEGIN:STANDARD
DTSTART:20281105T010000
RDATE:20290311T030000
TZOFFSETFROM:-0500
TZOFFSETTO:-0600
TZNAME:America/Chicago CST
END:STANDARD
BEGIN:DAYLIGHT
DTSTART:20210314T030000
RDATE:20211107T010000
TZOFFSETFROM:-0600
TZOFFSETTO:-0500
TZNAME:America/Chicago CDT
END:DAYLIGHT
BEGIN:DAYLIGHT
DTSTART:20220313T030000
RDATE:20221106T010000
TZOFFSETFROM:-0600
TZOFFSETTO:-0500
TZNAME:America/Chicago CDT
END:DAYLIGHT
BEGIN:DAYLIGHT
DTSTART:20230312T030000
RDATE:20231105T010000
TZOFFSETFROM:-0600
TZOFFSETTO:-0500
TZNAME:America/Chicago CDT
END:DAYLIGHT
BEGIN:DAYLIGHT
DTSTART:20240310T030000
RDATE:20241103T010000
TZOFFSETFROM:-0600
TZOFFSETTO:-0500
TZNAME:America/Chicago CDT
END:DAYLIGHT
BEGIN:DAYLIGHT
DTSTART:20250309T030000
RDATE:20251102T010000
TZOFFSETFROM:-0600
TZOFFSETTO:-0500
TZNAME:America/Chicago CDT
END:DAYLIGHT
BEGIN:DAYLIGHT
DTSTART:20260308T030000
RDATE:20261101T010000
TZOFFSETFROM:-0600
TZOFFSETTO:-0500
TZNAME:America/Chicago CDT
END:DAYLIGHT
BEGIN:DAYLIGHT
DTSTART:20270314T030000
RDATE:20271107T010000
TZOFFSETFROM:-0600
TZOFFSETTO:-0500
TZNAME:America/Chicago CDT
END:DAYLIGHT
BEGIN:DAYLIGHT
DTSTART:20280312T030000
RDATE:20281105T010000
TZOFFSETFROM:-0600
TZOFFSETTO:-0500
TZNAME:America/Chicago CDT
END:DAYLIGHT
END:VTIMEZONE
BEGIN:VEVENT
UID:53744234186a5a8a6fce76904ab77f46
CATEGORIES:5K
CREATED:20211220T045649
SUMMARY:17th Annual Running of the Squirrels
GEO:-93.63919067;36.99893951
LOCATION:Marionville Elementary School - 200 O'Dell\, Marionville\, MO\, \, 
URL;VALUE=URI:https://beta.actnowracing.com/events/700/17th-annual-running-of-the-squirre
 ls-geo-93-63919067-36-99893951?tmpl=component
DESCRIPTION:<p>Come celebrate with the band on March 12th, as we run through historic M
 arionville, home of the white squirrel, for the 17th annual Running of the 
 Squirrels 5K. The course is flat and easy to navigate, perfect for all ages
  and abilities. We will have live music and refreshments. Feel free to dres
 s up in your favorite Irish gear and join the fun! Cash awards will be give
 n for Overall Male and Overall Female winners in addition to medals for the
  top three male and female finishers in each age category. All proceeds rai
 sed from our 5K will benefit the Marionville Comet Pride Marching Band. Tha
 nk you for your support!</p><p style="text-align: center;"><em><strong>Call
 ing all leprechauns, gold stars and treasure hunters!! This year our theme 
 is "Going for the Gold". So come dressed to impress with your best GOLD cos
 tume to win a special award. </strong></em></p> <a href="https://beta.actno
 wracing.com/events/700/17th-annual-running-of-the-squirrels-geo-93-63919067
 -36-99893951?tmpl=component">This event was imported from: https://beta.act
 nowracing.com/events/700/17th-annual-running-of-the-squirrels-geo-93-639190
 67-36-99893951?tmpl=component</a>DTSTAMP:20260423T165738
DTSTART;TZID=America/Chicago:20220312T080000
SEQUENCE:0
TRANSP:OPAQUE
END:VEVENT
END:VCALENDAR