BEGIN:VCALENDAR
VERSION:2.0
PRODID:-//jEvents 2.0 for Joomla//EN
CALSCALE:GREGORIAN
METHOD:PUBLISH
BEGIN:VTIMEZONE
TZID:America/Chicago
BEGIN:STANDARD
DTSTART:20210218T090000
RDATE:20210314T030000
TZOFFSETFROM:-0500
TZOFFSETTO:-0600
TZNAME:America/Chicago CST
END:STANDARD
BEGIN:STANDARD
DTSTART:20211107T010000
RDATE:20220313T030000
TZOFFSETFROM:-0500
TZOFFSETTO:-0600
TZNAME:America/Chicago CST
END:STANDARD
BEGIN:STANDARD
DTSTART:20221106T010000
RDATE:20230312T030000
TZOFFSETFROM:-0500
TZOFFSETTO:-0600
TZNAME:America/Chicago CST
END:STANDARD
BEGIN:STANDARD
DTSTART:20231105T010000
RDATE:20240310T030000
TZOFFSETFROM:-0500
TZOFFSETTO:-0600
TZNAME:America/Chicago CST
END:STANDARD
BEGIN:STANDARD
DTSTART:20241103T010000
RDATE:20250309T030000
TZOFFSETFROM:-0500
TZOFFSETTO:-0600
TZNAME:America/Chicago CST
END:STANDARD
BEGIN:STANDARD
DTSTART:20251102T010000
RDATE:20260308T030000
TZOFFSETFROM:-0500
TZOFFSETTO:-0600
TZNAME:America/Chicago CST
END:STANDARD
BEGIN:STANDARD
DTSTART:20261101T010000
RDATE:20270314T030000
TZOFFSETFROM:-0500
TZOFFSETTO:-0600
TZNAME:America/Chicago CST
END:STANDARD
BEGIN:STANDARD
DTSTART:20271107T010000
RDATE:20280312T030000
TZOFFSETFROM:-0500
TZOFFSETTO:-0600
TZNAME:America/Chicago CST
END:STANDARD
BEGIN:STANDARD
DTSTART:20281105T010000
RDATE:20290311T030000
TZOFFSETFROM:-0500
TZOFFSETTO:-0600
TZNAME:America/Chicago CST
END:STANDARD
BEGIN:DAYLIGHT
DTSTART:20210314T030000
RDATE:20211107T010000
TZOFFSETFROM:-0600
TZOFFSETTO:-0500
TZNAME:America/Chicago CDT
END:DAYLIGHT
BEGIN:DAYLIGHT
DTSTART:20220313T030000
RDATE:20221106T010000
TZOFFSETFROM:-0600
TZOFFSETTO:-0500
TZNAME:America/Chicago CDT
END:DAYLIGHT
BEGIN:DAYLIGHT
DTSTART:20230312T030000
RDATE:20231105T010000
TZOFFSETFROM:-0600
TZOFFSETTO:-0500
TZNAME:America/Chicago CDT
END:DAYLIGHT
BEGIN:DAYLIGHT
DTSTART:20240310T030000
RDATE:20241103T010000
TZOFFSETFROM:-0600
TZOFFSETTO:-0500
TZNAME:America/Chicago CDT
END:DAYLIGHT
BEGIN:DAYLIGHT
DTSTART:20250309T030000
RDATE:20251102T010000
TZOFFSETFROM:-0600
TZOFFSETTO:-0500
TZNAME:America/Chicago CDT
END:DAYLIGHT
BEGIN:DAYLIGHT
DTSTART:20260308T030000
RDATE:20261101T010000
TZOFFSETFROM:-0600
TZOFFSETTO:-0500
TZNAME:America/Chicago CDT
END:DAYLIGHT
BEGIN:DAYLIGHT
DTSTART:20270314T030000
RDATE:20271107T010000
TZOFFSETFROM:-0600
TZOFFSETTO:-0500
TZNAME:America/Chicago CDT
END:DAYLIGHT
BEGIN:DAYLIGHT
DTSTART:20280312T030000
RDATE:20281105T010000
TZOFFSETFROM:-0600
TZOFFSETTO:-0500
TZNAME:America/Chicago CDT
END:DAYLIGHT
END:VTIMEZONE
BEGIN:VEVENT
UID:7d43c0271d250ff2bcb2cd7b8bf13331
CATEGORIES:5K, 10K
CREATED:20220107T063201
SUMMARY:43rd Annual Polar Bear Run
GEO:-93.41164398;37.6015625
LOCATION:Southwest Baptist University Student Union - 1600 University Avenue\, Boliv
 ar\, MO\, \, 
URL;VALUE=URI:https://beta.actnowracing.com/events/701/43rd-annual-polar-bear-run-geo-93-
 41164398-37-6015625?tmpl=component
DESCRIPTION:Join us for the 43rd annual Polar Bear Run Saturday, February 19, 2022.  Th
 is event will be benefiting the Bolivar Liberator Cross Country program.\nY
 OU MUST REGISTER BY FEBRUARY 8TH TO GET A HOODIE!!\n This event was importe
 d from: https://beta.actnowracing.com/events/701/43rd-annual-polar-bear-run
 -geo-93-41164398-37-6015625?tmpl=component
X-ALT-DESC;FMTTYPE=text/html:<p>Join us for the 43rd annual Polar Bear Run Saturday, February 19, 2022.&
 nbsp; This event will be benefiting the Bolivar Liberator Cross Country pro
 gram.</p><p style="text-align: center;"><span style="text-decoration: under
 line;"><strong>YOU MUST REGISTER BY FEBRUARY 8TH TO GET A HOODIE!!</strong>
 </span></p> <a href="https://beta.actnowracing.com/events/701/43rd-annual-p
 olar-bear-run-geo-93-41164398-37-6015625?tmpl=component">This event was imp
 orted from: https://beta.actnowracing.com/events/701/43rd-annual-polar-bear
 -run-geo-93-41164398-37-6015625?tmpl=component</a>CONTACT:Ron Bandy at RegularLabs.EmailProtector.unCloak("ep_cfa22039");
DTSTAMP:20260423T163638
DTSTART;TZID=America/Chicago:20220219T090000
SEQUENCE:0
TRANSP:OPAQUE
END:VEVENT
END:VCALENDAR