BEGIN:VCALENDAR
VERSION:2.0
PRODID:-//jEvents 2.0 for Joomla//EN
CALSCALE:GREGORIAN
METHOD:PUBLISH
BEGIN:VTIMEZONE
TZID:America/Chicago
BEGIN:STANDARD
DTSTART:20211107T010000
RDATE:20220313T030000
TZOFFSETFROM:-0500
TZOFFSETTO:-0600
TZNAME:America/Chicago CST
END:STANDARD
BEGIN:STANDARD
DTSTART:20221106T010000
RDATE:20230312T030000
TZOFFSETFROM:-0500
TZOFFSETTO:-0600
TZNAME:America/Chicago CST
END:STANDARD
BEGIN:STANDARD
DTSTART:20231105T010000
RDATE:20240310T030000
TZOFFSETFROM:-0500
TZOFFSETTO:-0600
TZNAME:America/Chicago CST
END:STANDARD
BEGIN:STANDARD
DTSTART:20241103T010000
RDATE:20250309T030000
TZOFFSETFROM:-0500
TZOFFSETTO:-0600
TZNAME:America/Chicago CST
END:STANDARD
BEGIN:STANDARD
DTSTART:20251102T010000
RDATE:20260308T030000
TZOFFSETFROM:-0500
TZOFFSETTO:-0600
TZNAME:America/Chicago CST
END:STANDARD
BEGIN:STANDARD
DTSTART:20261101T010000
RDATE:20270314T030000
TZOFFSETFROM:-0500
TZOFFSETTO:-0600
TZNAME:America/Chicago CST
END:STANDARD
BEGIN:STANDARD
DTSTART:20271107T010000
RDATE:20280312T030000
TZOFFSETFROM:-0500
TZOFFSETTO:-0600
TZNAME:America/Chicago CST
END:STANDARD
BEGIN:STANDARD
DTSTART:20281105T010000
RDATE:20290311T030000
TZOFFSETFROM:-0500
TZOFFSETTO:-0600
TZNAME:America/Chicago CST
END:STANDARD
BEGIN:DAYLIGHT
DTSTART:20210318T093000
RDATE:20211107T010000
TZOFFSETFROM:-0600
TZOFFSETTO:-0500
TZNAME:America/Chicago CDT
END:DAYLIGHT
BEGIN:DAYLIGHT
DTSTART:20220313T030000
RDATE:20221106T010000
TZOFFSETFROM:-0600
TZOFFSETTO:-0500
TZNAME:America/Chicago CDT
END:DAYLIGHT
BEGIN:DAYLIGHT
DTSTART:20230312T030000
RDATE:20231105T010000
TZOFFSETFROM:-0600
TZOFFSETTO:-0500
TZNAME:America/Chicago CDT
END:DAYLIGHT
BEGIN:DAYLIGHT
DTSTART:20240310T030000
RDATE:20241103T010000
TZOFFSETFROM:-0600
TZOFFSETTO:-0500
TZNAME:America/Chicago CDT
END:DAYLIGHT
BEGIN:DAYLIGHT
DTSTART:20250309T030000
RDATE:20251102T010000
TZOFFSETFROM:-0600
TZOFFSETTO:-0500
TZNAME:America/Chicago CDT
END:DAYLIGHT
BEGIN:DAYLIGHT
DTSTART:20260308T030000
RDATE:20261101T010000
TZOFFSETFROM:-0600
TZOFFSETTO:-0500
TZNAME:America/Chicago CDT
END:DAYLIGHT
BEGIN:DAYLIGHT
DTSTART:20270314T030000
RDATE:20271107T010000
TZOFFSETFROM:-0600
TZOFFSETTO:-0500
TZNAME:America/Chicago CDT
END:DAYLIGHT
BEGIN:DAYLIGHT
DTSTART:20280312T030000
RDATE:20281105T010000
TZOFFSETFROM:-0600
TZOFFSETTO:-0500
TZNAME:America/Chicago CDT
END:DAYLIGHT
END:VTIMEZONE
BEGIN:VEVENT
UID:335403e7163ae9804c22d1a7a735393d
CATEGORIES:5K, 1 Mile, Trail Run, Other
CREATED:20220124T154556
SUMMARY:Havin' a Crappie Weekend Outdoor Festival
GEO:-93.7960434;37.69892883
LOCATION:Stockton State Park Marina - 19100 Highway 215\, Dadeville\, MO\, \, 
URL;VALUE=URI:https://beta.actnowracing.com/events/704/havin-a-crappie-weekend-outdoor-fe
 stival-geo-93-7960434-37-69892883?tmpl=component
DESCRIPTION:<p style="text-align: center;">Join us for the Havin' a Crappie Weekend Out
 door Festival!&nbsp; NEW for 2022 - Mountain Bike Racing.</p><p>Funds benef
 it additional trail implementation and maintenance around Stockton Lake via
  the Stockton Trails Initiative Coalition (STIC).</p><p style="text-align: 
 center;">Take the Crappie Challenge! Participate in the 1 mile, 5k, and 13.
 3k.<br /> The fastest combined time wins.</p><p style="text-align: center;"
 >Participate in the Crapathalon! Participate in the long bike course, 5k, a
 nd 13.3k.<br />The fastest combined time wins.</p> <a href="https://beta.ac
 tnowracing.com/events/704/havin-a-crappie-weekend-outdoor-festival-geo-93-7
 960434-37-69892883?tmpl=component">This event was imported from: https://be
 ta.actnowracing.com/events/704/havin-a-crappie-weekend-outdoor-festival-geo
 -93-7960434-37-69892883?tmpl=component</a>CONTACT:Joy Weis at RegularLabs.EmailProtector.unCloak("ep_db6b3311");
DTSTAMP:20260423T165735
DTSTART;TZID=America/Chicago:20220319T093000
DTEND;TZID=America/Chicago;VALUE=DATE:20220321
SEQUENCE:0
TRANSP:OPAQUE
END:VEVENT
END:VCALENDAR