BEGIN:VCALENDAR
VERSION:2.0
PRODID:-//jEvents 2.0 for Joomla//EN
CALSCALE:GREGORIAN
METHOD:PUBLISH
BEGIN:VTIMEZONE
TZID:America/Chicago
BEGIN:STANDARD
DTSTART:20211107T010000
RDATE:20220313T030000
TZOFFSETFROM:-0500
TZOFFSETTO:-0600
TZNAME:America/Chicago CST
END:STANDARD
BEGIN:STANDARD
DTSTART:20221106T010000
RDATE:20230312T030000
TZOFFSETFROM:-0500
TZOFFSETTO:-0600
TZNAME:America/Chicago CST
END:STANDARD
BEGIN:STANDARD
DTSTART:20231105T010000
RDATE:20240310T030000
TZOFFSETFROM:-0500
TZOFFSETTO:-0600
TZNAME:America/Chicago CST
END:STANDARD
BEGIN:STANDARD
DTSTART:20241103T010000
RDATE:20250309T030000
TZOFFSETFROM:-0500
TZOFFSETTO:-0600
TZNAME:America/Chicago CST
END:STANDARD
BEGIN:STANDARD
DTSTART:20251102T010000
RDATE:20260308T030000
TZOFFSETFROM:-0500
TZOFFSETTO:-0600
TZNAME:America/Chicago CST
END:STANDARD
BEGIN:STANDARD
DTSTART:20261101T010000
RDATE:20270314T030000
TZOFFSETFROM:-0500
TZOFFSETTO:-0600
TZNAME:America/Chicago CST
END:STANDARD
BEGIN:STANDARD
DTSTART:20271107T010000
RDATE:20280312T030000
TZOFFSETFROM:-0500
TZOFFSETTO:-0600
TZNAME:America/Chicago CST
END:STANDARD
BEGIN:STANDARD
DTSTART:20281105T010000
RDATE:20290311T030000
TZOFFSETFROM:-0500
TZOFFSETTO:-0600
TZNAME:America/Chicago CST
END:STANDARD
BEGIN:DAYLIGHT
DTSTART:20210616T180000
RDATE:20211107T010000
TZOFFSETFROM:-0600
TZOFFSETTO:-0500
TZNAME:America/Chicago CDT
END:DAYLIGHT
BEGIN:DAYLIGHT
DTSTART:20220313T030000
RDATE:20221106T010000
TZOFFSETFROM:-0600
TZOFFSETTO:-0500
TZNAME:America/Chicago CDT
END:DAYLIGHT
BEGIN:DAYLIGHT
DTSTART:20230312T030000
RDATE:20231105T010000
TZOFFSETFROM:-0600
TZOFFSETTO:-0500
TZNAME:America/Chicago CDT
END:DAYLIGHT
BEGIN:DAYLIGHT
DTSTART:20240310T030000
RDATE:20241103T010000
TZOFFSETFROM:-0600
TZOFFSETTO:-0500
TZNAME:America/Chicago CDT
END:DAYLIGHT
BEGIN:DAYLIGHT
DTSTART:20250309T030000
RDATE:20251102T010000
TZOFFSETFROM:-0600
TZOFFSETTO:-0500
TZNAME:America/Chicago CDT
END:DAYLIGHT
BEGIN:DAYLIGHT
DTSTART:20260308T030000
RDATE:20261101T010000
TZOFFSETFROM:-0600
TZOFFSETTO:-0500
TZNAME:America/Chicago CDT
END:DAYLIGHT
BEGIN:DAYLIGHT
DTSTART:20270314T030000
RDATE:20271107T010000
TZOFFSETFROM:-0600
TZOFFSETTO:-0500
TZNAME:America/Chicago CDT
END:DAYLIGHT
BEGIN:DAYLIGHT
DTSTART:20280312T030000
RDATE:20281105T010000
TZOFFSETFROM:-0600
TZOFFSETTO:-0500
TZNAME:America/Chicago CDT
END:DAYLIGHT
END:VTIMEZONE
BEGIN:VEVENT
UID:528e9472a97e63526e4c06f6d24acbf7
CATEGORIES:5K, 1 Mile
CREATED:20220209T114300
SUMMARY:Raptor Run
GEO:-93.32967377;37.10590363
LOCATION:Missouri Institute of Natural Science - 2327 W. Farm Road 190\, Springfield
 \, MO\, \, 
URL;VALUE=URI:https://beta.actnowracing.com/events/713/raptor-run-geo-93-32967377-37-1059
 0363?tmpl=component
DESCRIPTION:Bring the family for a night of fun to help fund the Missouri Institute of 
 Natural Science and Riverbluff Cave! Run or walk the 5K and/or Fun Run and 
 stick around for free tours of the museum in addition to activities (some j
 ust fun, some educational!) for the kids. Enjoy the museum grounds on this 
 sure to be Spectacular Spring Evening! Complete with fossil dig for kids, p
 opcorn, snacks and other entertainment. For more information on the museum 
 or the cave visit www.MoNatSci.org.\nThe funds from this fundraiser will go
  to the museum and to aid continuation of the search for fossils within Riv
 erbluff Cave. In addition, donations will aid in partnering with area schoo
 ls to offer educational experiences to local students on Missouri’s natural
  history and its fragile ecosystem.\nONLINE REGISTRATION IS CLOSING TUESDAY
 , JUNE 14TH AT 5PM\n This event was imported from: https://beta.actnowracin
 g.com/events/713/raptor-run-geo-93-32967377-37-10590363?tmpl=component
X-ALT-DESC;FMTTYPE=text/html:<p>Bring the family for a night of fun to help fund the Missouri Institute 
 of Natural Science and Riverbluff Cave! Run or walk the 5K and/or Fun Run a
 nd stick around for free tours of the museum in addition to activities (som
 e just fun, some educational!) for the kids. Enjoy the museum grounds on th
 is sure to be Spectacular Spring Evening! Complete with fossil dig for kids
 , popcorn, snacks and other entertainment. For more information on the muse
 um or the cave visit www.MoNatSci.org.</p><p>The funds from this fundraiser
  will go to the museum and to aid continuation of the search for fossils wi
 thin Riverbluff Cave. In addition, donations will aid in partnering with ar
 ea schools to offer educational experiences to local students on Missouri’s
  natural history and its fragile ecosystem.</p><p style="text-align: center
 ;">ONLINE REGISTRATION IS CLOSING TUESDAY, JUNE 14TH AT 5PM</p> <a href="ht
 tps://beta.actnowracing.com/events/713/raptor-run-geo-93-32967377-37-105903
 63?tmpl=component">This event was imported from: https://beta.actnowracing.
 com/events/713/raptor-run-geo-93-32967377-37-10590363?tmpl=component</a>CONTACT:MO Institute of Natural Science at RegularLabs.EmailProtector.unCloak("ep_003007fb");
DTSTAMP:20260422T174306
DTSTART;TZID=America/Chicago:20220617T180000
SEQUENCE:0
TRANSP:OPAQUE
END:VEVENT
END:VCALENDAR