BEGIN:VCALENDAR
VERSION:2.0
PRODID:-//jEvents 2.0 for Joomla//EN
CALSCALE:GREGORIAN
METHOD:PUBLISH
BEGIN:VTIMEZONE
TZID:America/Chicago
BEGIN:STANDARD
DTSTART:20211107T010000
RDATE:20220313T030000
TZOFFSETFROM:-0500
TZOFFSETTO:-0600
TZNAME:America/Chicago CST
END:STANDARD
BEGIN:STANDARD
DTSTART:20221106T010000
RDATE:20230312T030000
TZOFFSETFROM:-0500
TZOFFSETTO:-0600
TZNAME:America/Chicago CST
END:STANDARD
BEGIN:STANDARD
DTSTART:20231105T010000
RDATE:20240310T030000
TZOFFSETFROM:-0500
TZOFFSETTO:-0600
TZNAME:America/Chicago CST
END:STANDARD
BEGIN:STANDARD
DTSTART:20241103T010000
RDATE:20250309T030000
TZOFFSETFROM:-0500
TZOFFSETTO:-0600
TZNAME:America/Chicago CST
END:STANDARD
BEGIN:STANDARD
DTSTART:20251102T010000
RDATE:20260308T030000
TZOFFSETFROM:-0500
TZOFFSETTO:-0600
TZNAME:America/Chicago CST
END:STANDARD
BEGIN:STANDARD
DTSTART:20261101T010000
RDATE:20270314T030000
TZOFFSETFROM:-0500
TZOFFSETTO:-0600
TZNAME:America/Chicago CST
END:STANDARD
BEGIN:STANDARD
DTSTART:20271107T010000
RDATE:20280312T030000
TZOFFSETFROM:-0500
TZOFFSETTO:-0600
TZNAME:America/Chicago CST
END:STANDARD
BEGIN:STANDARD
DTSTART:20281105T010000
RDATE:20290311T030000
TZOFFSETFROM:-0500
TZOFFSETTO:-0600
TZNAME:America/Chicago CST
END:STANDARD
BEGIN:DAYLIGHT
DTSTART:20210923T090000
RDATE:20211107T010000
TZOFFSETFROM:-0600
TZOFFSETTO:-0500
TZNAME:America/Chicago CDT
END:DAYLIGHT
BEGIN:DAYLIGHT
DTSTART:20220313T030000
RDATE:20221106T010000
TZOFFSETFROM:-0600
TZOFFSETTO:-0500
TZNAME:America/Chicago CDT
END:DAYLIGHT
BEGIN:DAYLIGHT
DTSTART:20230312T030000
RDATE:20231105T010000
TZOFFSETFROM:-0600
TZOFFSETTO:-0500
TZNAME:America/Chicago CDT
END:DAYLIGHT
BEGIN:DAYLIGHT
DTSTART:20240310T030000
RDATE:20241103T010000
TZOFFSETFROM:-0600
TZOFFSETTO:-0500
TZNAME:America/Chicago CDT
END:DAYLIGHT
BEGIN:DAYLIGHT
DTSTART:20250309T030000
RDATE:20251102T010000
TZOFFSETFROM:-0600
TZOFFSETTO:-0500
TZNAME:America/Chicago CDT
END:DAYLIGHT
BEGIN:DAYLIGHT
DTSTART:20260308T030000
RDATE:20261101T010000
TZOFFSETFROM:-0600
TZOFFSETTO:-0500
TZNAME:America/Chicago CDT
END:DAYLIGHT
BEGIN:DAYLIGHT
DTSTART:20270314T030000
RDATE:20271107T010000
TZOFFSETFROM:-0600
TZOFFSETTO:-0500
TZNAME:America/Chicago CDT
END:DAYLIGHT
BEGIN:DAYLIGHT
DTSTART:20280312T030000
RDATE:20281105T010000
TZOFFSETFROM:-0600
TZOFFSETTO:-0500
TZNAME:America/Chicago CDT
END:DAYLIGHT
END:VTIMEZONE
BEGIN:VEVENT
UID:4aaf966b3ab31963a2110a6f8f37b61f
CATEGORIES:5K
CREATED:20220301T111427
SUMMARY:Mercy Aurora and Cassville Run to Care
GEO:-93.71004486;36.96978378
LOCATION:Mercy Aurora Clinic - 550 South Hudson\, Aurora\, MO\, \, 
URL;VALUE=URI:https://beta.actnowracing.com/events/720/mercy-aurora-and-cassville-run-to-
 care-geo-93-71004486-36-96978378?tmpl=component
DESCRIPTION:We are gearing up for our 5th Annual Run to Care and cannot be more excited
  about this year’s event!!!!! ACT NOW Racing will be back this year and wil
 l be running the show at the start/finish line. The timing will be done via
  chip on your runners bib but you are still welcome to walk if you would pr
 efer and you can still bring your dogs on a leash.\nNEW THIS YEAR - We have
  added a timed 1 Mile Run/Walk!! \nRace proceeds will benefit the Mercy Aur
 ora &amp; Cassville Mission fund, a fund that supports patient needs such a
 s prescriptions, transportation, food, clothes, diapers, etc.\n This event 
 was imported from: https://beta.actnowracing.com/events/720/mercy-aurora-an
 d-cassville-run-to-care-geo-93-71004486-36-96978378?tmpl=component
X-ALT-DESC;FMTTYPE=text/html:<p>We are gearing up for our 5th Annual Run to Care and cannot be more exci
 ted about this year’s event!!!!! ACT NOW Racing will be back this year and 
 will be running the show at the start/finish line. The timing will be done 
 via chip on your runners bib but you are still welcome to walk if you would
  prefer and you can still bring your dogs on a leash.</p><p><strong>NEW THI
 S YEAR</strong> - We have added a timed 1 Mile Run/Walk!! </p><p>Race proce
 eds will benefit the Mercy Aurora & Cassville Mission fund, a fund that sup
 ports patient needs such as prescriptions, transportation, food, clothes, d
 iapers, etc.</p> <a href="https://beta.actnowracing.com/events/720/mercy-au
 rora-and-cassville-run-to-care-geo-93-71004486-36-96978378?tmpl=component">
 This event was imported from: https://beta.actnowracing.com/events/720/merc
 y-aurora-and-cassville-run-to-care-geo-93-71004486-36-96978378?tmpl=compone
 nt</a>CONTACT:Martha Youngblood at RegularLabs.EmailProtector.unCloak("ep_dc6d4df6");
DTSTAMP:20260424T215608
DTSTART;TZID=America/Chicago:20220924T090000
SEQUENCE:0
TRANSP:OPAQUE
END:VEVENT
END:VCALENDAR