BEGIN:VCALENDAR
VERSION:2.0
PRODID:-//jEvents 2.0 for Joomla//EN
CALSCALE:GREGORIAN
METHOD:PUBLISH
BEGIN:VTIMEZONE
TZID:America/Chicago
BEGIN:STANDARD
DTSTART:20211107T010000
RDATE:20220313T030000
TZOFFSETFROM:-0500
TZOFFSETTO:-0600
TZNAME:America/Chicago CST
END:STANDARD
BEGIN:STANDARD
DTSTART:20221106T010000
RDATE:20230312T030000
TZOFFSETFROM:-0500
TZOFFSETTO:-0600
TZNAME:America/Chicago CST
END:STANDARD
BEGIN:STANDARD
DTSTART:20231105T010000
RDATE:20240310T030000
TZOFFSETFROM:-0500
TZOFFSETTO:-0600
TZNAME:America/Chicago CST
END:STANDARD
BEGIN:STANDARD
DTSTART:20241103T010000
RDATE:20250309T030000
TZOFFSETFROM:-0500
TZOFFSETTO:-0600
TZNAME:America/Chicago CST
END:STANDARD
BEGIN:STANDARD
DTSTART:20251102T010000
RDATE:20260308T030000
TZOFFSETFROM:-0500
TZOFFSETTO:-0600
TZNAME:America/Chicago CST
END:STANDARD
BEGIN:STANDARD
DTSTART:20261101T010000
RDATE:20270314T030000
TZOFFSETFROM:-0500
TZOFFSETTO:-0600
TZNAME:America/Chicago CST
END:STANDARD
BEGIN:STANDARD
DTSTART:20271107T010000
RDATE:20280312T030000
TZOFFSETFROM:-0500
TZOFFSETTO:-0600
TZNAME:America/Chicago CST
END:STANDARD
BEGIN:STANDARD
DTSTART:20281105T010000
RDATE:20290311T030000
TZOFFSETFROM:-0500
TZOFFSETTO:-0600
TZNAME:America/Chicago CST
END:STANDARD
BEGIN:DAYLIGHT
DTSTART:20210722T070000
RDATE:20211107T010000
TZOFFSETFROM:-0600
TZOFFSETTO:-0500
TZNAME:America/Chicago CDT
END:DAYLIGHT
BEGIN:DAYLIGHT
DTSTART:20220313T030000
RDATE:20221106T010000
TZOFFSETFROM:-0600
TZOFFSETTO:-0500
TZNAME:America/Chicago CDT
END:DAYLIGHT
BEGIN:DAYLIGHT
DTSTART:20230312T030000
RDATE:20231105T010000
TZOFFSETFROM:-0600
TZOFFSETTO:-0500
TZNAME:America/Chicago CDT
END:DAYLIGHT
BEGIN:DAYLIGHT
DTSTART:20240310T030000
RDATE:20241103T010000
TZOFFSETFROM:-0600
TZOFFSETTO:-0500
TZNAME:America/Chicago CDT
END:DAYLIGHT
BEGIN:DAYLIGHT
DTSTART:20250309T030000
RDATE:20251102T010000
TZOFFSETFROM:-0600
TZOFFSETTO:-0500
TZNAME:America/Chicago CDT
END:DAYLIGHT
BEGIN:DAYLIGHT
DTSTART:20260308T030000
RDATE:20261101T010000
TZOFFSETFROM:-0600
TZOFFSETTO:-0500
TZNAME:America/Chicago CDT
END:DAYLIGHT
BEGIN:DAYLIGHT
DTSTART:20270314T030000
RDATE:20271107T010000
TZOFFSETFROM:-0600
TZOFFSETTO:-0500
TZNAME:America/Chicago CDT
END:DAYLIGHT
BEGIN:DAYLIGHT
DTSTART:20280312T030000
RDATE:20281105T010000
TZOFFSETFROM:-0600
TZOFFSETTO:-0500
TZNAME:America/Chicago CDT
END:DAYLIGHT
END:VTIMEZONE
BEGIN:VEVENT
UID:8d5ed3db29388188986ce711f8e7e6fb
CATEGORIES:5K, 10K
CREATED:20220309T160234
SUMMARY:Girls Just Wanna Run Presented by Rick's Automotive
GEO:-93.28990173;37.2249794
LOCATION:Cox North - 1423 N. Jefferson Avenue\, Springfield\, MO\, \, 
URL;VALUE=URI:https://beta.actnowracing.com/events/727/girls-just-wanna-run-presented-by-
 ricks-automotive-geo-93-28990173-37-2249794?tmpl=component
DESCRIPTION:START TIME HAS BEEN CHANGED TO 7AMDue to the extreme heat we have made the 
 decision to move the race start time up to 7AM.  As safety of our participa
 nts is our number one priority, we would like to enjoy the race together an
 d get everyone out of the heat as quickly as possible.\nSpecial thanks to R
 ick’s Automotive for being this year’s Presenting Sponsor!\nGirls Just Wann
 a Run averages 600+ participants in this ladies only 5k/10 walk-run. (Men c
 an participate virtually!)\nProceeds benefit Women’s Services at CoxHealth 
 Foundation, supporting a wide array of needs for patients of CoxHealth.\nON
 LINE REGISTRATION IS CLOSING THURSDAY, JULY 21 AT 10PM.  Once online regist
 ration closes you can register in person on Friday, July 22 at packet picku
 p from 2-6 PM inside the Meyer Center (3545 S. National) or race morning. \
 n This event was imported from: https://beta.actnowracing.com/events/727/gi
 rls-just-wanna-run-presented-by-ricks-automotive-geo-93-28990173-37-2249794
 ?tmpl=component
X-ALT-DESC;FMTTYPE=text/html:<h3 style="text-align: center;"><span style="text-decoration: underline;"><
 strong>START TIME HAS BEEN CHANGED TO 7AM</strong></span></h3><p>Due to the
  extreme heat we have made the decision to move the race start time up to 7
 AM.  As safety of our participants is our number one priority, we would lik
 e to enjoy the race together and get everyone out of the heat as quickly as
  possible.</p><p>Special thanks to Rick’s Automotive for being this year’s 
 Presenting Sponsor!</p><p>Girls Just Wanna Run averages 600+ participants i
 n this ladies only 5k/10 walk-run. (Men can participate virtually!)</p><p>P
 roceeds benefit Women’s Services at CoxHealth Foundation, supporting a wide
  array of needs for patients of CoxHealth.</p><h6 style="text-align: center
 ;"><span style="text-decoration: underline;"><strong>ONLINE REGISTRATION IS
  CLOSING THURSDAY, JULY 21 AT 10PM.  </strong></span></h6><p>Once online re
 gistration closes you can register in person on Friday, July 22 at packet p
 ickup from 2-6 PM inside the Meyer Center (3545 S. National) or race mornin
 g. </p> <a href="https://beta.actnowracing.com/events/727/girls-just-wanna-
 run-presented-by-ricks-automotive-geo-93-28990173-37-2249794?tmpl=component
 ">This event was imported from: https://beta.actnowracing.com/events/727/gi
 rls-just-wanna-run-presented-by-ricks-automotive-geo-93-28990173-37-2249794
 ?tmpl=component</a>CONTACT:Whitney at RegularLabs.EmailProtector.unCloak("ep_f14a9b84");
DTSTAMP:20260424T134143
DTSTART;TZID=America/Chicago:20220723T070000
SEQUENCE:0
TRANSP:OPAQUE
END:VEVENT
END:VCALENDAR