BEGIN:VCALENDAR
VERSION:2.0
PRODID:-//jEvents 2.0 for Joomla//EN
CALSCALE:GREGORIAN
METHOD:PUBLISH
BEGIN:VTIMEZONE
TZID:America/Chicago
BEGIN:STANDARD
DTSTART:20211107T010000
RDATE:20220313T030000
TZOFFSETFROM:-0500
TZOFFSETTO:-0600
TZNAME:America/Chicago CST
END:STANDARD
BEGIN:STANDARD
DTSTART:20221106T010000
RDATE:20230312T030000
TZOFFSETFROM:-0500
TZOFFSETTO:-0600
TZNAME:America/Chicago CST
END:STANDARD
BEGIN:STANDARD
DTSTART:20231105T010000
RDATE:20240310T030000
TZOFFSETFROM:-0500
TZOFFSETTO:-0600
TZNAME:America/Chicago CST
END:STANDARD
BEGIN:STANDARD
DTSTART:20241103T010000
RDATE:20250309T030000
TZOFFSETFROM:-0500
TZOFFSETTO:-0600
TZNAME:America/Chicago CST
END:STANDARD
BEGIN:STANDARD
DTSTART:20251102T010000
RDATE:20260308T030000
TZOFFSETFROM:-0500
TZOFFSETTO:-0600
TZNAME:America/Chicago CST
END:STANDARD
BEGIN:STANDARD
DTSTART:20261101T010000
RDATE:20270314T030000
TZOFFSETFROM:-0500
TZOFFSETTO:-0600
TZNAME:America/Chicago CST
END:STANDARD
BEGIN:STANDARD
DTSTART:20271107T010000
RDATE:20280312T030000
TZOFFSETFROM:-0500
TZOFFSETTO:-0600
TZNAME:America/Chicago CST
END:STANDARD
BEGIN:STANDARD
DTSTART:20281105T010000
RDATE:20290311T030000
TZOFFSETFROM:-0500
TZOFFSETTO:-0600
TZNAME:America/Chicago CST
END:STANDARD
BEGIN:DAYLIGHT
DTSTART:20210715T080000
RDATE:20211107T010000
TZOFFSETFROM:-0600
TZOFFSETTO:-0500
TZNAME:America/Chicago CDT
END:DAYLIGHT
BEGIN:DAYLIGHT
DTSTART:20220313T030000
RDATE:20221106T010000
TZOFFSETFROM:-0600
TZOFFSETTO:-0500
TZNAME:America/Chicago CDT
END:DAYLIGHT
BEGIN:DAYLIGHT
DTSTART:20230312T030000
RDATE:20231105T010000
TZOFFSETFROM:-0600
TZOFFSETTO:-0500
TZNAME:America/Chicago CDT
END:DAYLIGHT
BEGIN:DAYLIGHT
DTSTART:20240310T030000
RDATE:20241103T010000
TZOFFSETFROM:-0600
TZOFFSETTO:-0500
TZNAME:America/Chicago CDT
END:DAYLIGHT
BEGIN:DAYLIGHT
DTSTART:20250309T030000
RDATE:20251102T010000
TZOFFSETFROM:-0600
TZOFFSETTO:-0500
TZNAME:America/Chicago CDT
END:DAYLIGHT
BEGIN:DAYLIGHT
DTSTART:20260308T030000
RDATE:20261101T010000
TZOFFSETFROM:-0600
TZOFFSETTO:-0500
TZNAME:America/Chicago CDT
END:DAYLIGHT
BEGIN:DAYLIGHT
DTSTART:20270314T030000
RDATE:20271107T010000
TZOFFSETFROM:-0600
TZOFFSETTO:-0500
TZNAME:America/Chicago CDT
END:DAYLIGHT
BEGIN:DAYLIGHT
DTSTART:20280312T030000
RDATE:20281105T010000
TZOFFSETFROM:-0600
TZOFFSETTO:-0500
TZNAME:America/Chicago CDT
END:DAYLIGHT
END:VTIMEZONE
BEGIN:VEVENT
UID:ad1744e73b71960a43dbb3c2f8638b3c
CATEGORIES:5K
CREATED:20220312T061309
SUMMARY:Run for Hope Family 5K
GEO:-93.21303558;36.64141846
LOCATION:Branson Landing - 100 Branson Landing\, Branson\, MO\, \, 
URL;VALUE=URI:https://beta.actnowracing.com/events/728/run-for-hope-family-5k-geo-93-2130
 3558-36-64141846?tmpl=component
DESCRIPTION:We invite you to join the students and families of Ozarks Teen Challenge in
  the fight against teen addiction as we Run for Hope!  \nOzarks Teen Challe
 nge is a local non-profit, Christian rehabilitation center for teenage boys
  ages 11-17 who are struggling with addiction or other life controlling iss
 ues. Every aspect of our 15-month program: the daily routine, individualize
 d academic &amp; discipleship tracts, recreation therapy, leadership traini
 ng, &amp; life skills projects are developed with intentionality, focusing 
 upon each student's personal growth and development. We are passionate abou
 t life transformation and restoring family relationships! To learn more abo
 ut us go to: www.ozarksteenchallenge.com (https://www.ozarksteenchallenge.c
 om).\nOnline registration has closed, however you can register in person be
 tween 7:15 and 7:50 this Saturday. See you at the Branson Landing!\n This e
 vent was imported from: https://beta.actnowracing.com/events/728/run-for-ho
 pe-family-5k-geo-93-21303558-36-64141846?tmpl=component
X-ALT-DESC;FMTTYPE=text/html:<p style="text-align: center;"><em><strong>We invite you to join the studen
 ts and families of Ozarks Teen Challenge in the fight against teen addictio
 n as we Run for Hope!  </strong></em></p><p><span class="wf_file_text">Ozar
 ks Teen Challenge is a local non-profit, Christian rehabilitation center fo
 r teenage boys ages 11-17 who are struggling with addiction or other life c
 ontrolling issues. Every aspect of our 15-month program: the daily routine,
  individualized academic & discipleship tracts, recreation therapy, leaders
 hip training, & life skills projects are developed with intentionality, foc
 using upon each student's personal growth and development. We are passionat
 e about life transformation and restoring family relationships! To learn mo
 re about us go to: <a href="https://www.ozarksteenchallenge.com" target="_b
 lank" rel="noopener">www.ozarksteenchallenge.com</a>.</span></p><p style="t
 ext-align: center;"><strong>Online registration has closed, however you can
  register in person between 7:15 and 7:50 this Saturday. See you at the Bra
 nson Landing!</strong></p> <a href="https://beta.actnowracing.com/events/72
 8/run-for-hope-family-5k-geo-93-21303558-36-64141846?tmpl=component">This e
 vent was imported from: https://beta.actnowracing.com/events/728/run-for-ho
 pe-family-5k-geo-93-21303558-36-64141846?tmpl=component</a>DTSTAMP:20260424T134143
DTSTART;TZID=America/Chicago:20220716T080000
SEQUENCE:0
TRANSP:OPAQUE
END:VEVENT
END:VCALENDAR