BEGIN:VCALENDAR
VERSION:2.0
PRODID:-//jEvents 2.0 for Joomla//EN
CALSCALE:GREGORIAN
METHOD:PUBLISH
BEGIN:VTIMEZONE
TZID:America/Chicago
BEGIN:STANDARD
DTSTART:20211107T010000
RDATE:20220313T030000
TZOFFSETFROM:-0500
TZOFFSETTO:-0600
TZNAME:America/Chicago CST
END:STANDARD
BEGIN:STANDARD
DTSTART:20221106T010000
RDATE:20230312T030000
TZOFFSETFROM:-0500
TZOFFSETTO:-0600
TZNAME:America/Chicago CST
END:STANDARD
BEGIN:STANDARD
DTSTART:20231105T010000
RDATE:20240310T030000
TZOFFSETFROM:-0500
TZOFFSETTO:-0600
TZNAME:America/Chicago CST
END:STANDARD
BEGIN:STANDARD
DTSTART:20241103T010000
RDATE:20250309T030000
TZOFFSETFROM:-0500
TZOFFSETTO:-0600
TZNAME:America/Chicago CST
END:STANDARD
BEGIN:STANDARD
DTSTART:20251102T010000
RDATE:20260308T030000
TZOFFSETFROM:-0500
TZOFFSETTO:-0600
TZNAME:America/Chicago CST
END:STANDARD
BEGIN:STANDARD
DTSTART:20261101T010000
RDATE:20270314T030000
TZOFFSETFROM:-0500
TZOFFSETTO:-0600
TZNAME:America/Chicago CST
END:STANDARD
BEGIN:STANDARD
DTSTART:20271107T010000
RDATE:20280312T030000
TZOFFSETFROM:-0500
TZOFFSETTO:-0600
TZNAME:America/Chicago CST
END:STANDARD
BEGIN:STANDARD
DTSTART:20281105T010000
RDATE:20290311T030000
TZOFFSETFROM:-0500
TZOFFSETTO:-0600
TZNAME:America/Chicago CST
END:STANDARD
BEGIN:DAYLIGHT
DTSTART:20210608T183000
RDATE:20211107T010000
TZOFFSETFROM:-0600
TZOFFSETTO:-0500
TZNAME:America/Chicago CDT
END:DAYLIGHT
BEGIN:DAYLIGHT
DTSTART:20220313T030000
RDATE:20221106T010000
TZOFFSETFROM:-0600
TZOFFSETTO:-0500
TZNAME:America/Chicago CDT
END:DAYLIGHT
BEGIN:DAYLIGHT
DTSTART:20230312T030000
RDATE:20231105T010000
TZOFFSETFROM:-0600
TZOFFSETTO:-0500
TZNAME:America/Chicago CDT
END:DAYLIGHT
BEGIN:DAYLIGHT
DTSTART:20240310T030000
RDATE:20241103T010000
TZOFFSETFROM:-0600
TZOFFSETTO:-0500
TZNAME:America/Chicago CDT
END:DAYLIGHT
BEGIN:DAYLIGHT
DTSTART:20250309T030000
RDATE:20251102T010000
TZOFFSETFROM:-0600
TZOFFSETTO:-0500
TZNAME:America/Chicago CDT
END:DAYLIGHT
BEGIN:DAYLIGHT
DTSTART:20260308T030000
RDATE:20261101T010000
TZOFFSETFROM:-0600
TZOFFSETTO:-0500
TZNAME:America/Chicago CDT
END:DAYLIGHT
BEGIN:DAYLIGHT
DTSTART:20270314T030000
RDATE:20271107T010000
TZOFFSETFROM:-0600
TZOFFSETTO:-0500
TZNAME:America/Chicago CDT
END:DAYLIGHT
BEGIN:DAYLIGHT
DTSTART:20280312T030000
RDATE:20281105T010000
TZOFFSETFROM:-0600
TZOFFSETTO:-0500
TZNAME:America/Chicago CDT
END:DAYLIGHT
END:VTIMEZONE
BEGIN:VEVENT
UID:c899bf36b72700509a374cda4666ba63
CATEGORIES:5K, 1 Mile
CREATED:20220408T052735
SUMMARY:Run and Remember
GEO:-93.28443146;37.2105484
LOCATION:Jordan Valley Park - 635 E. Traffic Way\, Springfield\, MO\, \, 
URL;VALUE=URI:https://beta.actnowracing.com/events/735/run-and-remember-geo-93-28443146-3
 7-2105484?tmpl=component
DESCRIPTION:DUE TO WEATHER, RACE HAS BEEN RESCHEDULED FOR THURSDAY, JUNE 9TH\nEach year
  Lost &amp; Found Grief Center hosts a 5K and memorial event to bring our c
 ommunity together to commemorate the memory of loved ones who have died. Ru
 n and Remember is more than a 5K. Join us for a walk through the memorial g
 arden, to honor the lives of those we have lost. \nONLINE REGISTRATION WILL
  BE CLOSING MONDAY, JUNE 6TH AT 8PM. \n \n \n This event was imported from:
  https://beta.actnowracing.com/events/735/run-and-remember-geo-93-28443146-
 37-2105484?tmpl=component
X-ALT-DESC;FMTTYPE=text/html:<p style="text-align: center;"><span style="text-decoration: underline;"><s
 trong>DUE TO WEATHER, RACE HAS BEEN RESCHEDULED FOR THURSDAY, JUNE 9TH</str
 ong></span></p><p>Each year Lost &amp; Found Grief Center hosts a 5K and me
 morial event to bring our community together to commemorate the memory of l
 oved ones who have died. Run and Remember is more than a 5K. Join us for a 
 walk through the memorial garden, to honor the lives of those we have lost.
 &nbsp;</p><p style="text-align: center;"><strong>ONLINE REGISTRATION WILL B
 E CLOSING MONDAY, JUNE 6TH AT 8PM.&nbsp;</strong></p><p>&nbsp;</p><p>&nbsp;
 </p> <a href="https://beta.actnowracing.com/events/735/run-and-remember-geo
 -93-28443146-37-2105484?tmpl=component">This event was imported from: https
 ://beta.actnowracing.com/events/735/run-and-remember-geo-93-28443146-37-210
 5484?tmpl=component</a>DTSTAMP:20260422T174814
DTSTART;TZID=America/Chicago:20220609T183000
SEQUENCE:0
TRANSP:OPAQUE
END:VEVENT
END:VCALENDAR