BEGIN:VCALENDAR
VERSION:2.0
PRODID:-//jEvents 2.0 for Joomla//EN
CALSCALE:GREGORIAN
METHOD:PUBLISH
BEGIN:VTIMEZONE
TZID:America/Chicago
BEGIN:STANDARD
DTSTART:20211107T010000
RDATE:20220313T030000
TZOFFSETFROM:-0500
TZOFFSETTO:-0600
TZNAME:America/Chicago CST
END:STANDARD
BEGIN:STANDARD
DTSTART:20221106T010000
RDATE:20230312T030000
TZOFFSETFROM:-0500
TZOFFSETTO:-0600
TZNAME:America/Chicago CST
END:STANDARD
BEGIN:STANDARD
DTSTART:20231105T010000
RDATE:20240310T030000
TZOFFSETFROM:-0500
TZOFFSETTO:-0600
TZNAME:America/Chicago CST
END:STANDARD
BEGIN:STANDARD
DTSTART:20241103T010000
RDATE:20250309T030000
TZOFFSETFROM:-0500
TZOFFSETTO:-0600
TZNAME:America/Chicago CST
END:STANDARD
BEGIN:STANDARD
DTSTART:20251102T010000
RDATE:20260308T030000
TZOFFSETFROM:-0500
TZOFFSETTO:-0600
TZNAME:America/Chicago CST
END:STANDARD
BEGIN:STANDARD
DTSTART:20261101T010000
RDATE:20270314T030000
TZOFFSETFROM:-0500
TZOFFSETTO:-0600
TZNAME:America/Chicago CST
END:STANDARD
BEGIN:STANDARD
DTSTART:20271107T010000
RDATE:20280312T030000
TZOFFSETFROM:-0500
TZOFFSETTO:-0600
TZNAME:America/Chicago CST
END:STANDARD
BEGIN:STANDARD
DTSTART:20281105T010000
RDATE:20290311T030000
TZOFFSETFROM:-0500
TZOFFSETTO:-0600
TZNAME:America/Chicago CST
END:STANDARD
BEGIN:DAYLIGHT
DTSTART:20210819T203000
RDATE:20211107T010000
TZOFFSETFROM:-0600
TZOFFSETTO:-0500
TZNAME:America/Chicago CDT
END:DAYLIGHT
BEGIN:DAYLIGHT
DTSTART:20220313T030000
RDATE:20221106T010000
TZOFFSETFROM:-0600
TZOFFSETTO:-0500
TZNAME:America/Chicago CDT
END:DAYLIGHT
BEGIN:DAYLIGHT
DTSTART:20230312T030000
RDATE:20231105T010000
TZOFFSETFROM:-0600
TZOFFSETTO:-0500
TZNAME:America/Chicago CDT
END:DAYLIGHT
BEGIN:DAYLIGHT
DTSTART:20240310T030000
RDATE:20241103T010000
TZOFFSETFROM:-0600
TZOFFSETTO:-0500
TZNAME:America/Chicago CDT
END:DAYLIGHT
BEGIN:DAYLIGHT
DTSTART:20250309T030000
RDATE:20251102T010000
TZOFFSETFROM:-0600
TZOFFSETTO:-0500
TZNAME:America/Chicago CDT
END:DAYLIGHT
BEGIN:DAYLIGHT
DTSTART:20260308T030000
RDATE:20261101T010000
TZOFFSETFROM:-0600
TZOFFSETTO:-0500
TZNAME:America/Chicago CDT
END:DAYLIGHT
BEGIN:DAYLIGHT
DTSTART:20270314T030000
RDATE:20271107T010000
TZOFFSETFROM:-0600
TZOFFSETTO:-0500
TZNAME:America/Chicago CDT
END:DAYLIGHT
BEGIN:DAYLIGHT
DTSTART:20280312T030000
RDATE:20281105T010000
TZOFFSETFROM:-0600
TZOFFSETTO:-0500
TZNAME:America/Chicago CDT
END:DAYLIGHT
END:VTIMEZONE
BEGIN:VEVENT
UID:a9ac13d4ca81f1fd3b2f82a727b78089
CATEGORIES:5K, 1 Mile
CREATED:20220425T130720
SUMMARY:Neon Night Run
GEO:-93.36062622;37.19142914
LOCATION:Rutledge Wilson Farm Park - 3825 W. Farm Road 146\, Springfield\, MO\, \, 
URL;VALUE=URI:https://beta.actnowracing.com/events/744/neon-night-run-geo-93-36062622-37-
 19142914?tmpl=component
DESCRIPTION:Here we Glow! It’s time for the NEON Night Run/Walk, NAMI Southwest Missour
 i’s annual event for Suicide Prevention. This 5k timed event and 1 mile non
 -timed event is a glowing experience with illuminating lights and neon glow
 . This is the area’s coolest, most eye dazzling nighttime 5K and 1 mile fea
 turing an illuminated trail, sounds of our Amazing DJ, the glow Zone and a 
 Photo Booth! Participants will receive a unique t-shirt and glow gear. The 
 illuminated Memorial Garden is a place where participants can remember thos
 e lost to suicide through the purchase of a plastic lighted luminary.\nOnli
 ne registration will be closing on Friday, August 19th at 5PM.  You can reg
 ister in person at packet pickup or at the event on Saturday from 7:30pm to
  8:15pm.   \n This event was imported from: https://beta.actnowracing.com/e
 vents/744/neon-night-run-geo-93-36062622-37-19142914?tmpl=component
X-ALT-DESC;FMTTYPE=text/html:<p>Here we Glow! It’s time for the NEON Night Run/Walk, NAMI Southwest Miss
 ouri’s annual event for Suicide Prevention. This 5k timed event and 1 mile 
 non-timed event is a glowing experience with illuminating lights and neon g
 low. This is the area’s coolest, most eye dazzling nighttime 5K and 1 mile 
 featuring an illuminated trail, sounds of our Amazing DJ, the glow Zone and
  a Photo Booth! Participants will receive a unique t-shirt and glow gear. T
 he illuminated Memorial Garden is a place where participants can remember t
 hose lost to suicide through the purchase of a plastic lighted luminary.</p
 ><p>Online registration will be closing on Friday, August 19th at 5PM.  You
  can register in person at packet pickup or at the event on Saturday from 7
 :30pm to 8:15pm.   </p> <a href="https://beta.actnowracing.com/events/744/n
 eon-night-run-geo-93-36062622-37-19142914?tmpl=component">This event was im
 ported from: https://beta.actnowracing.com/events/744/neon-night-run-geo-93
 -36062622-37-19142914?tmpl=component</a>CONTACT:Kari Norris 417-893-1593. RegularLabs.EmailProtector.unCloak("ep_f5b8427a");
DTSTAMP:20260424T134156
DTSTART;TZID=America/Chicago:20220820T203000
SEQUENCE:0
TRANSP:OPAQUE
END:VEVENT
END:VCALENDAR