BEGIN:VCALENDAR
VERSION:2.0
PRODID:-//jEvents 2.0 for Joomla//EN
CALSCALE:GREGORIAN
METHOD:PUBLISH
BEGIN:VTIMEZONE
TZID:America/Chicago
BEGIN:STANDARD
DTSTART:20211125T080000
RDATE:20220313T030000
TZOFFSETFROM:-0500
TZOFFSETTO:-0600
TZNAME:America/Chicago CST
END:STANDARD
BEGIN:STANDARD
DTSTART:20221106T010000
RDATE:20230312T030000
TZOFFSETFROM:-0500
TZOFFSETTO:-0600
TZNAME:America/Chicago CST
END:STANDARD
BEGIN:STANDARD
DTSTART:20231105T010000
RDATE:20240310T030000
TZOFFSETFROM:-0500
TZOFFSETTO:-0600
TZNAME:America/Chicago CST
END:STANDARD
BEGIN:STANDARD
DTSTART:20241103T010000
RDATE:20250309T030000
TZOFFSETFROM:-0500
TZOFFSETTO:-0600
TZNAME:America/Chicago CST
END:STANDARD
BEGIN:STANDARD
DTSTART:20251102T010000
RDATE:20260308T030000
TZOFFSETFROM:-0500
TZOFFSETTO:-0600
TZNAME:America/Chicago CST
END:STANDARD
BEGIN:STANDARD
DTSTART:20261101T010000
RDATE:20270314T030000
TZOFFSETFROM:-0500
TZOFFSETTO:-0600
TZNAME:America/Chicago CST
END:STANDARD
BEGIN:STANDARD
DTSTART:20271107T010000
RDATE:20280312T030000
TZOFFSETFROM:-0500
TZOFFSETTO:-0600
TZNAME:America/Chicago CST
END:STANDARD
BEGIN:STANDARD
DTSTART:20281105T010000
RDATE:20290311T030000
TZOFFSETFROM:-0500
TZOFFSETTO:-0600
TZNAME:America/Chicago CST
END:STANDARD
BEGIN:DAYLIGHT
DTSTART:20220313T030000
RDATE:20221106T010000
TZOFFSETFROM:-0600
TZOFFSETTO:-0500
TZNAME:America/Chicago CDT
END:DAYLIGHT
BEGIN:DAYLIGHT
DTSTART:20230312T030000
RDATE:20231105T010000
TZOFFSETFROM:-0600
TZOFFSETTO:-0500
TZNAME:America/Chicago CDT
END:DAYLIGHT
BEGIN:DAYLIGHT
DTSTART:20240310T030000
RDATE:20241103T010000
TZOFFSETFROM:-0600
TZOFFSETTO:-0500
TZNAME:America/Chicago CDT
END:DAYLIGHT
BEGIN:DAYLIGHT
DTSTART:20250309T030000
RDATE:20251102T010000
TZOFFSETFROM:-0600
TZOFFSETTO:-0500
TZNAME:America/Chicago CDT
END:DAYLIGHT
BEGIN:DAYLIGHT
DTSTART:20260308T030000
RDATE:20261101T010000
TZOFFSETFROM:-0600
TZOFFSETTO:-0500
TZNAME:America/Chicago CDT
END:DAYLIGHT
BEGIN:DAYLIGHT
DTSTART:20270314T030000
RDATE:20271107T010000
TZOFFSETFROM:-0600
TZOFFSETTO:-0500
TZNAME:America/Chicago CDT
END:DAYLIGHT
BEGIN:DAYLIGHT
DTSTART:20280312T030000
RDATE:20281105T010000
TZOFFSETFROM:-0600
TZOFFSETTO:-0500
TZNAME:America/Chicago CDT
END:DAYLIGHT
END:VTIMEZONE
BEGIN:VEVENT
UID:d4ca4905504210baa731e0f8b39ec3e4
CATEGORIES:5K, Half Marathon
CREATED:20220818T052650
SUMMARY:Table Rock Half Marathon & 5K
GEO:-93.29611969;36.6047287
LOCATION:Dewey Short Visitors Center - 4600 State Hwy 65\, Branson\, MO\, 65616\, 
URL;VALUE=URI:https://beta.actnowracing.com/events/779/table-rock-half-marathon-5k-geo-93
 -29611969-36-6047287?tmpl=component
DESCRIPTION:Join us for the Annual Table Rock Half Marathon &amp; 5K on Lakeshore Trail
  in Branson, MO.  This event was imported from: https://beta.actnowracing.c
 om/events/779/table-rock-half-marathon-5k-geo-93-29611969-36-6047287?tmpl=c
 omponent
X-ALT-DESC;FMTTYPE=text/html:Join us for the Annual Table Rock Half Marathon & 5K on Lakeshore Trail in 
 Branson, MO.  <a href="https://beta.actnowracing.com/events/779/table-rock-
 half-marathon-5k-geo-93-29611969-36-6047287?tmpl=component">This event was 
 imported from: https://beta.actnowracing.com/events/779/table-rock-half-mar
 athon-5k-geo-93-29611969-36-6047287?tmpl=component</a>CONTACT:Becky Lowrance at 417-294-4775. Email: RegularLabs.EmailProtector.unCloak("ep_b0c087e8");.
DTSTAMP:20260423T154940
DTSTART;TZID=America/Chicago:20221126T080000
SEQUENCE:0
TRANSP:OPAQUE
END:VEVENT
END:VCALENDAR