BEGIN:VCALENDAR
VERSION:2.0
PRODID:-//jEvents 2.0 for Joomla//EN
CALSCALE:GREGORIAN
METHOD:PUBLISH
BEGIN:VTIMEZONE
TZID:America/Chicago
BEGIN:STANDARD
DTSTART:20220217T090000
RDATE:20220313T030000
TZOFFSETFROM:-0500
TZOFFSETTO:-0600
TZNAME:America/Chicago CST
END:STANDARD
BEGIN:STANDARD
DTSTART:20221106T010000
RDATE:20230312T030000
TZOFFSETFROM:-0500
TZOFFSETTO:-0600
TZNAME:America/Chicago CST
END:STANDARD
BEGIN:STANDARD
DTSTART:20231105T010000
RDATE:20240310T030000
TZOFFSETFROM:-0500
TZOFFSETTO:-0600
TZNAME:America/Chicago CST
END:STANDARD
BEGIN:STANDARD
DTSTART:20241103T010000
RDATE:20250309T030000
TZOFFSETFROM:-0500
TZOFFSETTO:-0600
TZNAME:America/Chicago CST
END:STANDARD
BEGIN:STANDARD
DTSTART:20251102T010000
RDATE:20260308T030000
TZOFFSETFROM:-0500
TZOFFSETTO:-0600
TZNAME:America/Chicago CST
END:STANDARD
BEGIN:STANDARD
DTSTART:20261101T010000
RDATE:20270314T030000
TZOFFSETFROM:-0500
TZOFFSETTO:-0600
TZNAME:America/Chicago CST
END:STANDARD
BEGIN:STANDARD
DTSTART:20271107T010000
RDATE:20280312T030000
TZOFFSETFROM:-0500
TZOFFSETTO:-0600
TZNAME:America/Chicago CST
END:STANDARD
BEGIN:STANDARD
DTSTART:20281105T010000
RDATE:20290311T030000
TZOFFSETFROM:-0500
TZOFFSETTO:-0600
TZNAME:America/Chicago CST
END:STANDARD
BEGIN:DAYLIGHT
DTSTART:20220313T030000
RDATE:20221106T010000
TZOFFSETFROM:-0600
TZOFFSETTO:-0500
TZNAME:America/Chicago CDT
END:DAYLIGHT
BEGIN:DAYLIGHT
DTSTART:20230312T030000
RDATE:20231105T010000
TZOFFSETFROM:-0600
TZOFFSETTO:-0500
TZNAME:America/Chicago CDT
END:DAYLIGHT
BEGIN:DAYLIGHT
DTSTART:20240310T030000
RDATE:20241103T010000
TZOFFSETFROM:-0600
TZOFFSETTO:-0500
TZNAME:America/Chicago CDT
END:DAYLIGHT
BEGIN:DAYLIGHT
DTSTART:20250309T030000
RDATE:20251102T010000
TZOFFSETFROM:-0600
TZOFFSETTO:-0500
TZNAME:America/Chicago CDT
END:DAYLIGHT
BEGIN:DAYLIGHT
DTSTART:20260308T030000
RDATE:20261101T010000
TZOFFSETFROM:-0600
TZOFFSETTO:-0500
TZNAME:America/Chicago CDT
END:DAYLIGHT
BEGIN:DAYLIGHT
DTSTART:20270314T030000
RDATE:20271107T010000
TZOFFSETFROM:-0600
TZOFFSETTO:-0500
TZNAME:America/Chicago CDT
END:DAYLIGHT
BEGIN:DAYLIGHT
DTSTART:20280312T030000
RDATE:20281105T010000
TZOFFSETFROM:-0600
TZOFFSETTO:-0500
TZNAME:America/Chicago CDT
END:DAYLIGHT
END:VTIMEZONE
BEGIN:VEVENT
UID:f225988d0f218294923a4eff6076d1fb
CATEGORIES:5K, 10K
CREATED:20220822T124852
SUMMARY:44th Annual Polar Bear Run
GEO:-93.41164398;37.6015625
LOCATION:Southwest Baptist University Student Union - 1600 University Avenue\, Boliv
 ar\, MO\, \, 
URL;VALUE=URI:https://beta.actnowracing.com/events/781/44th-annual-polar-bear-run-geo-93-
 41164398-37-6015625?tmpl=component
DESCRIPTION:Join us for the 44th annual Polar Bear Run Saturday, February 18, 2023.  Th
 is event will be benefiting the Bolivar Liberator Cross Country program.\nY
 OU MUST REGISTER BY FEBRUARY 8TH TO GET A CREW NECK SWEATSHIRT!!\nIf you re
 gister 2/9/23 to race day you WILL NOT receive a crew neck sweatshirt.  You
  had to register before 2/9/23 to receive a sweatshirt, NO extras were orde
 red. \n This event was imported from: https://beta.actnowracing.com/events/
 781/44th-annual-polar-bear-run-geo-93-41164398-37-6015625?tmpl=component
X-ALT-DESC;FMTTYPE=text/html:<p>Join us for the 44th annual Polar Bear Run Saturday, February 18, 2023. 
  This event will be benefiting the Bolivar Liberator Cross Country program.
 </p><p style="text-align: center;">YOU MUST REGISTER BY FEBRUARY 8TH TO GET
  A CREW NECK SWEATSHIRT!!</p><p>If you register 2/9/23 to race day you WILL
  NOT receive a crew neck sweatshirt.  You had to register before 2/9/23 to 
 receive a sweatshirt, NO extras were ordered. </p> <a href="https://beta.ac
 tnowracing.com/events/781/44th-annual-polar-bear-run-geo-93-41164398-37-601
 5625?tmpl=component">This event was imported from: https://beta.actnowracin
 g.com/events/781/44th-annual-polar-bear-run-geo-93-41164398-37-6015625?tmpl
 =component</a>CONTACT:Ron Bandy at RegularLabs.EmailProtector.unCloak("ep_e3f7a5b5");
DTSTAMP:20260423T160010
DTSTART;TZID=America/Chicago:20230218T090000
SEQUENCE:0
TRANSP:OPAQUE
END:VEVENT
END:VCALENDAR