BEGIN:VCALENDAR
VERSION:2.0
PRODID:-//jEvents 2.0 for Joomla//EN
CALSCALE:GREGORIAN
METHOD:PUBLISH
BEGIN:VTIMEZONE
TZID:America/Chicago
BEGIN:STANDARD
DTSTART:20211107T010000
RDATE:20220313T030000
TZOFFSETFROM:-0500
TZOFFSETTO:-0600
TZNAME:America/Chicago CST
END:STANDARD
BEGIN:STANDARD
DTSTART:20221106T010000
RDATE:20230312T030000
TZOFFSETFROM:-0500
TZOFFSETTO:-0600
TZNAME:America/Chicago CST
END:STANDARD
BEGIN:STANDARD
DTSTART:20231105T010000
RDATE:20240310T030000
TZOFFSETFROM:-0500
TZOFFSETTO:-0600
TZNAME:America/Chicago CST
END:STANDARD
BEGIN:STANDARD
DTSTART:20241103T010000
RDATE:20250309T030000
TZOFFSETFROM:-0500
TZOFFSETTO:-0600
TZNAME:America/Chicago CST
END:STANDARD
BEGIN:STANDARD
DTSTART:20251102T010000
RDATE:20260308T030000
TZOFFSETFROM:-0500
TZOFFSETTO:-0600
TZNAME:America/Chicago CST
END:STANDARD
BEGIN:STANDARD
DTSTART:20261101T010000
RDATE:20270314T030000
TZOFFSETFROM:-0500
TZOFFSETTO:-0600
TZNAME:America/Chicago CST
END:STANDARD
BEGIN:STANDARD
DTSTART:20271107T010000
RDATE:20280312T030000
TZOFFSETFROM:-0500
TZOFFSETTO:-0600
TZNAME:America/Chicago CST
END:STANDARD
BEGIN:STANDARD
DTSTART:20281105T010000
RDATE:20290311T030000
TZOFFSETFROM:-0500
TZOFFSETTO:-0600
TZNAME:America/Chicago CST
END:STANDARD
BEGIN:DAYLIGHT
DTSTART:20210916T080000
RDATE:20211107T010000
TZOFFSETFROM:-0600
TZOFFSETTO:-0500
TZNAME:America/Chicago CDT
END:DAYLIGHT
BEGIN:DAYLIGHT
DTSTART:20220313T030000
RDATE:20221106T010000
TZOFFSETFROM:-0600
TZOFFSETTO:-0500
TZNAME:America/Chicago CDT
END:DAYLIGHT
BEGIN:DAYLIGHT
DTSTART:20230312T030000
RDATE:20231105T010000
TZOFFSETFROM:-0600
TZOFFSETTO:-0500
TZNAME:America/Chicago CDT
END:DAYLIGHT
BEGIN:DAYLIGHT
DTSTART:20240310T030000
RDATE:20241103T010000
TZOFFSETFROM:-0600
TZOFFSETTO:-0500
TZNAME:America/Chicago CDT
END:DAYLIGHT
BEGIN:DAYLIGHT
DTSTART:20250309T030000
RDATE:20251102T010000
TZOFFSETFROM:-0600
TZOFFSETTO:-0500
TZNAME:America/Chicago CDT
END:DAYLIGHT
BEGIN:DAYLIGHT
DTSTART:20260308T030000
RDATE:20261101T010000
TZOFFSETFROM:-0600
TZOFFSETTO:-0500
TZNAME:America/Chicago CDT
END:DAYLIGHT
BEGIN:DAYLIGHT
DTSTART:20270314T030000
RDATE:20271107T010000
TZOFFSETFROM:-0600
TZOFFSETTO:-0500
TZNAME:America/Chicago CDT
END:DAYLIGHT
BEGIN:DAYLIGHT
DTSTART:20280312T030000
RDATE:20281105T010000
TZOFFSETFROM:-0600
TZOFFSETTO:-0500
TZNAME:America/Chicago CDT
END:DAYLIGHT
END:VTIMEZONE
BEGIN:VEVENT
UID:b5b959795009ca2ff80a71e77365cc1c
CATEGORIES:5K
CREATED:20220910T065130
SUMMARY:Care 2 Learn 5K
GEO:-92.95349884;37.16119003
LOCATION:Fordland High School - 1230 School St\, Fordland\, MO\, \, 
URL;VALUE=URI:https://beta.actnowracing.com/events/787/care-2-learn-5k-geo-92-95349884-37
 -16119003?tmpl=component
DESCRIPTION:Fordland Community Care Day and 5K  Run/Walk &amp; Kids Fun Run \nPancake B
 reakfast ~ 5K Run ~ Auction ~ Music ~ Kids Fun Run \nA 5K Fun Run to benefi
 t the Fordland Care To Learn chapter. The goal for this fundraiser is to pr
 ovide immediate funding and action to meet any emergent health, hunger, or 
 hygiene need and restore a child's self-respect so they can get back in the
  classroom.\n This event was imported from: https://beta.actnowracing.com/e
 vents/787/care-2-learn-5k-geo-92-95349884-37-16119003?tmpl=component
X-ALT-DESC;FMTTYPE=text/html:<p style="text-align: center;"><strong>Fordland Community Care Day and 5K  
 Run/Walk & Kids Fun Run </strong></p><p style="text-align: center;"><strong
 >Pancake Breakfast ~ 5K Run ~ Auction ~ Music ~ Kids Fun Run </strong></p><
 p>A 5K Fun Run to benefit the Fordland Care To Learn chapter. The goal for 
 this fundraiser is to provide immediate funding and action to meet any emer
 gent health, hunger, or hygiene need and restore a child's self-respect so 
 they can get back in the classroom.</p> <a href="https://beta.actnowracing.
 com/events/787/care-2-learn-5k-geo-92-95349884-37-16119003?tmpl=component">
 This event was imported from: https://beta.actnowracing.com/events/787/care
 -2-learn-5k-geo-92-95349884-37-16119003?tmpl=component</a>DTSTAMP:20260424T190749
DTSTART;TZID=America/Chicago:20220917T080000
SEQUENCE:0
TRANSP:OPAQUE
END:VEVENT
END:VCALENDAR