BEGIN:VCALENDAR
VERSION:2.0
PRODID:-//jEvents 2.0 for Joomla//EN
CALSCALE:GREGORIAN
METHOD:PUBLISH
BEGIN:VTIMEZONE
TZID:America/Chicago
BEGIN:STANDARD
DTSTART:20221106T010000
RDATE:20230312T030000
TZOFFSETFROM:-0500
TZOFFSETTO:-0600
TZNAME:America/Chicago CST
END:STANDARD
BEGIN:STANDARD
DTSTART:20231105T010000
RDATE:20240310T030000
TZOFFSETFROM:-0500
TZOFFSETTO:-0600
TZNAME:America/Chicago CST
END:STANDARD
BEGIN:STANDARD
DTSTART:20241103T010000
RDATE:20250309T030000
TZOFFSETFROM:-0500
TZOFFSETTO:-0600
TZNAME:America/Chicago CST
END:STANDARD
BEGIN:STANDARD
DTSTART:20251102T010000
RDATE:20260308T030000
TZOFFSETFROM:-0500
TZOFFSETTO:-0600
TZNAME:America/Chicago CST
END:STANDARD
BEGIN:STANDARD
DTSTART:20261101T010000
RDATE:20270314T030000
TZOFFSETFROM:-0500
TZOFFSETTO:-0600
TZNAME:America/Chicago CST
END:STANDARD
BEGIN:STANDARD
DTSTART:20271107T010000
RDATE:20280312T030000
TZOFFSETFROM:-0500
TZOFFSETTO:-0600
TZNAME:America/Chicago CST
END:STANDARD
BEGIN:STANDARD
DTSTART:20281105T010000
RDATE:20290311T030000
TZOFFSETFROM:-0500
TZOFFSETTO:-0600
TZNAME:America/Chicago CST
END:STANDARD
BEGIN:DAYLIGHT
DTSTART:20220519T090000
RDATE:20221106T010000
TZOFFSETFROM:-0600
TZOFFSETTO:-0500
TZNAME:America/Chicago CDT
END:DAYLIGHT
BEGIN:DAYLIGHT
DTSTART:20230312T030000
RDATE:20231105T010000
TZOFFSETFROM:-0600
TZOFFSETTO:-0500
TZNAME:America/Chicago CDT
END:DAYLIGHT
BEGIN:DAYLIGHT
DTSTART:20240310T030000
RDATE:20241103T010000
TZOFFSETFROM:-0600
TZOFFSETTO:-0500
TZNAME:America/Chicago CDT
END:DAYLIGHT
BEGIN:DAYLIGHT
DTSTART:20250309T030000
RDATE:20251102T010000
TZOFFSETFROM:-0600
TZOFFSETTO:-0500
TZNAME:America/Chicago CDT
END:DAYLIGHT
BEGIN:DAYLIGHT
DTSTART:20260308T030000
RDATE:20261101T010000
TZOFFSETFROM:-0600
TZOFFSETTO:-0500
TZNAME:America/Chicago CDT
END:DAYLIGHT
BEGIN:DAYLIGHT
DTSTART:20270314T030000
RDATE:20271107T010000
TZOFFSETFROM:-0600
TZOFFSETTO:-0500
TZNAME:America/Chicago CDT
END:DAYLIGHT
BEGIN:DAYLIGHT
DTSTART:20280312T030000
RDATE:20281105T010000
TZOFFSETFROM:-0600
TZOFFSETTO:-0500
TZNAME:America/Chicago CDT
END:DAYLIGHT
END:VTIMEZONE
BEGIN:VEVENT
UID:588fe24715ff5f9d5b639aaa34499eab
CATEGORIES:5K, 10K
CREATED:20221017T043827
SUMMARY:Blue Line Run: Honoring Fallen Heroes
GEO:-93.32685089;37.13753128
LOCATION:Ridgecrest Baptist Church - 2210 W Republic Road\, Springfield\, MO\, 65807
 \, 
URL;VALUE=URI:https://beta.actnowracing.com/events/796/blue-line-run-honoring-fallen-hero
 es-geo-93-32685089-37-13753128?tmpl=component
DESCRIPTION:The Blue Line run was created to honor fallen heroes and takes place the we
 ekend of National Police Week. The last mile is called Memorial Mile and wi
 ll be dedicated to first responders and military who have lost their lives.
  All proceeds of the Blue Line Run benefit an educational scholarship fund 
 and a community fund that go to children and families of law enforcement of
 ficers in Southwest Missouri.\nThe event is organized by SPD Wives. SPD Wiv
 es is a nonprofit organization that extends support and education opportuni
 ties to SPD spouses and families while working with local organizations to 
 better our community. We hope you plan to join us!\n \n This event was impo
 rted from: https://beta.actnowracing.com/events/796/blue-line-run-honoring-
 fallen-heroes-geo-93-32685089-37-13753128?tmpl=component
X-ALT-DESC;FMTTYPE=text/html:<p>The Blue Line run was created to honor fallen heroes and takes place the
  weekend of National Police Week. The last mile is called Memorial Mile and
  will be dedicated to first responders and military who have lost their liv
 es. All proceeds of the Blue Line Run benefit an educational scholarship fu
 nd and a community fund that go to children and families of law enforcement
  officers in Southwest Missouri.</p><p>The event is organized by SPD Wives.
  SPD Wives is a nonprofit organization that extends support and education o
 pportunities to SPD spouses and families while working with local organizat
 ions to better our community. We hope you plan to join us!</p><p> </p> <a h
 ref="https://beta.actnowracing.com/events/796/blue-line-run-honoring-fallen
 -heroes-geo-93-32685089-37-13753128?tmpl=component">This event was imported
  from: https://beta.actnowracing.com/events/796/blue-line-run-honoring-fall
 en-heroes-geo-93-32685089-37-13753128?tmpl=component</a>CONTACT:RegularLabs.EmailProtector.unCloak("ep_70ed5bd0");
DTSTAMP:20260422T185556
DTSTART;TZID=America/Chicago:20230520T090000
SEQUENCE:0
TRANSP:OPAQUE
END:VEVENT
END:VCALENDAR