BEGIN:VCALENDAR
VERSION:2.0
PRODID:-//jEvents 2.0 for Joomla//EN
CALSCALE:GREGORIAN
METHOD:PUBLISH
BEGIN:VTIMEZONE
TZID:America/Chicago
BEGIN:STANDARD
DTSTART:20131103T010000
RDATE:20140309T030000
TZOFFSETFROM:-0500
TZOFFSETTO:-0600
TZNAME:America/Chicago CST
END:STANDARD
BEGIN:STANDARD
DTSTART:20141102T010000
RDATE:20150308T030000
TZOFFSETFROM:-0500
TZOFFSETTO:-0600
TZNAME:America/Chicago CST
END:STANDARD
BEGIN:STANDARD
DTSTART:20151101T010000
RDATE:20160313T030000
TZOFFSETFROM:-0500
TZOFFSETTO:-0600
TZNAME:America/Chicago CST
END:STANDARD
BEGIN:STANDARD
DTSTART:20161106T010000
RDATE:20170312T030000
TZOFFSETFROM:-0500
TZOFFSETTO:-0600
TZNAME:America/Chicago CST
END:STANDARD
BEGIN:STANDARD
DTSTART:20171105T010000
RDATE:20180311T030000
TZOFFSETFROM:-0500
TZOFFSETTO:-0600
TZNAME:America/Chicago CST
END:STANDARD
BEGIN:STANDARD
DTSTART:20181104T010000
RDATE:20190310T030000
TZOFFSETFROM:-0500
TZOFFSETTO:-0600
TZNAME:America/Chicago CST
END:STANDARD
BEGIN:STANDARD
DTSTART:20191103T010000
RDATE:20200308T030000
TZOFFSETFROM:-0500
TZOFFSETTO:-0600
TZNAME:America/Chicago CST
END:STANDARD
BEGIN:STANDARD
DTSTART:20201101T010000
RDATE:20210314T030000
TZOFFSETFROM:-0500
TZOFFSETTO:-0600
TZNAME:America/Chicago CST
END:STANDARD
BEGIN:STANDARD
DTSTART:20211107T010000
RDATE:20220313T030000
TZOFFSETFROM:-0500
TZOFFSETTO:-0600
TZNAME:America/Chicago CST
END:STANDARD
BEGIN:STANDARD
DTSTART:20221106T010000
RDATE:20230312T030000
TZOFFSETFROM:-0500
TZOFFSETTO:-0600
TZNAME:America/Chicago CST
END:STANDARD
BEGIN:STANDARD
DTSTART:20231105T010000
RDATE:20240310T030000
TZOFFSETFROM:-0500
TZOFFSETTO:-0600
TZNAME:America/Chicago CST
END:STANDARD
BEGIN:STANDARD
DTSTART:20241103T010000
RDATE:20250309T030000
TZOFFSETFROM:-0500
TZOFFSETTO:-0600
TZNAME:America/Chicago CST
END:STANDARD
BEGIN:STANDARD
DTSTART:20251102T010000
RDATE:20260308T030000
TZOFFSETFROM:-0500
TZOFFSETTO:-0600
TZNAME:America/Chicago CST
END:STANDARD
BEGIN:STANDARD
DTSTART:20261101T010000
RDATE:20270314T030000
TZOFFSETFROM:-0500
TZOFFSETTO:-0600
TZNAME:America/Chicago CST
END:STANDARD
BEGIN:STANDARD
DTSTART:20271107T010000
RDATE:20280312T030000
TZOFFSETFROM:-0500
TZOFFSETTO:-0600
TZNAME:America/Chicago CST
END:STANDARD
BEGIN:STANDARD
DTSTART:20281105T010000
RDATE:20290311T030000
TZOFFSETFROM:-0500
TZOFFSETTO:-0600
TZNAME:America/Chicago CST
END:STANDARD
BEGIN:DAYLIGHT
DTSTART:20130926T073000
RDATE:20131103T010000
TZOFFSETFROM:-0600
TZOFFSETTO:-0500
TZNAME:America/Chicago CDT
END:DAYLIGHT
BEGIN:DAYLIGHT
DTSTART:20140309T030000
RDATE:20141102T010000
TZOFFSETFROM:-0600
TZOFFSETTO:-0500
TZNAME:America/Chicago CDT
END:DAYLIGHT
BEGIN:DAYLIGHT
DTSTART:20150308T030000
RDATE:20151101T010000
TZOFFSETFROM:-0600
TZOFFSETTO:-0500
TZNAME:America/Chicago CDT
END:DAYLIGHT
BEGIN:DAYLIGHT
DTSTART:20160313T030000
RDATE:20161106T010000
TZOFFSETFROM:-0600
TZOFFSETTO:-0500
TZNAME:America/Chicago CDT
END:DAYLIGHT
BEGIN:DAYLIGHT
DTSTART:20170312T030000
RDATE:20171105T010000
TZOFFSETFROM:-0600
TZOFFSETTO:-0500
TZNAME:America/Chicago CDT
END:DAYLIGHT
BEGIN:DAYLIGHT
DTSTART:20180311T030000
RDATE:20181104T010000
TZOFFSETFROM:-0600
TZOFFSETTO:-0500
TZNAME:America/Chicago CDT
END:DAYLIGHT
BEGIN:DAYLIGHT
DTSTART:20190310T030000
RDATE:20191103T010000
TZOFFSETFROM:-0600
TZOFFSETTO:-0500
TZNAME:America/Chicago CDT
END:DAYLIGHT
BEGIN:DAYLIGHT
DTSTART:20200308T030000
RDATE:20201101T010000
TZOFFSETFROM:-0600
TZOFFSETTO:-0500
TZNAME:America/Chicago CDT
END:DAYLIGHT
BEGIN:DAYLIGHT
DTSTART:20210314T030000
RDATE:20211107T010000
TZOFFSETFROM:-0600
TZOFFSETTO:-0500
TZNAME:America/Chicago CDT
END:DAYLIGHT
BEGIN:DAYLIGHT
DTSTART:20220313T030000
RDATE:20221106T010000
TZOFFSETFROM:-0600
TZOFFSETTO:-0500
TZNAME:America/Chicago CDT
END:DAYLIGHT
BEGIN:DAYLIGHT
DTSTART:20230312T030000
RDATE:20231105T010000
TZOFFSETFROM:-0600
TZOFFSETTO:-0500
TZNAME:America/Chicago CDT
END:DAYLIGHT
BEGIN:DAYLIGHT
DTSTART:20240310T030000
RDATE:20241103T010000
TZOFFSETFROM:-0600
TZOFFSETTO:-0500
TZNAME:America/Chicago CDT
END:DAYLIGHT
BEGIN:DAYLIGHT
DTSTART:20250309T030000
RDATE:20251102T010000
TZOFFSETFROM:-0600
TZOFFSETTO:-0500
TZNAME:America/Chicago CDT
END:DAYLIGHT
BEGIN:DAYLIGHT
DTSTART:20260308T030000
RDATE:20261101T010000
TZOFFSETFROM:-0600
TZOFFSETTO:-0500
TZNAME:America/Chicago CDT
END:DAYLIGHT
BEGIN:DAYLIGHT
DTSTART:20270314T030000
RDATE:20271107T010000
TZOFFSETFROM:-0600
TZOFFSETTO:-0500
TZNAME:America/Chicago CDT
END:DAYLIGHT
BEGIN:DAYLIGHT
DTSTART:20280312T030000
RDATE:20281105T010000
TZOFFSETFROM:-0600
TZOFFSETTO:-0500
TZNAME:America/Chicago CDT
END:DAYLIGHT
END:VTIMEZONE
BEGIN:VEVENT
UID:6a025f9ee82da883a1ee9e2650dae885
CATEGORIES:5K, 10K, 1 Mile, Fun Run/Walk
CREATED:20140804T193057
SUMMARY:Nut Run 10K/5K and 1 Mile Fun Run
GEO:-93.7960434;37.69892883
LOCATION:Stockton Square - Junctions of Highway 32 and 39\, Stockton\, MO\, \, US
URL;VALUE=URI:https://beta.actnowracing.com/events/80/nut-run-10k-5k-and-1-mile-fun-run-g
 eo-93-7960434-37-69892883?tmpl=component
DESCRIPTION:Join us for the Stockton Nut Run 5K, 10K and 1 Mile Fun Run/Walk, Saturday,
  September 27th, 2014, at 7:30AM sponsored by Hammons Product Co.  Proceeds
  from this event benefit the Leukemia &amp; Lymphoma Society/Team in Traini
 ng. \nRegistration:  $20 in advance of race (Must pre-register by Monday, S
 eptember 22nd to receive a t-shirt).\nRace Day Registration:  $25 - Registr
 ation and packet pick up will be held from 6:30AM to 7:15AM.\nAge Division 
 Awards:  Male and Female: 14 &amp; Under, 15-24, 25-34, 35-44, 45-54, 55 &a
 mp; Over.\nCourse:  Flats and hills, straights and curves, city and back ro
 ads, this course has it all.  As with all road races, runners must be obser
 vant as the course will not be closed to traffic.\nNut_Run_Registration_For
 m.pdf (https://actnowracing.com/images/Events/Nut_Run/Nut_Run_Registration_
 Form.pdf)\nENJOY THE 54TH ANNUAL BLACK WALNUT FESTIVAL AFTER THE RUN!!\n \n
  \n This event was imported from: https://beta.actnowracing.com/events/80/n
 ut-run-10k-5k-and-1-mile-fun-run-geo-93-7960434-37-69892883?tmpl=component
X-ALT-DESC;FMTTYPE=text/html:<p>Join us for the Stockton Nut Run 5K, 10K and 1 Mile Fun Run/Walk, Saturd
 ay, September 27th, 2014, at 7:30AM sponsored by Hammons Product Co. &nbsp;
 Proceeds from this event benefit the Leukemia &amp; Lymphoma Society/Team i
 n Training.&nbsp;</p><p><strong>Registration:</strong> &nbsp;$20 in advance
  of race (Must pre-register by Monday, September 22nd to receive a t-shirt)
 .</p><p><strong>Race Day Registration:</strong> &nbsp;$25 - Registration an
 d packet pick up will be held from 6:30AM to 7:15AM.</p><p><strong>Age Divi
 sion Awards:</strong> &nbsp;Male and Female: 14 &amp; Under, 15-24, 25-34, 
 35-44, 45-54, 55 &amp; Over.</p><p><strong>Course:</strong> &nbsp;Flats and
  hills, straights and curves, city and back roads, this course has it all. 
 &nbsp;As with all road races, runners must be observant as the course will 
 not be closed to traffic.</p><p><a href="https://actnowracing.com/images/Ev
 ents/Nut_Run/Nut_Run_Registration_Form.pdf" class="wf_file"><span class="wf
 _file_text">Nut_Run_Registration_Form.pdf</span></a></p><p style="text-alig
 n: center;"><strong>ENJOY THE 54TH ANNUAL BLACK WALNUT FESTIVAL AFTER THE R
 UN!!</strong></p><p style="text-align: center;">&nbsp;</p><p>&nbsp;</p> <a 
 href="https://beta.actnowracing.com/events/80/nut-run-10k-5k-and-1-mile-fun
 -run-geo-93-7960434-37-69892883?tmpl=component">This event was imported fro
 m: https://beta.actnowracing.com/events/80/nut-run-10k-5k-and-1-mile-fun-ru
 n-geo-93-7960434-37-69892883?tmpl=component</a>CONTACT:Race Director:  Regina Merrick 417-777-1556
X-EXTRAINFO:Stockton Square at the junctions of Hwy 32 &amp; 39
DTSTAMP:20260423T034423
DTSTART;TZID=America/Chicago:20140927T073000
SEQUENCE:0
TRANSP:OPAQUE
END:VEVENT
END:VCALENDAR