BEGIN:VCALENDAR
VERSION:2.0
PRODID:-//jEvents 2.0 for Joomla//EN
CALSCALE:GREGORIAN
METHOD:PUBLISH
BEGIN:VTIMEZONE
TZID:America/Chicago
BEGIN:STANDARD
DTSTART:20221106T010000
RDATE:20230312T030000
TZOFFSETFROM:-0500
TZOFFSETTO:-0600
TZNAME:America/Chicago CST
END:STANDARD
BEGIN:STANDARD
DTSTART:20231105T010000
RDATE:20240310T030000
TZOFFSETFROM:-0500
TZOFFSETTO:-0600
TZNAME:America/Chicago CST
END:STANDARD
BEGIN:STANDARD
DTSTART:20241103T010000
RDATE:20250309T030000
TZOFFSETFROM:-0500
TZOFFSETTO:-0600
TZNAME:America/Chicago CST
END:STANDARD
BEGIN:STANDARD
DTSTART:20251102T010000
RDATE:20260308T030000
TZOFFSETFROM:-0500
TZOFFSETTO:-0600
TZNAME:America/Chicago CST
END:STANDARD
BEGIN:STANDARD
DTSTART:20261101T010000
RDATE:20270314T030000
TZOFFSETFROM:-0500
TZOFFSETTO:-0600
TZNAME:America/Chicago CST
END:STANDARD
BEGIN:STANDARD
DTSTART:20271107T010000
RDATE:20280312T030000
TZOFFSETFROM:-0500
TZOFFSETTO:-0600
TZNAME:America/Chicago CST
END:STANDARD
BEGIN:STANDARD
DTSTART:20281105T010000
RDATE:20290311T030000
TZOFFSETFROM:-0500
TZOFFSETTO:-0600
TZNAME:America/Chicago CST
END:STANDARD
BEGIN:DAYLIGHT
DTSTART:20220324T080000
RDATE:20221106T010000
TZOFFSETFROM:-0600
TZOFFSETTO:-0500
TZNAME:America/Chicago CDT
END:DAYLIGHT
BEGIN:DAYLIGHT
DTSTART:20230312T030000
RDATE:20231105T010000
TZOFFSETFROM:-0600
TZOFFSETTO:-0500
TZNAME:America/Chicago CDT
END:DAYLIGHT
BEGIN:DAYLIGHT
DTSTART:20240310T030000
RDATE:20241103T010000
TZOFFSETFROM:-0600
TZOFFSETTO:-0500
TZNAME:America/Chicago CDT
END:DAYLIGHT
BEGIN:DAYLIGHT
DTSTART:20250309T030000
RDATE:20251102T010000
TZOFFSETFROM:-0600
TZOFFSETTO:-0500
TZNAME:America/Chicago CDT
END:DAYLIGHT
BEGIN:DAYLIGHT
DTSTART:20260308T030000
RDATE:20261101T010000
TZOFFSETFROM:-0600
TZOFFSETTO:-0500
TZNAME:America/Chicago CDT
END:DAYLIGHT
BEGIN:DAYLIGHT
DTSTART:20270314T030000
RDATE:20271107T010000
TZOFFSETFROM:-0600
TZOFFSETTO:-0500
TZNAME:America/Chicago CDT
END:DAYLIGHT
BEGIN:DAYLIGHT
DTSTART:20280312T030000
RDATE:20281105T010000
TZOFFSETFROM:-0600
TZOFFSETTO:-0500
TZNAME:America/Chicago CDT
END:DAYLIGHT
END:VTIMEZONE
BEGIN:VEVENT
UID:250ce5e3c3d08ff61d37d3ddd5f85771
CATEGORIES:5K
CREATED:20230120T105039
SUMMARY:18th Annual Running of the Squirrels
GEO:-93.63919067;36.99893951
LOCATION:Marionville Elementary School - 200 O'Dell\, Marionville\, MO\, \, 
URL;VALUE=URI:https://beta.actnowracing.com/events/830/18th-annual-running-of-the-squirre
 ls-geo-93-63919067-36-99893951?tmpl=component
DESCRIPTION:Come celebrate with the band on March 25th, as we run through historic Mari
 onville, home of the white squirrel, for the 18th annual Running of the Squ
 irrels 5K. The course is flat and easy to navigate, perfect for all ages an
 d abilities. We will have live music and refreshments.  Cash awards will be
  given for Overall Male and Overall Female winners in addition to medals fo
 r the top three male and female finishers in each age category. All proceed
 s raised from our 5K will benefit the Marionville Comet Pride Marching Band
 . Thank you for your support!\nThis year our theme is "Spring into Action".
    Come dressed as your favorite comic or super hero costume to win a speci
 al award.\n This event was imported from: https://beta.actnowracing.com/eve
 nts/830/18th-annual-running-of-the-squirrels-geo-93-63919067-36-99893951?tm
 pl=component
X-ALT-DESC;FMTTYPE=text/html:<p>Come celebrate with the band on March 25th, as we run through historic M
 arionville, home of the white squirrel, for the 18th annual Running of the 
 Squirrels 5K. The course is flat and easy to navigate, perfect for all ages
  and abilities. We will have live music and refreshments.  Cash awards will
  be given for Overall Male and Overall Female winners in addition to medals
  for the top three male and female finishers in each age category. All proc
 eeds raised from our 5K will benefit the Marionville Comet Pride Marching B
 and. Thank you for your support!</p><p style="text-align: center;"><strong>
 This year our theme is "Spring into Action".   Come dressed as your favorit
 e comic or super hero costume to win a special award.</strong></p> <a href=
 "https://beta.actnowracing.com/events/830/18th-annual-running-of-the-squirr
 els-geo-93-63919067-36-99893951?tmpl=component">This event was imported fro
 m: https://beta.actnowracing.com/events/830/18th-annual-running-of-the-squi
 rrels-geo-93-63919067-36-99893951?tmpl=component</a>DTSTAMP:20260423T181857
DTSTART;TZID=America/Chicago:20230325T080000
SEQUENCE:0
TRANSP:OPAQUE
END:VEVENT
END:VCALENDAR