BEGIN:VCALENDAR
VERSION:2.0
PRODID:-//jEvents 2.0 for Joomla//EN
CALSCALE:GREGORIAN
METHOD:PUBLISH
BEGIN:VTIMEZONE
TZID:America/Chicago
BEGIN:STANDARD
DTSTART:20221106T010000
RDATE:20230312T030000
TZOFFSETFROM:-0500
TZOFFSETTO:-0600
TZNAME:America/Chicago CST
END:STANDARD
BEGIN:STANDARD
DTSTART:20231105T010000
RDATE:20240310T030000
TZOFFSETFROM:-0500
TZOFFSETTO:-0600
TZNAME:America/Chicago CST
END:STANDARD
BEGIN:STANDARD
DTSTART:20241103T010000
RDATE:20250309T030000
TZOFFSETFROM:-0500
TZOFFSETTO:-0600
TZNAME:America/Chicago CST
END:STANDARD
BEGIN:STANDARD
DTSTART:20251102T010000
RDATE:20260308T030000
TZOFFSETFROM:-0500
TZOFFSETTO:-0600
TZNAME:America/Chicago CST
END:STANDARD
BEGIN:STANDARD
DTSTART:20261101T010000
RDATE:20270314T030000
TZOFFSETFROM:-0500
TZOFFSETTO:-0600
TZNAME:America/Chicago CST
END:STANDARD
BEGIN:STANDARD
DTSTART:20271107T010000
RDATE:20280312T030000
TZOFFSETFROM:-0500
TZOFFSETTO:-0600
TZNAME:America/Chicago CST
END:STANDARD
BEGIN:STANDARD
DTSTART:20281105T010000
RDATE:20290311T030000
TZOFFSETFROM:-0500
TZOFFSETTO:-0600
TZNAME:America/Chicago CST
END:STANDARD
BEGIN:DAYLIGHT
DTSTART:20220929T090000
RDATE:20221106T010000
TZOFFSETFROM:-0600
TZOFFSETTO:-0500
TZNAME:America/Chicago CDT
END:DAYLIGHT
BEGIN:DAYLIGHT
DTSTART:20230312T030000
RDATE:20231105T010000
TZOFFSETFROM:-0600
TZOFFSETTO:-0500
TZNAME:America/Chicago CDT
END:DAYLIGHT
BEGIN:DAYLIGHT
DTSTART:20240310T030000
RDATE:20241103T010000
TZOFFSETFROM:-0600
TZOFFSETTO:-0500
TZNAME:America/Chicago CDT
END:DAYLIGHT
BEGIN:DAYLIGHT
DTSTART:20250309T030000
RDATE:20251102T010000
TZOFFSETFROM:-0600
TZOFFSETTO:-0500
TZNAME:America/Chicago CDT
END:DAYLIGHT
BEGIN:DAYLIGHT
DTSTART:20260308T030000
RDATE:20261101T010000
TZOFFSETFROM:-0600
TZOFFSETTO:-0500
TZNAME:America/Chicago CDT
END:DAYLIGHT
BEGIN:DAYLIGHT
DTSTART:20270314T030000
RDATE:20271107T010000
TZOFFSETFROM:-0600
TZOFFSETTO:-0500
TZNAME:America/Chicago CDT
END:DAYLIGHT
BEGIN:DAYLIGHT
DTSTART:20280312T030000
RDATE:20281105T010000
TZOFFSETFROM:-0600
TZOFFSETTO:-0500
TZNAME:America/Chicago CDT
END:DAYLIGHT
END:VTIMEZONE
BEGIN:VEVENT
UID:999055ee179a87f634e7132e65f04306
CATEGORIES:5K, 1 Mile
CREATED:20230125T091213
SUMMARY:Mercy Aurora and Cassville Run to Care
GEO:-93.71004486;36.96978378
LOCATION:Mercy Aurora Clinic - 550 South Hudson\, Aurora\, MO\, \, 
URL;VALUE=URI:https://beta.actnowracing.com/events/837/mercy-aurora-and-cassville-run-to-
 care-geo-93-71004486-36-96978378?tmpl=component
DESCRIPTION:We are gearing up for our 6th Annual Run to Care and cannot be more excited
  about this year’s event!!!!! ACT NOW Racing will be back this year and wil
 l be running the show at the start/finish line. The timing will be done via
  chip on your runners bib but you are still welcome to walk if you would pr
 efer and you can still bring your dogs on a leash.\nRace proceeds will bene
 fit the Mercy Aurora &amp; Cassville Mission fund, a fund that supports pat
 ient needs such as prescriptions, transportation, food, clothes, diapers, e
 tc.\n This event was imported from: https://beta.actnowracing.com/events/83
 7/mercy-aurora-and-cassville-run-to-care-geo-93-71004486-36-96978378?tmpl=c
 omponent
X-ALT-DESC;FMTTYPE=text/html:<p>We are gearing up for our 6th Annual Run to Care and cannot be more exci
 ted about this year’s event!!!!! ACT NOW Racing will be back this year and 
 will be running the show at the start/finish line. The timing will be done 
 via chip on your runners bib but you are still welcome to walk if you would
  prefer and you can still bring your dogs on a leash.</p><p>Race proceeds w
 ill benefit the Mercy Aurora &amp; Cassville Mission fund, a fund that supp
 orts patient needs such as prescriptions, transportation, food, clothes, di
 apers, etc.</p> <a href="https://beta.actnowracing.com/events/837/mercy-aur
 ora-and-cassville-run-to-care-geo-93-71004486-36-96978378?tmpl=component">T
 his event was imported from: https://beta.actnowracing.com/events/837/mercy
 -aurora-and-cassville-run-to-care-geo-93-71004486-36-96978378?tmpl=componen
 t</a>CONTACT:Martha Youngblood at RegularLabs.EmailProtector.unCloak("ep_272b0e39");
DTSTAMP:20260424T203145
DTSTART;TZID=America/Chicago:20230930T090000
SEQUENCE:0
TRANSP:OPAQUE
END:VEVENT
END:VCALENDAR