BEGIN:VCALENDAR
VERSION:2.0
PRODID:-//jEvents 2.0 for Joomla//EN
CALSCALE:GREGORIAN
METHOD:PUBLISH
BEGIN:VTIMEZONE
TZID:America/Chicago
BEGIN:STANDARD
DTSTART:20221106T010000
RDATE:20230312T030000
TZOFFSETFROM:-0500
TZOFFSETTO:-0600
TZNAME:America/Chicago CST
END:STANDARD
BEGIN:STANDARD
DTSTART:20231105T010000
RDATE:20240310T030000
TZOFFSETFROM:-0500
TZOFFSETTO:-0600
TZNAME:America/Chicago CST
END:STANDARD
BEGIN:STANDARD
DTSTART:20241103T010000
RDATE:20250309T030000
TZOFFSETFROM:-0500
TZOFFSETTO:-0600
TZNAME:America/Chicago CST
END:STANDARD
BEGIN:STANDARD
DTSTART:20251102T010000
RDATE:20260308T030000
TZOFFSETFROM:-0500
TZOFFSETTO:-0600
TZNAME:America/Chicago CST
END:STANDARD
BEGIN:STANDARD
DTSTART:20261101T010000
RDATE:20270314T030000
TZOFFSETFROM:-0500
TZOFFSETTO:-0600
TZNAME:America/Chicago CST
END:STANDARD
BEGIN:STANDARD
DTSTART:20271107T010000
RDATE:20280312T030000
TZOFFSETFROM:-0500
TZOFFSETTO:-0600
TZNAME:America/Chicago CST
END:STANDARD
BEGIN:STANDARD
DTSTART:20281105T010000
RDATE:20290311T030000
TZOFFSETFROM:-0500
TZOFFSETTO:-0600
TZNAME:America/Chicago CST
END:STANDARD
BEGIN:DAYLIGHT
DTSTART:20220602T080000
RDATE:20221106T010000
TZOFFSETFROM:-0600
TZOFFSETTO:-0500
TZNAME:America/Chicago CDT
END:DAYLIGHT
BEGIN:DAYLIGHT
DTSTART:20230312T030000
RDATE:20231105T010000
TZOFFSETFROM:-0600
TZOFFSETTO:-0500
TZNAME:America/Chicago CDT
END:DAYLIGHT
BEGIN:DAYLIGHT
DTSTART:20240310T030000
RDATE:20241103T010000
TZOFFSETFROM:-0600
TZOFFSETTO:-0500
TZNAME:America/Chicago CDT
END:DAYLIGHT
BEGIN:DAYLIGHT
DTSTART:20250309T030000
RDATE:20251102T010000
TZOFFSETFROM:-0600
TZOFFSETTO:-0500
TZNAME:America/Chicago CDT
END:DAYLIGHT
BEGIN:DAYLIGHT
DTSTART:20260308T030000
RDATE:20261101T010000
TZOFFSETFROM:-0600
TZOFFSETTO:-0500
TZNAME:America/Chicago CDT
END:DAYLIGHT
BEGIN:DAYLIGHT
DTSTART:20270314T030000
RDATE:20271107T010000
TZOFFSETFROM:-0600
TZOFFSETTO:-0500
TZNAME:America/Chicago CDT
END:DAYLIGHT
BEGIN:DAYLIGHT
DTSTART:20280312T030000
RDATE:20281105T010000
TZOFFSETFROM:-0600
TZOFFSETTO:-0500
TZNAME:America/Chicago CDT
END:DAYLIGHT
END:VTIMEZONE
BEGIN:VEVENT
UID:3b0363c8295806aa4064bb8da16b6b8c
CATEGORIES:5K, 10K, 1 Mile
CREATED:20230202T062025
SUMMARY:2023 Priebe Strong Run - CANCELED
GEO:-93.46463013;37.11154938
LOCATION:Republic Rec and Aquatic Center - 711 E. Miller Road\, Republic\, MO\, 6573
 8\, 
URL;VALUE=URI:https://beta.actnowracing.com/events/841/2023-priebe-strong-run-canceled-ge
 o-93-46463013-37-11154938?tmpl=component
DESCRIPTION:Priebe Strong Foundation Supporters, \nIt is with deep regret that we must 
 inform you that the 2023 Priebe Strong Run has been canceled due to circums
 tances beyond our control. As you can imagine, this was a tough decision fo
 r Mark and Heather. They wish to share their apologies to those who have si
 gned up to participate and support the Priebe Strong Foundation and the fir
 st responders of Southwest Missouri.  Thank you to those who registered for
  the run and those of you who submitted sponsorship and donations.  Plannin
 g has started for future fundraisers to continue our mission of helping fir
 st responders injured in the line of duty in Southwest Missouri.  Sincerely
 ,  Priebe Strong Foundation Mark and Heather Priebe  This event was importe
 d from: https://beta.actnowracing.com/events/841/2023-priebe-strong-run-can
 celed-geo-93-46463013-37-11154938?tmpl=component
X-ALT-DESC;FMTTYPE=text/html:<p><i>Priebe Strong Foundation Supporters,&nbsp;</i></p><div><i>It is with 
 deep regret that we must inform you that the 2023 Priebe Strong Run has bee
 n canceled due to circumstances beyond our control. As you can imagine, thi
 s was a tough decision for Mark and Heather. They wish to share their apolo
 gies to those who have signed up to participate and support the Priebe Stro
 ng Foundation and the first responders of Southwest Missouri.&nbsp;</i></di
 v><div><i>&nbsp;</i></div><div><i>Thank you to those who registered for the
  run and those of you who submitted sponsorship and donations.&nbsp;</i></d
 iv><div>&nbsp;</div><div><div><i>Planning has started for future fundraiser
 s to continue our mission of helping first responders injured in the line o
 f duty in Southwest Missouri.&nbsp;</i></div><div><i>&nbsp;</i></div><div><
 i>Sincerely,&nbsp;</i></div><div><i>&nbsp;</i></div><div><i>Priebe Strong F
 oundation&nbsp;</i></div><div><i>Mark and Heather Priebe&nbsp;</i></div></d
 iv> <a href="https://beta.actnowracing.com/events/841/2023-priebe-strong-ru
 n-canceled-geo-93-46463013-37-11154938?tmpl=component">This event was impor
 ted from: https://beta.actnowracing.com/events/841/2023-priebe-strong-run-c
 anceled-geo-93-46463013-37-11154938?tmpl=component</a>DTSTAMP:20260422T185556
DTSTART;TZID=America/Chicago:20230603T080000
SEQUENCE:0
TRANSP:OPAQUE
END:VEVENT
END:VCALENDAR