BEGIN:VCALENDAR
VERSION:2.0
PRODID:-//jEvents 2.0 for Joomla//EN
CALSCALE:GREGORIAN
METHOD:PUBLISH
BEGIN:VTIMEZONE
TZID:America/Chicago
BEGIN:STANDARD
DTSTART:20221106T010000
RDATE:20230312T030000
TZOFFSETFROM:-0500
TZOFFSETTO:-0600
TZNAME:America/Chicago CST
END:STANDARD
BEGIN:STANDARD
DTSTART:20231105T010000
RDATE:20240310T030000
TZOFFSETFROM:-0500
TZOFFSETTO:-0600
TZNAME:America/Chicago CST
END:STANDARD
BEGIN:STANDARD
DTSTART:20241103T010000
RDATE:20250309T030000
TZOFFSETFROM:-0500
TZOFFSETTO:-0600
TZNAME:America/Chicago CST
END:STANDARD
BEGIN:STANDARD
DTSTART:20251102T010000
RDATE:20260308T030000
TZOFFSETFROM:-0500
TZOFFSETTO:-0600
TZNAME:America/Chicago CST
END:STANDARD
BEGIN:STANDARD
DTSTART:20261101T010000
RDATE:20270314T030000
TZOFFSETFROM:-0500
TZOFFSETTO:-0600
TZNAME:America/Chicago CST
END:STANDARD
BEGIN:STANDARD
DTSTART:20271107T010000
RDATE:20280312T030000
TZOFFSETFROM:-0500
TZOFFSETTO:-0600
TZNAME:America/Chicago CST
END:STANDARD
BEGIN:STANDARD
DTSTART:20281105T010000
RDATE:20290311T030000
TZOFFSETFROM:-0500
TZOFFSETTO:-0600
TZNAME:America/Chicago CST
END:STANDARD
BEGIN:DAYLIGHT
DTSTART:20220714T090000
RDATE:20221106T010000
TZOFFSETFROM:-0600
TZOFFSETTO:-0500
TZNAME:America/Chicago CDT
END:DAYLIGHT
BEGIN:DAYLIGHT
DTSTART:20230312T030000
RDATE:20231105T010000
TZOFFSETFROM:-0600
TZOFFSETTO:-0500
TZNAME:America/Chicago CDT
END:DAYLIGHT
BEGIN:DAYLIGHT
DTSTART:20240310T030000
RDATE:20241103T010000
TZOFFSETFROM:-0600
TZOFFSETTO:-0500
TZNAME:America/Chicago CDT
END:DAYLIGHT
BEGIN:DAYLIGHT
DTSTART:20250309T030000
RDATE:20251102T010000
TZOFFSETFROM:-0600
TZOFFSETTO:-0500
TZNAME:America/Chicago CDT
END:DAYLIGHT
BEGIN:DAYLIGHT
DTSTART:20260308T030000
RDATE:20261101T010000
TZOFFSETFROM:-0600
TZOFFSETTO:-0500
TZNAME:America/Chicago CDT
END:DAYLIGHT
BEGIN:DAYLIGHT
DTSTART:20270314T030000
RDATE:20271107T010000
TZOFFSETFROM:-0600
TZOFFSETTO:-0500
TZNAME:America/Chicago CDT
END:DAYLIGHT
BEGIN:DAYLIGHT
DTSTART:20280312T030000
RDATE:20281105T010000
TZOFFSETFROM:-0600
TZOFFSETTO:-0500
TZNAME:America/Chicago CDT
END:DAYLIGHT
END:VTIMEZONE
BEGIN:VEVENT
UID:369a9bbeb600e41ab6bebff0860dbe38
CATEGORIES:5K
CREATED:20230219T063753
SUMMARY:Run for Hope Family 5K
GEO:-93.28225708;37.05246353
LOCATION: McCauley Park - 701 North Taylor Way\, Nixa\, MO\, 65714\, 
URL;VALUE=URI:https://beta.actnowracing.com/events/851/run-for-hope-family-5k-geo-93-2822
 5708-37-05246353?tmpl=component
DESCRIPTION:<h3 style="text-align: center;"><strong><em>The 2023 Ozarks Teen Challenge 
 Run for Hope Family 5K!<br></em></strong><strong><em>Saturday, July 15<sup>
 th</sup> @ 9 AM</em></strong></h3><p style="text-align: center;"><strong><e
 m> McCauley Park in Nixa (701 N Taylor Way, Nixa, MO)</em></strong></p><p s
 tyle="text-align: center;"><strong><em>We invite you to join the students a
 nd families of Ozarks Teen Challenge in the fight against teen addiction as
  we Run for Hope!   </em></strong></p><p>After many years of hosting this e
 vent at the Branson Landing, we are excited to announce that the 9th annual
  Run for Hope Family 5K will be held on Saturday, July 15, 2023, at McCaule
 y Park in Nixa, Missouri! Additionally, immediately following the 5K and aw
 ards ceremony, we will be kicking off our first annual Festival of the Ozar
 ks with live music, food, vendors, and fun activities for the entire family
 .</p><p>The Run for Hope Family 5K is a powerful event because everyone who
  participates does so with purpose. Attendees run or walk for one of three 
 specific reasons—to support those in recovery, to support loved ones who ar
 e battling addiction, or to honor loved ones lost to addiction. Moreover, a
 ll proceeds from this event will go directly to our Student Scholarship Fun
 d. This fund is crucial to maintaining our ability to assist households of 
 all income levels to enroll their sons—helping put hope within reach of the
  many families calling out for help every month.</p> <a href="https://beta.
 actnowracing.com/events/851/run-for-hope-family-5k-geo-93-28225708-37-05246
 353?tmpl=component">This event was imported from: https://beta.actnowracing
 .com/events/851/run-for-hope-family-5k-geo-93-28225708-37-05246353?tmpl=com
 ponent</a>DTSTAMP:20260424T153213
DTSTART;TZID=America/Chicago:20230715T090000
SEQUENCE:0
TRANSP:OPAQUE
END:VEVENT
END:VCALENDAR