BEGIN:VCALENDAR
VERSION:2.0
PRODID:-//jEvents 2.0 for Joomla//EN
CALSCALE:GREGORIAN
METHOD:PUBLISH
BEGIN:VTIMEZONE
TZID:America/Chicago
BEGIN:STANDARD
DTSTART:20221106T010000
RDATE:20230312T030000
TZOFFSETFROM:-0500
TZOFFSETTO:-0600
TZNAME:America/Chicago CST
END:STANDARD
BEGIN:STANDARD
DTSTART:20231105T010000
RDATE:20240310T030000
TZOFFSETFROM:-0500
TZOFFSETTO:-0600
TZNAME:America/Chicago CST
END:STANDARD
BEGIN:STANDARD
DTSTART:20241103T010000
RDATE:20250309T030000
TZOFFSETFROM:-0500
TZOFFSETTO:-0600
TZNAME:America/Chicago CST
END:STANDARD
BEGIN:STANDARD
DTSTART:20251102T010000
RDATE:20260308T030000
TZOFFSETFROM:-0500
TZOFFSETTO:-0600
TZNAME:America/Chicago CST
END:STANDARD
BEGIN:STANDARD
DTSTART:20261101T010000
RDATE:20270314T030000
TZOFFSETFROM:-0500
TZOFFSETTO:-0600
TZNAME:America/Chicago CST
END:STANDARD
BEGIN:STANDARD
DTSTART:20271107T010000
RDATE:20280312T030000
TZOFFSETFROM:-0500
TZOFFSETTO:-0600
TZNAME:America/Chicago CST
END:STANDARD
BEGIN:STANDARD
DTSTART:20281105T010000
RDATE:20290311T030000
TZOFFSETFROM:-0500
TZOFFSETTO:-0600
TZNAME:America/Chicago CST
END:STANDARD
BEGIN:DAYLIGHT
DTSTART:20220505T100000
RDATE:20221106T010000
TZOFFSETFROM:-0600
TZOFFSETTO:-0500
TZNAME:America/Chicago CDT
END:DAYLIGHT
BEGIN:DAYLIGHT
DTSTART:20230312T030000
RDATE:20231105T010000
TZOFFSETFROM:-0600
TZOFFSETTO:-0500
TZNAME:America/Chicago CDT
END:DAYLIGHT
BEGIN:DAYLIGHT
DTSTART:20240310T030000
RDATE:20241103T010000
TZOFFSETFROM:-0600
TZOFFSETTO:-0500
TZNAME:America/Chicago CDT
END:DAYLIGHT
BEGIN:DAYLIGHT
DTSTART:20250309T030000
RDATE:20251102T010000
TZOFFSETFROM:-0600
TZOFFSETTO:-0500
TZNAME:America/Chicago CDT
END:DAYLIGHT
BEGIN:DAYLIGHT
DTSTART:20260308T030000
RDATE:20261101T010000
TZOFFSETFROM:-0600
TZOFFSETTO:-0500
TZNAME:America/Chicago CDT
END:DAYLIGHT
BEGIN:DAYLIGHT
DTSTART:20270314T030000
RDATE:20271107T010000
TZOFFSETFROM:-0600
TZOFFSETTO:-0500
TZNAME:America/Chicago CDT
END:DAYLIGHT
BEGIN:DAYLIGHT
DTSTART:20280312T030000
RDATE:20281105T010000
TZOFFSETFROM:-0600
TZOFFSETTO:-0500
TZNAME:America/Chicago CDT
END:DAYLIGHT
END:VTIMEZONE
BEGIN:VEVENT
UID:a79968d3d399a08ffb69af77b628e783
CATEGORIES:5K
CREATED:20230221T123738
SUMMARY:Joggin' for Noggins 5K
GEO:-93.23764801;37.13951492
LOCATION:Great Escape Beer Works - 4022 S. Lone Pine Avenue\, Springfield\, MO\, 658
 07\, 
URL;VALUE=URI:https://beta.actnowracing.com/events/853/joggin-for-noggins-5k-geo-93-23764
 801-37-13951492?tmpl=component
DESCRIPTION:With the month of May being dedicated to Brain Tumor Awareness, it is time 
 to get Joggin' for your Noggin! This is our 4th annual Joggin' for Noggins 
 5k and we can't wait to grow our numbers with you this year! Race day morni
 ng, we will have a live Zumba performance during packet pick up at 9:30am, 
 live DJ and a complementary coffee bar. Post race, meet us back at Great Es
 cape Beer Works for our LIVE silent auction, live band and a food truck. Te
 am A.N.A.417's signature beer "Imbalanced Wit" will be on tap at Great Esca
 pe and a portion of the beer proceeds raised that day will be donated back 
 to this amazing organization!\nSTAY TUNED FOR MORE DETAILS!!\n This event w
 as imported from: https://beta.actnowracing.com/events/853/joggin-for-noggi
 ns-5k-geo-93-23764801-37-13951492?tmpl=component
X-ALT-DESC;FMTTYPE=text/html:<p style="text-align: center;">With the month of May being dedicated to Bra
 in Tumor Awareness, it is time to get Joggin' for your Noggin! This is our 
 4th annual Joggin' for Noggins 5k and we can't wait to grow our numbers wit
 h you this year! Race day morning, we will have a live Zumba performance du
 ring packet pick up at 9:30am, live DJ and a complementary coffee bar. Post
  race, meet us back at Great Escape Beer Works for our LIVE silent auction,
  live band and a food truck. Team A.N.A.417's signature beer "Imbalanced Wi
 t" will be on tap at Great Escape and a portion of the beer proceeds raised
  that day will be donated back to this amazing organization!</p><p style="t
 ext-align: center;"><strong>STAY TUNED FOR MORE DETAILS!!</strong></p> <a h
 ref="https://beta.actnowracing.com/events/853/joggin-for-noggins-5k-geo-93-
 23764801-37-13951492?tmpl=component">This event was imported from: https://
 beta.actnowracing.com/events/853/joggin-for-noggins-5k-geo-93-23764801-37-1
 3951492?tmpl=component</a>CONTACT:Team ANA 417 at RegularLabs.EmailProtector.unCloak("ep_8e8092dd");
DTSTAMP:20260422T185519
DTSTART;TZID=America/Chicago:20230506T100000
SEQUENCE:0
TRANSP:OPAQUE
END:VEVENT
END:VCALENDAR