BEGIN:VCALENDAR
VERSION:2.0
PRODID:-//jEvents 2.0 for Joomla//EN
CALSCALE:GREGORIAN
METHOD:PUBLISH
BEGIN:VTIMEZONE
TZID:America/Chicago
BEGIN:STANDARD
DTSTART:20221106T010000
RDATE:20230312T030000
TZOFFSETFROM:-0500
TZOFFSETTO:-0600
TZNAME:America/Chicago CST
END:STANDARD
BEGIN:STANDARD
DTSTART:20231105T010000
RDATE:20240310T030000
TZOFFSETFROM:-0500
TZOFFSETTO:-0600
TZNAME:America/Chicago CST
END:STANDARD
BEGIN:STANDARD
DTSTART:20241103T010000
RDATE:20250309T030000
TZOFFSETFROM:-0500
TZOFFSETTO:-0600
TZNAME:America/Chicago CST
END:STANDARD
BEGIN:STANDARD
DTSTART:20251102T010000
RDATE:20260308T030000
TZOFFSETFROM:-0500
TZOFFSETTO:-0600
TZNAME:America/Chicago CST
END:STANDARD
BEGIN:STANDARD
DTSTART:20261101T010000
RDATE:20270314T030000
TZOFFSETFROM:-0500
TZOFFSETTO:-0600
TZNAME:America/Chicago CST
END:STANDARD
BEGIN:STANDARD
DTSTART:20271107T010000
RDATE:20280312T030000
TZOFFSETFROM:-0500
TZOFFSETTO:-0600
TZNAME:America/Chicago CST
END:STANDARD
BEGIN:STANDARD
DTSTART:20281105T010000
RDATE:20290311T030000
TZOFFSETFROM:-0500
TZOFFSETTO:-0600
TZNAME:America/Chicago CST
END:STANDARD
BEGIN:DAYLIGHT
DTSTART:20220517T183000
RDATE:20221106T010000
TZOFFSETFROM:-0600
TZOFFSETTO:-0500
TZNAME:America/Chicago CDT
END:DAYLIGHT
BEGIN:DAYLIGHT
DTSTART:20230312T030000
RDATE:20231105T010000
TZOFFSETFROM:-0600
TZOFFSETTO:-0500
TZNAME:America/Chicago CDT
END:DAYLIGHT
BEGIN:DAYLIGHT
DTSTART:20240310T030000
RDATE:20241103T010000
TZOFFSETFROM:-0600
TZOFFSETTO:-0500
TZNAME:America/Chicago CDT
END:DAYLIGHT
BEGIN:DAYLIGHT
DTSTART:20250309T030000
RDATE:20251102T010000
TZOFFSETFROM:-0600
TZOFFSETTO:-0500
TZNAME:America/Chicago CDT
END:DAYLIGHT
BEGIN:DAYLIGHT
DTSTART:20260308T030000
RDATE:20261101T010000
TZOFFSETFROM:-0600
TZOFFSETTO:-0500
TZNAME:America/Chicago CDT
END:DAYLIGHT
BEGIN:DAYLIGHT
DTSTART:20270314T030000
RDATE:20271107T010000
TZOFFSETFROM:-0600
TZOFFSETTO:-0500
TZNAME:America/Chicago CDT
END:DAYLIGHT
BEGIN:DAYLIGHT
DTSTART:20280312T030000
RDATE:20281105T010000
TZOFFSETFROM:-0600
TZOFFSETTO:-0500
TZNAME:America/Chicago CDT
END:DAYLIGHT
END:VTIMEZONE
BEGIN:VEVENT
UID:cd71ce27c0febaa571857c1957708538
CATEGORIES:5K, 1 Mile
CREATED:20230227T151341
SUMMARY:Run and Remember 5K & 1 Mile
GEO:-93.28443146;37.2105484
LOCATION:Jordan Valley Park - 635 E. Traffic Way\, Springfield\, MO\, \, 
URL;VALUE=URI:https://beta.actnowracing.com/events/854/run-and-remember-5k-1-mile-geo-93-
 28443146-37-2105484?tmpl=component
DESCRIPTION:<p style="text-align: center;">ONLINE REGISTRATION WILL BE CLOSING MONDAY, 
 MAY 15TH AT 8PM.<br>MEMORIAL SIGN ORDERS DUE BY NOON ON MAY 5th.</p><p styl
 e="text-align: center;">Each year Lost & Found Grief Center hosts a 5K and 
 1 Mile memory walk. Run andRemember is more than a race or walk. Join us fo
 r a stroll in our Memorial Garden, honoring the lives of those we have lost
 , as well as, a Remembrance Program at the end of the evening.</p><p style=
 "text-align: center;"><span id="_mce_caret" data-mce-bogus="1"><span style=
 "text-decoration: underline;">SIGN or SHIRT PURCHASES ONLY</span><br>Can be
  made by clicking the “Registration” tab & then “Event” dropdown</span></p>
 <p style="text-align: center;"><span style="text-decoration: underline;"><s
 trong>ONLINE REGISTRATION CLOSES MONDAY, MAY 15TH AT 8PM.</strong></span></
 p> <a href="https://beta.actnowracing.com/events/854/run-and-remember-5k-1-
 mile-geo-93-28443146-37-2105484?tmpl=component">This event was imported fro
 m: https://beta.actnowracing.com/events/854/run-and-remember-5k-1-mile-geo-
 93-28443146-37-2105484?tmpl=component</a>CONTACT:“Contact RegularLabs.EmailProtector.unCloak("ep_4e360d28"); for more information.
DTSTAMP:20260422T185750
DTSTART;TZID=America/Chicago:20230518T183000
SEQUENCE:0
TRANSP:OPAQUE
END:VEVENT
END:VCALENDAR