BEGIN:VCALENDAR
VERSION:2.0
PRODID:-//jEvents 2.0 for Joomla//EN
CALSCALE:GREGORIAN
METHOD:PUBLISH
BEGIN:VTIMEZONE
TZID:America/Chicago
BEGIN:STANDARD
DTSTART:20221106T010000
RDATE:20230312T030000
TZOFFSETFROM:-0500
TZOFFSETTO:-0600
TZNAME:America/Chicago CST
END:STANDARD
BEGIN:STANDARD
DTSTART:20231105T010000
RDATE:20240310T030000
TZOFFSETFROM:-0500
TZOFFSETTO:-0600
TZNAME:America/Chicago CST
END:STANDARD
BEGIN:STANDARD
DTSTART:20241103T010000
RDATE:20250309T030000
TZOFFSETFROM:-0500
TZOFFSETTO:-0600
TZNAME:America/Chicago CST
END:STANDARD
BEGIN:STANDARD
DTSTART:20251102T010000
RDATE:20260308T030000
TZOFFSETFROM:-0500
TZOFFSETTO:-0600
TZNAME:America/Chicago CST
END:STANDARD
BEGIN:STANDARD
DTSTART:20261101T010000
RDATE:20270314T030000
TZOFFSETFROM:-0500
TZOFFSETTO:-0600
TZNAME:America/Chicago CST
END:STANDARD
BEGIN:STANDARD
DTSTART:20271107T010000
RDATE:20280312T030000
TZOFFSETFROM:-0500
TZOFFSETTO:-0600
TZNAME:America/Chicago CST
END:STANDARD
BEGIN:STANDARD
DTSTART:20281105T010000
RDATE:20290311T030000
TZOFFSETFROM:-0500
TZOFFSETTO:-0600
TZNAME:America/Chicago CST
END:STANDARD
BEGIN:DAYLIGHT
DTSTART:20221027T080000
RDATE:20221106T010000
TZOFFSETFROM:-0600
TZOFFSETTO:-0500
TZNAME:America/Chicago CDT
END:DAYLIGHT
BEGIN:DAYLIGHT
DTSTART:20230312T030000
RDATE:20231105T010000
TZOFFSETFROM:-0600
TZOFFSETTO:-0500
TZNAME:America/Chicago CDT
END:DAYLIGHT
BEGIN:DAYLIGHT
DTSTART:20240310T030000
RDATE:20241103T010000
TZOFFSETFROM:-0600
TZOFFSETTO:-0500
TZNAME:America/Chicago CDT
END:DAYLIGHT
BEGIN:DAYLIGHT
DTSTART:20250309T030000
RDATE:20251102T010000
TZOFFSETFROM:-0600
TZOFFSETTO:-0500
TZNAME:America/Chicago CDT
END:DAYLIGHT
BEGIN:DAYLIGHT
DTSTART:20260308T030000
RDATE:20261101T010000
TZOFFSETFROM:-0600
TZOFFSETTO:-0500
TZNAME:America/Chicago CDT
END:DAYLIGHT
BEGIN:DAYLIGHT
DTSTART:20270314T030000
RDATE:20271107T010000
TZOFFSETFROM:-0600
TZOFFSETTO:-0500
TZNAME:America/Chicago CDT
END:DAYLIGHT
BEGIN:DAYLIGHT
DTSTART:20280312T030000
RDATE:20281105T010000
TZOFFSETFROM:-0600
TZOFFSETTO:-0500
TZNAME:America/Chicago CDT
END:DAYLIGHT
END:VTIMEZONE
BEGIN:VEVENT
UID:9a291c6574496a7929217e9f592e4aa0
CATEGORIES:5K, 1 Mile
CREATED:20230515T112106
SUMMARY:All Saints 5K & 1 Mile Shuffle
GEO:-93.21633911;37.04664612
LOCATION:St. Joseph the Worker Catholic Church - 1796 N. State Hwy NN\, Ozark\, MO\,
  \, 
URL;VALUE=URI:https://beta.actnowracing.com/events/870/all-saints-5k-1-mile-shuffle-geo-9
 3-21633911-37-04664612?tmpl=component
DESCRIPTION:Join us on Saturday, October 28th for the Annual St. Joseph the Worker All 
 Saints 5K &amp; 1 Mile Shuffle.  \nEnjoy a FREE pancake breakfast after the
  run! Our Knight of Columbus will have the pancakes ready for everyone afte
 r we cross the finish line!\n This event was imported from: https://beta.ac
 tnowracing.com/events/870/all-saints-5k-1-mile-shuffle-geo-93-21633911-37-0
 4664612?tmpl=component
X-ALT-DESC;FMTTYPE=text/html:<p>Join us on Saturday, October 28th for the Annual St. Joseph the Worker A
 ll Saints 5K &amp; 1 Mile Shuffle.&nbsp;&nbsp;</p><p>Enjoy a FREE pancake b
 reakfast after the run! Our Knight of Columbus will have the pancakes ready
  for everyone after we cross the finish line!</p> <a href="https://beta.act
 nowracing.com/events/870/all-saints-5k-1-mile-shuffle-geo-93-21633911-37-04
 664612?tmpl=component">This event was imported from: https://beta.actnowrac
 ing.com/events/870/all-saints-5k-1-mile-shuffle-geo-93-21633911-37-04664612
 ?tmpl=component</a>DTSTAMP:20260425T005328
DTSTART;TZID=America/Chicago:20231028T080000
SEQUENCE:0
TRANSP:OPAQUE
END:VEVENT
END:VCALENDAR