BEGIN:VCALENDAR
VERSION:2.0
PRODID:-//jEvents 2.0 for Joomla//EN
CALSCALE:GREGORIAN
METHOD:PUBLISH
BEGIN:VTIMEZONE
TZID:America/Chicago
BEGIN:STANDARD
DTSTART:20221106T010000
RDATE:20230312T030000
TZOFFSETFROM:-0500
TZOFFSETTO:-0600
TZNAME:America/Chicago CST
END:STANDARD
BEGIN:STANDARD
DTSTART:20231105T010000
RDATE:20240310T030000
TZOFFSETFROM:-0500
TZOFFSETTO:-0600
TZNAME:America/Chicago CST
END:STANDARD
BEGIN:STANDARD
DTSTART:20241103T010000
RDATE:20250309T030000
TZOFFSETFROM:-0500
TZOFFSETTO:-0600
TZNAME:America/Chicago CST
END:STANDARD
BEGIN:STANDARD
DTSTART:20251102T010000
RDATE:20260308T030000
TZOFFSETFROM:-0500
TZOFFSETTO:-0600
TZNAME:America/Chicago CST
END:STANDARD
BEGIN:STANDARD
DTSTART:20261101T010000
RDATE:20270314T030000
TZOFFSETFROM:-0500
TZOFFSETTO:-0600
TZNAME:America/Chicago CST
END:STANDARD
BEGIN:STANDARD
DTSTART:20271107T010000
RDATE:20280312T030000
TZOFFSETFROM:-0500
TZOFFSETTO:-0600
TZNAME:America/Chicago CST
END:STANDARD
BEGIN:STANDARD
DTSTART:20281105T010000
RDATE:20290311T030000
TZOFFSETFROM:-0500
TZOFFSETTO:-0600
TZNAME:America/Chicago CST
END:STANDARD
BEGIN:DAYLIGHT
DTSTART:20220818T080000
RDATE:20221106T010000
TZOFFSETFROM:-0600
TZOFFSETTO:-0500
TZNAME:America/Chicago CDT
END:DAYLIGHT
BEGIN:DAYLIGHT
DTSTART:20230312T030000
RDATE:20231105T010000
TZOFFSETFROM:-0600
TZOFFSETTO:-0500
TZNAME:America/Chicago CDT
END:DAYLIGHT
BEGIN:DAYLIGHT
DTSTART:20240310T030000
RDATE:20241103T010000
TZOFFSETFROM:-0600
TZOFFSETTO:-0500
TZNAME:America/Chicago CDT
END:DAYLIGHT
BEGIN:DAYLIGHT
DTSTART:20250309T030000
RDATE:20251102T010000
TZOFFSETFROM:-0600
TZOFFSETTO:-0500
TZNAME:America/Chicago CDT
END:DAYLIGHT
BEGIN:DAYLIGHT
DTSTART:20260308T030000
RDATE:20261101T010000
TZOFFSETFROM:-0600
TZOFFSETTO:-0500
TZNAME:America/Chicago CDT
END:DAYLIGHT
BEGIN:DAYLIGHT
DTSTART:20270314T030000
RDATE:20271107T010000
TZOFFSETFROM:-0600
TZOFFSETTO:-0500
TZNAME:America/Chicago CDT
END:DAYLIGHT
BEGIN:DAYLIGHT
DTSTART:20280312T030000
RDATE:20281105T010000
TZOFFSETFROM:-0600
TZOFFSETTO:-0500
TZNAME:America/Chicago CDT
END:DAYLIGHT
END:VTIMEZONE
BEGIN:VEVENT
UID:229ab43d27a59c3b6371cf34c2ad2ab8
CATEGORIES:5K
CREATED:20230627T111225
SUMMARY:Butterflies & Blueberries 5K Walk/Run
GEO:-93.49233246;36.96750259
LOCATION:Burtons Farm - 445 Silver Lake Road\, Billings\, MO\, \, 
URL;VALUE=URI:https://beta.actnowracing.com/events/892/butterflies-blueberries-5k-walk-ru
 n-geo-93-49233246-36-96750259?tmpl=component
DESCRIPTION:<div dir="ltr">Join us for the first Butterflies & Blueberries a 5k walk/ru
 n Honoring Amaris Eliana Young. Enjoy the challenging, yet beautiful course
  where Amaris spent many summers working for the Burtons during blueberry s
 eason, and making memories planting flowers, practicing driving a standard,
  fall bonfires & hay rides just to name a few! Proceeds will go to Leaders 
 Academy in Hot Springs, Arkansas. </div><div> </div><div dir="ltr">Amaris w
 as all set to start school in the fall with O.T.C.  in their dental hygieni
 st program.  Our youth group attended High Point; a youth church retreat pa
 rtnered with Leaders Academy. It was an amazing week for her. When she came
  home July 2, 2022, those plans for O.T.C. were put on hold, Amaris had bee
 n called to attended Leaders Academy! She was incredibly excited to see wha
 t God had in store for her on this new adventure. On July 16, 2022, a car a
 ccident changed everything, Amaris went to heaven on July 26,2022.  To hono
 r Amaris' memory, her family would like to bless another student on their a
 dventure as they are called to Leaders Academy. The goal is to cover tuitio
 n and cost of living. </div><div dir="ltr"></div><div dir="ltr">This is not
  a timed event. There will be awards for Top 3 Male and Top 3 Female finish
 ers. Awards will be presented after the race!</div> <a href="https://beta.a
 ctnowracing.com/events/892/butterflies-blueberries-5k-walk-run-geo-93-49233
 246-36-96750259?tmpl=component">This event was imported from: https://beta.
 actnowracing.com/events/892/butterflies-blueberries-5k-walk-run-geo-93-4923
 3246-36-96750259?tmpl=component</a>CONTACT:Scott &amp; Samantha Young @RegularLabs.EmailProtector.unCloak("ep_c2ae6a57");
DTSTAMP:20260424T154253
DTSTART;TZID=America/Chicago:20230819T080000
SEQUENCE:0
TRANSP:OPAQUE
END:VEVENT
END:VCALENDAR