BEGIN:VCALENDAR
VERSION:2.0
PRODID:-//jEvents 2.0 for Joomla//EN
CALSCALE:GREGORIAN
METHOD:PUBLISH
BEGIN:VTIMEZONE
TZID:America/Chicago
BEGIN:STANDARD
DTSTART:20221106T010000
RDATE:20230312T030000
TZOFFSETFROM:-0500
TZOFFSETTO:-0600
TZNAME:America/Chicago CST
END:STANDARD
BEGIN:STANDARD
DTSTART:20231105T010000
RDATE:20240310T030000
TZOFFSETFROM:-0500
TZOFFSETTO:-0600
TZNAME:America/Chicago CST
END:STANDARD
BEGIN:STANDARD
DTSTART:20241103T010000
RDATE:20250309T030000
TZOFFSETFROM:-0500
TZOFFSETTO:-0600
TZNAME:America/Chicago CST
END:STANDARD
BEGIN:STANDARD
DTSTART:20251102T010000
RDATE:20260308T030000
TZOFFSETFROM:-0500
TZOFFSETTO:-0600
TZNAME:America/Chicago CST
END:STANDARD
BEGIN:STANDARD
DTSTART:20261101T010000
RDATE:20270314T030000
TZOFFSETFROM:-0500
TZOFFSETTO:-0600
TZNAME:America/Chicago CST
END:STANDARD
BEGIN:STANDARD
DTSTART:20271107T010000
RDATE:20280312T030000
TZOFFSETFROM:-0500
TZOFFSETTO:-0600
TZNAME:America/Chicago CST
END:STANDARD
BEGIN:STANDARD
DTSTART:20281105T010000
RDATE:20290311T030000
TZOFFSETFROM:-0500
TZOFFSETTO:-0600
TZNAME:America/Chicago CST
END:STANDARD
BEGIN:DAYLIGHT
DTSTART:20221027T090000
RDATE:20221106T010000
TZOFFSETFROM:-0600
TZOFFSETTO:-0500
TZNAME:America/Chicago CDT
END:DAYLIGHT
BEGIN:DAYLIGHT
DTSTART:20230312T030000
RDATE:20231105T010000
TZOFFSETFROM:-0600
TZOFFSETTO:-0500
TZNAME:America/Chicago CDT
END:DAYLIGHT
BEGIN:DAYLIGHT
DTSTART:20240310T030000
RDATE:20241103T010000
TZOFFSETFROM:-0600
TZOFFSETTO:-0500
TZNAME:America/Chicago CDT
END:DAYLIGHT
BEGIN:DAYLIGHT
DTSTART:20250309T030000
RDATE:20251102T010000
TZOFFSETFROM:-0600
TZOFFSETTO:-0500
TZNAME:America/Chicago CDT
END:DAYLIGHT
BEGIN:DAYLIGHT
DTSTART:20260308T030000
RDATE:20261101T010000
TZOFFSETFROM:-0600
TZOFFSETTO:-0500
TZNAME:America/Chicago CDT
END:DAYLIGHT
BEGIN:DAYLIGHT
DTSTART:20270314T030000
RDATE:20271107T010000
TZOFFSETFROM:-0600
TZOFFSETTO:-0500
TZNAME:America/Chicago CDT
END:DAYLIGHT
BEGIN:DAYLIGHT
DTSTART:20280312T030000
RDATE:20281105T010000
TZOFFSETFROM:-0600
TZOFFSETTO:-0500
TZNAME:America/Chicago CDT
END:DAYLIGHT
END:VTIMEZONE
BEGIN:VEVENT
UID:7b4c48452f0d855e8f8d7d6be2fe1d1b
CATEGORIES:5K, 10K
CREATED:20230629T193823
SUMMARY:Halloween Hustle
GEO:-93.29061127;37.21806335
LOCATION:City Utilities - 301 E. Central\, Springfield\, MO\, \, 
URL;VALUE=URI:https://beta.actnowracing.com/events/893/halloween-hustle-geo-93-29061127-3
 7-21806335?tmpl=component
DESCRIPTION:The Halloween Hustle is a local race put on by local people with 100% of pr
 oceeds benefiting a local charity—the Harmony House. The race starts and en
 ds at City Utilities, 301 East Central Street. This relatively flat race ro
 ute winds through historic mid-town Springfield. Expect no tricks, but lots
  of treats at the Halloween Hustle—with candy for your little ghosts and go
 blins on every corner. An event for kids of all ages—runners are encouraged
  get in the holiday spirit and wear their Halloween costumes.\nThe Hallowee
 n Hustle benefits Harmony House—Springfield’s only domestic abuse shelter. 
 The Harmony House provides shelter, advocacy, and education to survivors of
  domestic abuse. Every penny raised form the Halloween Hustle will support 
 the Harmony House and the work they do every day. When you take part in the
  Halloween Hustle, you are helping the Harmony House provide a safe, warm p
 lace for a survivor of domestic abuse and their child. When you get involve
 d, you are giving a survivor a chance to escape abuse and giving them acces
 s to resources such as food, clothing, court advocacy, life skills classes 
 and more. When you take part in the Halloween Hustle, your donation stays l
 ocal and you are helping the Harmony House continue to provide much-needed 
 services in our community all while making a huge difference!\n This event 
 was imported from: https://beta.actnowracing.com/events/893/halloween-hustl
 e-geo-93-29061127-37-21806335?tmpl=component
X-ALT-DESC;FMTTYPE=text/html:<p>The Halloween Hustle is a local race put on by local people with 100% of
  proceeds benefiting a local charity—the Harmony House. The race starts and
  ends at City Utilities, 301 East Central Street. This relatively flat race
  route winds through historic mid-town Springfield. Expect no tricks, but l
 ots of treats at the Halloween Hustle—with candy for your little ghosts and
  goblins on every corner. An event for kids of all ages—runners are encoura
 ged get in the holiday spirit and wear their Halloween costumes.</p><p>The 
 Halloween Hustle benefits Harmony House—Springfield’s only domestic abuse s
 helter. The Harmony House provides shelter, advocacy, and education to surv
 ivors of domestic abuse. Every penny raised form the Halloween Hustle will 
 support the Harmony House and the work they do every day. When you take par
 t in the Halloween Hustle, you are helping the Harmony House provide a safe
 , warm place for a survivor of domestic abuse and their child. When you get
  involved, you are giving a survivor a chance to escape abuse and giving th
 em access to resources such as food, clothing, court advocacy, life skills 
 classes and more. When you take part in the Halloween Hustle, your donation
  stays local and you are helping the Harmony House continue to provide much
 -needed services in our community all while making a huge difference!</p> <
 a href="https://beta.actnowracing.com/events/893/halloween-hustle-geo-93-29
 061127-37-21806335?tmpl=component">This event was imported from: https://be
 ta.actnowracing.com/events/893/halloween-hustle-geo-93-29061127-37-21806335
 ?tmpl=component</a>CONTACT:Jamie Presley at RegularLabs.EmailProtector.unCloak("ep_82d53ba8");
DTSTAMP:20260425T010125
DTSTART;TZID=America/Chicago:20231028T090000
SEQUENCE:0
TRANSP:OPAQUE
END:VEVENT
END:VCALENDAR