BEGIN:VCALENDAR
VERSION:2.0
PRODID:-//jEvents 2.0 for Joomla//EN
CALSCALE:GREGORIAN
METHOD:PUBLISH
BEGIN:VTIMEZONE
TZID:America/Chicago
BEGIN:STANDARD
DTSTART:20221106T010000
RDATE:20230312T030000
TZOFFSETFROM:-0500
TZOFFSETTO:-0600
TZNAME:America/Chicago CST
END:STANDARD
BEGIN:STANDARD
DTSTART:20231105T010000
RDATE:20240310T030000
TZOFFSETFROM:-0500
TZOFFSETTO:-0600
TZNAME:America/Chicago CST
END:STANDARD
BEGIN:STANDARD
DTSTART:20241103T010000
RDATE:20250309T030000
TZOFFSETFROM:-0500
TZOFFSETTO:-0600
TZNAME:America/Chicago CST
END:STANDARD
BEGIN:STANDARD
DTSTART:20251102T010000
RDATE:20260308T030000
TZOFFSETFROM:-0500
TZOFFSETTO:-0600
TZNAME:America/Chicago CST
END:STANDARD
BEGIN:STANDARD
DTSTART:20261101T010000
RDATE:20270314T030000
TZOFFSETFROM:-0500
TZOFFSETTO:-0600
TZNAME:America/Chicago CST
END:STANDARD
BEGIN:STANDARD
DTSTART:20271107T010000
RDATE:20280312T030000
TZOFFSETFROM:-0500
TZOFFSETTO:-0600
TZNAME:America/Chicago CST
END:STANDARD
BEGIN:STANDARD
DTSTART:20281105T010000
RDATE:20290311T030000
TZOFFSETFROM:-0500
TZOFFSETTO:-0600
TZNAME:America/Chicago CST
END:STANDARD
BEGIN:DAYLIGHT
DTSTART:20220908T073000
RDATE:20221106T010000
TZOFFSETFROM:-0600
TZOFFSETTO:-0500
TZNAME:America/Chicago CDT
END:DAYLIGHT
BEGIN:DAYLIGHT
DTSTART:20230312T030000
RDATE:20231105T010000
TZOFFSETFROM:-0600
TZOFFSETTO:-0500
TZNAME:America/Chicago CDT
END:DAYLIGHT
BEGIN:DAYLIGHT
DTSTART:20240310T030000
RDATE:20241103T010000
TZOFFSETFROM:-0600
TZOFFSETTO:-0500
TZNAME:America/Chicago CDT
END:DAYLIGHT
BEGIN:DAYLIGHT
DTSTART:20250309T030000
RDATE:20251102T010000
TZOFFSETFROM:-0600
TZOFFSETTO:-0500
TZNAME:America/Chicago CDT
END:DAYLIGHT
BEGIN:DAYLIGHT
DTSTART:20260308T030000
RDATE:20261101T010000
TZOFFSETFROM:-0600
TZOFFSETTO:-0500
TZNAME:America/Chicago CDT
END:DAYLIGHT
BEGIN:DAYLIGHT
DTSTART:20270314T030000
RDATE:20271107T010000
TZOFFSETFROM:-0600
TZOFFSETTO:-0500
TZNAME:America/Chicago CDT
END:DAYLIGHT
BEGIN:DAYLIGHT
DTSTART:20280312T030000
RDATE:20281105T010000
TZOFFSETFROM:-0600
TZOFFSETTO:-0500
TZNAME:America/Chicago CDT
END:DAYLIGHT
END:VTIMEZONE
BEGIN:VEVENT
UID:0d683c6e0a490466fc7b3a1267191bde
CATEGORIES:5K
CREATED:20230722T045659
SUMMARY:19th Annual Seymour Apple Festival 5K
GEO:-92.76686096;37.14669037
LOCATION:Price Cutter Parking Lot - 120 E Market Street\, Seymour\, MO\, 65746\, 
URL;VALUE=URI:https://beta.actnowracing.com/events/897/19th-annual-seymour-apple-festival
 -5k-geo-92-76686096-37-14669037?tmpl=component
DESCRIPTION:Join us Saturday, September 9, 2023 for the 19th Annual Seymour Apple Festi
 val 5K!\nAll proceeds go to the Seymour High School Athletic Department. \n
 Stay after the run and enjoy the 51st Annual Seymour Apple Festival!  Admis
 sion is FREE. The festival is an outside event, with family entertainment d
 aily &amp; bringing in 30,000+ people from surrounding communities. During 
 the festival you can see 100+ craft &amp; various vendors, FREE live entert
 ainment, parade, Johnny Appleseed contest, and so much more.  For more info
 rmation on the apple festival, CLIC HERE. (https://seymourapplefestival.com
 /) \n This event was imported from: https://beta.actnowracing.com/events/89
 7/19th-annual-seymour-apple-festival-5k-geo-92-76686096-37-14669037?tmpl=co
 mponent
X-ALT-DESC;FMTTYPE=text/html:<p>Join us Saturday, September 9, 2023 for the 19th Annual Seymour Apple Fe
 stival 5K!</p><p>All proceeds go to the Seymour High School Athletic Depart
 ment.&nbsp;</p><p>Stay after the run and enjoy the 51st Annual Seymour Appl
 e Festival!&nbsp; Admission is FREE. The festival is an outside event, with
  family entertainment daily &amp; bringing in 30,000+ people from surroundi
 ng communities. During the festival you can see 100+ craft &amp; various ve
 ndors, FREE live entertainment, parade, Johnny Appleseed contest, and so mu
 ch more.&nbsp; For more information on the apple festival, <a href="https:/
 /seymourapplefestival.com/" target="_blank" rel="noopener">CLIC<span>&nbsp;
 </span>HERE.</a>&nbsp;</p> <a href="https://beta.actnowracing.com/events/89
 7/19th-annual-seymour-apple-festival-5k-geo-92-76686096-37-14669037?tmpl=co
 mponent">This event was imported from: https://beta.actnowracing.com/events
 /897/19th-annual-seymour-apple-festival-5k-geo-92-76686096-37-14669037?tmpl
 =component</a>CONTACT:Todd Kleier at RegularLabs.EmailProtector.unCloak("ep_c18c04c8");
DTSTAMP:20260424T152309
DTSTART;TZID=America/Chicago:20230909T073000
SEQUENCE:0
TRANSP:OPAQUE
END:VEVENT
END:VCALENDAR