BEGIN:VCALENDAR
VERSION:2.0
PRODID:-//jEvents 2.0 for Joomla//EN
CALSCALE:GREGORIAN
METHOD:PUBLISH
BEGIN:VTIMEZONE
TZID:America/Chicago
BEGIN:STANDARD
DTSTART:20221106T010000
RDATE:20230312T030000
TZOFFSETFROM:-0500
TZOFFSETTO:-0600
TZNAME:America/Chicago CST
END:STANDARD
BEGIN:STANDARD
DTSTART:20231105T010000
RDATE:20240310T030000
TZOFFSETFROM:-0500
TZOFFSETTO:-0600
TZNAME:America/Chicago CST
END:STANDARD
BEGIN:STANDARD
DTSTART:20241103T010000
RDATE:20250309T030000
TZOFFSETFROM:-0500
TZOFFSETTO:-0600
TZNAME:America/Chicago CST
END:STANDARD
BEGIN:STANDARD
DTSTART:20251102T010000
RDATE:20260308T030000
TZOFFSETFROM:-0500
TZOFFSETTO:-0600
TZNAME:America/Chicago CST
END:STANDARD
BEGIN:STANDARD
DTSTART:20261101T010000
RDATE:20270314T030000
TZOFFSETFROM:-0500
TZOFFSETTO:-0600
TZNAME:America/Chicago CST
END:STANDARD
BEGIN:STANDARD
DTSTART:20271107T010000
RDATE:20280312T030000
TZOFFSETFROM:-0500
TZOFFSETTO:-0600
TZNAME:America/Chicago CST
END:STANDARD
BEGIN:STANDARD
DTSTART:20281105T010000
RDATE:20290311T030000
TZOFFSETFROM:-0500
TZOFFSETTO:-0600
TZNAME:America/Chicago CST
END:STANDARD
BEGIN:DAYLIGHT
DTSTART:20221020T170000
RDATE:20221106T010000
TZOFFSETFROM:-0600
TZOFFSETTO:-0500
TZNAME:America/Chicago CDT
END:DAYLIGHT
BEGIN:DAYLIGHT
DTSTART:20230312T030000
RDATE:20231105T010000
TZOFFSETFROM:-0600
TZOFFSETTO:-0500
TZNAME:America/Chicago CDT
END:DAYLIGHT
BEGIN:DAYLIGHT
DTSTART:20240310T030000
RDATE:20241103T010000
TZOFFSETFROM:-0600
TZOFFSETTO:-0500
TZNAME:America/Chicago CDT
END:DAYLIGHT
BEGIN:DAYLIGHT
DTSTART:20250309T030000
RDATE:20251102T010000
TZOFFSETFROM:-0600
TZOFFSETTO:-0500
TZNAME:America/Chicago CDT
END:DAYLIGHT
BEGIN:DAYLIGHT
DTSTART:20260308T030000
RDATE:20261101T010000
TZOFFSETFROM:-0600
TZOFFSETTO:-0500
TZNAME:America/Chicago CDT
END:DAYLIGHT
BEGIN:DAYLIGHT
DTSTART:20270314T030000
RDATE:20271107T010000
TZOFFSETFROM:-0600
TZOFFSETTO:-0500
TZNAME:America/Chicago CDT
END:DAYLIGHT
BEGIN:DAYLIGHT
DTSTART:20280312T030000
RDATE:20281105T010000
TZOFFSETFROM:-0600
TZOFFSETTO:-0500
TZNAME:America/Chicago CDT
END:DAYLIGHT
END:VTIMEZONE
BEGIN:VEVENT
UID:a95b03797d56264eb766f0e1121db679
CATEGORIES:5K, 1 Mile
CREATED:20230728T053459
SUMMARY:OTC PTA 5K & Fall Festivities Event
GEO:-93.25058746;37.03130341
LOCATION:OTC Richwood Valley Campus - 3369 W Jackson St.\, Nixa\, MO\, \, 65714
URL;VALUE=URI:https://beta.actnowracing.com/events/903/otc-pta-5k-fall-festivities-event-
 geo-93-25058746-37-03130341?tmpl=component
DESCRIPTION:<p>The Physical Therapist Assistant Program presents: PTA 5K & Fall Festivi
 ties Event!  All proceeds benefit the Physical Therapist Assistant Program,
  which helps students by funding endowment scholarships.</p><p style="text-
 align: center;">Fall Festivities presented by OTC Agriculture Program: Fall
  Festivities include Music, Food & a Bonfire!</p> <a href="https://beta.act
 nowracing.com/events/903/otc-pta-5k-fall-festivities-event-geo-93-25058746-
 37-03130341?tmpl=component">This event was imported from: https://beta.actn
 owracing.com/events/903/otc-pta-5k-fall-festivities-event-geo-93-25058746-3
 7-03130341?tmpl=component</a>CONTACT:(417) 447-7873 or e-mail  RegularLabs.EmailProtector.unCloak("ep_d64166db");.
DTSTAMP:20260424T233938
DTSTART;TZID=America/Chicago:20231021T170000
SEQUENCE:0
TRANSP:OPAQUE
END:VEVENT
END:VCALENDAR