BEGIN:VCALENDAR
VERSION:2.0
PRODID:-//jEvents 2.0 for Joomla//EN
CALSCALE:GREGORIAN
METHOD:PUBLISH
BEGIN:VTIMEZONE
TZID:America/Chicago
BEGIN:STANDARD
DTSTART:20221117T090000
RDATE:20230312T030000
TZOFFSETFROM:-0500
TZOFFSETTO:-0600
TZNAME:America/Chicago CST
END:STANDARD
BEGIN:STANDARD
DTSTART:20231105T010000
RDATE:20240310T030000
TZOFFSETFROM:-0500
TZOFFSETTO:-0600
TZNAME:America/Chicago CST
END:STANDARD
BEGIN:STANDARD
DTSTART:20241103T010000
RDATE:20250309T030000
TZOFFSETFROM:-0500
TZOFFSETTO:-0600
TZNAME:America/Chicago CST
END:STANDARD
BEGIN:STANDARD
DTSTART:20251102T010000
RDATE:20260308T030000
TZOFFSETFROM:-0500
TZOFFSETTO:-0600
TZNAME:America/Chicago CST
END:STANDARD
BEGIN:STANDARD
DTSTART:20261101T010000
RDATE:20270314T030000
TZOFFSETFROM:-0500
TZOFFSETTO:-0600
TZNAME:America/Chicago CST
END:STANDARD
BEGIN:STANDARD
DTSTART:20271107T010000
RDATE:20280312T030000
TZOFFSETFROM:-0500
TZOFFSETTO:-0600
TZNAME:America/Chicago CST
END:STANDARD
BEGIN:STANDARD
DTSTART:20281105T010000
RDATE:20290311T030000
TZOFFSETFROM:-0500
TZOFFSETTO:-0600
TZNAME:America/Chicago CST
END:STANDARD
BEGIN:DAYLIGHT
DTSTART:20230312T030000
RDATE:20231105T010000
TZOFFSETFROM:-0600
TZOFFSETTO:-0500
TZNAME:America/Chicago CDT
END:DAYLIGHT
BEGIN:DAYLIGHT
DTSTART:20240310T030000
RDATE:20241103T010000
TZOFFSETFROM:-0600
TZOFFSETTO:-0500
TZNAME:America/Chicago CDT
END:DAYLIGHT
BEGIN:DAYLIGHT
DTSTART:20250309T030000
RDATE:20251102T010000
TZOFFSETFROM:-0600
TZOFFSETTO:-0500
TZNAME:America/Chicago CDT
END:DAYLIGHT
BEGIN:DAYLIGHT
DTSTART:20260308T030000
RDATE:20261101T010000
TZOFFSETFROM:-0600
TZOFFSETTO:-0500
TZNAME:America/Chicago CDT
END:DAYLIGHT
BEGIN:DAYLIGHT
DTSTART:20270314T030000
RDATE:20271107T010000
TZOFFSETFROM:-0600
TZOFFSETTO:-0500
TZNAME:America/Chicago CDT
END:DAYLIGHT
BEGIN:DAYLIGHT
DTSTART:20280312T030000
RDATE:20281105T010000
TZOFFSETFROM:-0600
TZOFFSETTO:-0500
TZNAME:America/Chicago CDT
END:DAYLIGHT
END:VTIMEZONE
BEGIN:VEVENT
UID:27c67ed9f5a70e64a12c4dd4695f28a6
CATEGORIES:5K, Fun Run/Walk
CREATED:20230825T120230
SUMMARY:Gobblin & Hobblin 5K and 3K Fun Run
GEO:-93.43019867;37.61167908
LOCATION:Bolivar Recreation Center - 1710 W Broadway\, Bolivar\, MO\, \, 
URL;VALUE=URI:https://beta.actnowracing.com/events/912/gobblin-hobblin-5k-and-3k-fun-run-
 geo-93-43019867-37-61167908?tmpl=component
DESCRIPTION:Join us for the Annual Gobblin for Hobblin 5K and 3K Fun Run presented by t
 he Bolivar Parks &amp; Recreation.  \n This event was imported from: https:
 //beta.actnowracing.com/events/912/gobblin-hobblin-5k-and-3k-fun-run-geo-93
 -43019867-37-61167908?tmpl=component
X-ALT-DESC;FMTTYPE=text/html:<p>Join us for the Annual Gobblin for Hobblin 5K and 3K Fun Run presented b
 y the Bolivar Parks &amp; Recreation.&nbsp;&nbsp;</p> <a href="https://beta
 .actnowracing.com/events/912/gobblin-hobblin-5k-and-3k-fun-run-geo-93-43019
 867-37-61167908?tmpl=component">This event was imported from: https://beta.
 actnowracing.com/events/912/gobblin-hobblin-5k-and-3k-fun-run-geo-93-430198
 67-37-61167908?tmpl=component</a>DTSTAMP:20260425T021201
DTSTART;TZID=America/Chicago:20231118T090000
SEQUENCE:0
TRANSP:OPAQUE
END:VEVENT
END:VCALENDAR